{"text_format":"1","workbook":"xlsx","n_sheets":6,"sheets":["Indtastning","Seriediagram","Beregninger","Distributionsliste","Skjulte_Indstillinger","Licens"],"not_rendered":{"charts":1,"images":16,"macros":1,"external_links":0,"defined_names":44,"comments":1,"pivot_tables":0},"unopened":[],"bounds":{"document_bytes":16777216,"sheet_cells":100000,"rows_first":2000,"rows_last":500,"rows_between":2000,"halvings":0,"cell_chars":16384,"cell_head_chars":4096},"cells_cut":0,"cells_raw":0,"read":"whole","date_system":"1900"}

{"sheet":"Indtastning","index":0,"n_rows":79,"n_cols":35,"rows_kept":79,"cut":false,"hidden":false,"merged":[[2,0,2,1],[2,2,2,5],[2,6,2,8],[12,6,12,8],[13,6,13,8],[7,6,7,8],[8,6,8,8],[9,6,9,8],[11,6,11,8],[6,2,9,5],[10,0,13,1],[10,2,13,5],[5,0,5,1],[5,2,5,5],[5,6,5,8],[6,0,9,1],[3,0,3,1],[3,2,3,5],[3,6,3,8],[4,0,4,1],[4,2,4,5],[15,26,15,28],[15,29,15,31],[15,32,15,34],[16,1,16,2],[17,6,17,7],[15,3,15,5],[14,32,14,34],[15,6,16,7],[15,8,15,10],[15,11,15,13],[15,14,15,16],[15,17,15,19],[15,20,15,22],[15,23,15,25],[14,14,14,16],[14,17,14,19],[14,20,14,22],[14,23,14,25],[14,26,14,28],[14,29,14,31],[14,3,14,5],[14,8,14,10],[14,11,14,13],[29,6,29,7],[24,6,24,7],[25,6,25,7],[26,6,26,7],[21,6,21,7],[22,6,22,7],[23,6,23,7],[18,6,18,7],[19,6,19,7],[20,6,20,7],[36,6,36,7],[37,6,37,7],[38,6,38,7],[33,6,33,7],[34,6,34,7],[35,6,35,7],[17,1,17,2],[18,1,18,2],[19,1,19,2],[20,1,20,2],[21,1,21,2],[22,1,22,2],[23,1,23,2],[24,1,24,2],[25,1,25,2],[26,1,26,2],[27,1,27,2],[28,1,28,2],[29,1,29,2],[30,6,30,7],[31,6,31,7],[32,6,32,7],[27,6,27,7],[28,6,28,7],[43,6,43,7],[44,6,44,7],[39,6,39,7],[40,6,40,7],[41,6,41,7],[46,1,46,2],[47,1,47,2],[48,1,48,2],[48,6,48,7],[49,6,49,7],[50,6,50,7],[45,6,45,7],[46,6,46,7],[47,6,47,7],[50,1,50,2],[49,1,49,2],[30,1,30,2],[31,1,31,2],[32,1,32,2],[33,1,33,2],[34,1,34,2],[35,1,35,2],[36,1,36,2],[37,1,37,2],[38,1,38,2],[39,1,39,2],[40,1,40,2],[41,1,41,2],[42,1,42,2],[43,1,43,2],[44,1,44,2],[45,1,45,2],[42,6,42,7],[54,1,54,2],[54,6,54,7],[55,1,55,2],[55,6,55,7],[56,1,56,2],[56,6,56,7],[51,1,51,2],[51,6,51,7],[52,1,52,2],[52,6,52,7],[53,1,53,2],[53,6,53,7],[60,1,60,2],[60,6,60,7],[61,1,61,2],[61,6,61,7],[62,1,62,2],[62,6,62,7],[57,1,57,2],[57,6,57,7],[58,1,58,2],[58,6,58,7],[59,1,59,2],[59,6,59,7],[66,1,66,2],[66,6,66,7],[67,1,67,2],[67,6,67,7],[68,1,68,2],[68,6,68,7],[63,1,63,2],[63,6,63,7],[64,1,64,2],[64,6,64,7],[65,1,65,2],[65,6,65,7],[11,9,11,11],[12,9,12,11],[13,9,13,11],[78,1,78,2],[78,6,78,7],[1,0,1,5],[75,1,75,2],[75,6,75,7],[76,1,76,2],[76,6,76,7],[77,1,77,2],[77,6,77,7],[72,1,72,2],[72,6,72,7],[73,1,73,2],[73,6,73,7],[74,1,74,2],[74,6,74,7],[69,1,69,2],[69,6,69,7],[70,1,70,2],[70,6,70,7],[71,1,71,2],[71,6,71,7],[0,12,0,19],[1,6,1,11],[10,6,10,11],[6,6,6,11],[2,9,2,11],[3,9,3,11],[5,9,5,11],[7,9,7,11],[8,9,8,11],[9,9,9,11]]}
["Indstillinger for seriediagram",null,null,null,null,null,null,null,null,null,null,null,"Forhåndsvisning"]
["Grundlæggende oplysninger",null,null,null,null,null,"Talformat"]
["Titel",null,null,null,null,null,"Input",null,null,"Tal (0 decimaler)"]
["Afdeling/Afsnit",null,null,null,null,null,"Output",null,null,"Tal (0 decimaler)"]
["Periode",null,null,null,null,null,"Indstillinger for X-akse"]
["Datakilde",null,null,null,null,null,"Format",null,null,"Tekst"]
["Datadefinition",null,null,null,null,null,"Indstillinger for Y-akse",null,null,null,null,null,null,null,{"$f":"Beregninger!C98","v":0}]
[null,null,null,null,null,null,"Titel",null,null,null,null,null,null,null,{"$f":"Beregninger!C96","v":0}]
[null,null,null,null,null,null,"Max.-værdi"]
[null,null,null,null,null,null,"Min.-værdi",null,null,null,null,null,null,null,{"$f":"Beregninger!C87","v":0}]
["Kommentarer",null,null,null,null,null,"Avancerede indstillinger"]
[null,null,null,null,null,null,"Lås median efter observation"]
[null,null,null,null,null,null,"Foruddefineret median"]
[null,null,null,null,null,null,"Mål"]
["Data",null,null,"Titel proces 1",null,null,null,null,"Titel proces 2",null,null,"Titel proces 3",null,null,"Titel proces 4",null,null,"Titel proces 5",null,null,"Titel proces 6",null,null,"Titel proces 7",null,null,"Titel proces 8",null,null,"Titel proces 9",null,null,"Titel proces 10"]
[null,null,null," (m. statistisk proceskontrol)",null,null,"Evt. kommentar til observation"]
["Nr","Observation",null,"Tæller ","Nævner","Andel",null,null,"Tæller 2","Nævner 2","Andel 2","Tæller 3","Nævner 3","Andel 3","Tæller 4","Nævner 4","Andel 4","Tæller 5","Nævner 5","Andel 5","Tæller 6","Nævner 6","Andel 6","Tæller 7","Nævner 7","Andel 7","Tæller 8","Nævner 8","Andel 8","Tæller 9","Nævner 9","Andel 9","Tæller 10","Nævner 10","Andel 10"]
[1,null,null,null,null,{"$f":"IF(OR(E18=\"\",E18=0),\"\",D18/E18)","v":""},null,null,null,null,{"$f":"IF(OR(J18=\"\",J18=0),\"\",I18/J18)","v":""},null,null,{"$f":"IF(OR(M18=\"\",M18=0),\"\",L18/M18)","v":""},null,null,{"$f":"IF(OR(P18=\"\",P18=0),\"\",O18/P18)","v":""},null,null,{"$f":"IF(OR(S18=\"\",S18=0),\"\",R18/S18)","v":""},null,null,{"$f":"IF(OR(V18=\"\",V18=0),\"\",U18/V18)","v":""},null,null,{"$f":"IF(OR(Y18=\"\",Y18=0),\"\",X18/Y18)","v":""},null,null,{"$f":"IF(OR(AB18=\"\",AB18=0),\"\",AA18/AB18)","v":""},null,null,{"$f":"IF(OR(AE18=\"\",AE18=0),\"\",AD18/AE18)","v":""},null,null,{"$f":"IF(OR(AH18=\"\",AH18=0),\"\",AG18/AH18)","v":""}]
[2,null,null,null,null,{"$f":"IF(OR(E19=\"\",E19=0),\"\",D19/E19)","v":""},null,null,null,null,"",null,null,"",null,null,"",null,null,"",null,null,"",null,null,"",null,null,"",null,null,"",null,null,""]
[3,null,null,null,null,"",null,null,null,null,"",null,null,"",null,null,"",null,null,"",null,null,"",null,null,"",null,null,"",null,null,"",null,null,""]
[4,null,null,null,null,"",null,null,null,null,"",null,null,"",null,null,"",null,null,"",null,null,"",null,null,"",null,null,"",null,null,"",null,null,""]
[5,null,null,null,null,"",null,null,null,null,"",null,null,"",null,null,"",null,null,"",null,null,"",null,null,"",null,null,"",null,null,"",null,null,""]
[6,null,null,null,null,"",null,null,null,null,"",null,null,"",null,null,"",null,null,"",null,null,"",null,null,"",null,null,"",null,null,"",null,null,""]
[7,null,null,null,null,"",null,null,null,null,{"$f":"IF(OR(J24=\"\",J24=0),\"\",I24/J24)","v":""},null,null,{"$f":"IF(OR(M24=\"\",M24=0),\"\",L24/M24)","v":""},null,null,"",null,null,"",null,null,"",null,null,"",null,null,"",null,null,"",null,null,""]
[8,null,null,null,null,"",null,null,null,null,"",null,null,"",null,null,"",null,null,"",null,null,"",null,null,"",null,null,"",null,null,"",null,null,""]
[9,null,null,null,null,"",null,null,null,null,"",null,null,"",null,null,"",null,null,"",null,null,"",null,null,"",null,null,"",null,null,"",null,null,""]
[10,null,null,null,null,"",null,null,null,null,"",null,null,"",null,null,"",null,null,"",null,null,"",null,null,"",null,null,"",null,null,"",null,null,""]
[11,null,null,null,null,"",null,null,null,null,"",null,null,"",null,null,"",null,null,"",null,null,"",null,null,"",null,null,"",null,null,"",null,null,""]
[12,null,null,null,null,"",null,null,null,null,"",null,null,"",null,null,"",null,null,"",null,null,"",null,null,"",null,null,"",null,null,"",null,null,""]
[13,null,null,null,null,"",null,null,null,null,"",null,null,"",null,null,"",null,null,"",null,null,"",null,null,"",null,null,"",null,null,"",null,null,""]
[14,null,null,null,null,"",null,null,null,null,"",null,null,"",null,null,"",null,null,"",null,null,"",null,null,"",null,null,"",null,null,"",null,null,""]
[15,null,null,null,null,"",null,null,null,null,"",null,null,"",null,null,"",null,null,"",null,null,"",null,null,"",null,null,"",null,null,"",null,null,""]
[16,null,null,null,null,"",null,null,null,null,"",null,null,"",null,null,"",null,null,"",null,null,"",null,null,"",null,null,"",null,null,"",null,null,""]
[17,null,null,null,null,"",null,null,null,null,"",null,null,"",null,null,"",null,null,"",null,null,"",null,null,"",null,null,"",null,null,"",null,null,""]
[18,null,null,null,null,"",null,null,null,null,"",null,null,"",null,null,"",null,null,"",null,null,"",null,null,"",null,null,"",null,null,"",null,null,""]
[19,null,null,null,null,"",null,null,null,null,"",null,null,"",null,null,"",null,null,"",null,null,"",null,null,"",null,null,"",null,null,"",null,null,""]
[20,null,null,null,null,"",null,null,null,null,"",null,null,"",null,null,"",null,null,"",null,null,"",null,null,"",null,null,"",null,null,"",null,null,""]
[21,null,null,null,null,"",null,null,null,null,"",null,null,"",null,null,"",null,null,"",null,null,"",null,null,"",null,null,"",null,null,"",null,null,""]
[22,null,null,null,null,"",null,null,null,null,"",null,null,"",null,null,"",null,null,"",null,null,"",null,null,"",null,null,"",null,null,"",null,null,""]
[23,null,null,null,null,"",null,null,null,null,"",null,null,"",null,null,"",null,null,"",null,null,"",null,null,"",null,null,"",null,null,"",null,null,""]
[24,null,null,null,null,"",null,null,null,null,"",null,null,"",null,null,"",null,null,"",null,null,"",null,null,"",null,null,"",null,null,"",null,null,""]
[25,null,null,null,null,"",null,null,null,null,"",null,null,"",null,null,"",null,null,"",null,null,"",null,null,"",null,null,"",null,null,"",null,null,""]
[26,null,null,null,null,"",null,null,null,null,"",null,null,"",null,null,"",null,null,"",null,null,"",null,null,"",null,null,"",null,null,"",null,null,""]
[27,null,null,null,null,"",null,null,null,null,"",null,null,"",null,null,"",null,null,"",null,null,"",null,null,"",null,null,"",null,null,"",null,null,""]
[28,null,null,null,null,"",null,null,null,null,"",null,null,"",null,null,"",null,null,"",null,null,"",null,null,"",null,null,"",null,null,"",null,null,""]
[29,null,null,null,null,"",null,null,null,null,"",null,null,"",null,null,"",null,null,"",null,null,"",null,null,"",null,null,"",null,null,"",null,null,""]
[30,null,null,null,null,"",null,null,null,null,"",null,null,"",null,null,"",null,null,"",null,null,"",null,null,"",null,null,"",null,null,"",null,null,""]
[31,null,null,null,null,"",null,null,null,null,"",null,null,"",null,null,"",null,null,"",null,null,"",null,null,"",null,null,"",null,null,"",null,null,""]
[32,null,null,null,null,"",null,null,null,null,"",null,null,"",null,null,"",null,null,"",null,null,"",null,null,"",null,null,"",null,null,"",null,null,""]
[33,null,null,null,null,"",null,null,null,null,"",null,null,"",null,null,"",null,null,"",null,null,"",null,null,"",null,null,"",null,null,"",null,null,""]
[34,null,null,null,null,"",null,null,null,null,"",null,null,"",null,null,"",null,null,"",null,null,"",null,null,"",null,null,"",null,null,"",null,null,""]
[35,null,null,null,null,"",null,null,null,null,"",null,null,"",null,null,"",null,null,"",null,null,"",null,null,"",null,null,"",null,null,"",null,null,""]
[36,null,null,null,null,"",null,null,null,null,"",null,null,"",null,null,"",null,null,"",null,null,"",null,null,"",null,null,"",null,null,"",null,null,""]
[37,null,null,null,null,"",null,null,null,null,"",null,null,"",null,null,"",null,null,"",null,null,"",null,null,"",null,null,"",null,null,"",null,null,""]
[38,null,null,null,null,"",null,null,null,null,"",null,null,"",null,null,"",null,null,"",null,null,"",null,null,"",null,null,"",null,null,"",null,null,""]
[39,null,null,null,null,"",null,null,null,null,"",null,null,"",null,null,"",null,null,"",null,null,"",null,null,"",null,null,"",null,null,"",null,null,""]
[40,null,null,null,null,"",null,null,null,null,"",null,null,"",null,null,"",null,null,"",null,null,"",null,null,"",null,null,"",null,null,"",null,null,""]
[41,null,null,null,null,"",null,null,null,null,"",null,null,"",null,null,"",null,null,"",null,null,"",null,null,"",null,null,"",null,null,"",null,null,""]
[42,null,null,null,null,"",null,null,null,null,"",null,null,"",null,null,"",null,null,"",null,null,"",null,null,"",null,null,"",null,null,"",null,null,""]
[43,null,null,null,null,"",null,null,null,null,"",null,null,"",null,null,"",null,null,"",null,null,"",null,null,"",null,null,"",null,null,"",null,null,""]
[44,null,null,null,null,"",null,null,null,null,"",null,null,"",null,null,"",null,null,"",null,null,"",null,null,"",null,null,"",null,null,"",null,null,""]
[45,null,null,null,null,"",null,null,null,null,"",null,null,"",null,null,"",null,null,"",null,null,"",null,null,"",null,null,"",null,null,"",null,null,""]
[46,null,null,null,null,"",null,null,null,null,"",null,null,"",null,null,"",null,null,"",null,null,"",null,null,"",null,null,"",null,null,"",null,null,""]
[47,null,null,null,null,"",null,null,null,null,"",null,null,"",null,null,"",null,null,"",null,null,"",null,null,"",null,null,"",null,null,"",null,null,""]
[48,null,null,null,null,"",null,null,null,null,"",null,null,"",null,null,"",null,null,"",null,null,"",null,null,"",null,null,"",null,null,"",null,null,""]
[49,null,null,null,null,"",null,null,null,null,"",null,null,"",null,null,"",null,null,"",null,null,"",null,null,"",null,null,"",null,null,"",null,null,""]
[50,null,null,null,null,"",null,null,null,null,"",null,null,"",null,null,"",null,null,"",null,null,"",null,null,"",null,null,"",null,null,"",null,null,""]
[51,null,null,null,null,"",null,null,null,null,"",null,null,"",null,null,"",null,null,"",null,null,"",null,null,"",null,null,"",null,null,"",null,null,""]
[52,null,null,null,null,"",null,null,null,null,"",null,null,"",null,null,"",null,null,"",null,null,"",null,null,"",null,null,"",null,null,"",null,null,""]
[53,null,null,null,null,"",null,null,null,null,"",null,null,"",null,null,"",null,null,"",null,null,"",null,null,"",null,null,"",null,null,"",null,null,""]
[54,null,null,null,null,"",null,null,null,null,"",null,null,"",null,null,"",null,null,"",null,null,"",null,null,"",null,null,"",null,null,"",null,null,""]
[55,null,null,null,null,"",null,null,null,null,"",null,null,"",null,null,"",null,null,"",null,null,"",null,null,"",null,null,"",null,null,"",null,null,""]
[56,null,null,null,null,"",null,null,null,null,"",null,null,"",null,null,"",null,null,"",null,null,"",null,null,"",null,null,"",null,null,"",null,null,""]
[57,null,null,null,null,"",null,null,null,null,"",null,null,"",null,null,"",null,null,"",null,null,"",null,null,"",null,null,"",null,null,"",null,null,""]
[58,null,null,null,null,"",null,null,null,null,"",null,null,"",null,null,"",null,null,"",null,null,"",null,null,"",null,null,"",null,null,"",null,null,""]
[59,null,null,null,null,"",null,null,null,null,"",null,null,"",null,null,"",null,null,"",null,null,"",null,null,"",null,null,"",null,null,"",null,null,""]
[60,null,null,null,null,"",null,null,null,null,"",null,null,"",null,null,"",null,null,"",null,null,"",null,null,"",null,null,"",null,null,"",null,null,""]
[61,null,null,null,null,"",null,null,null,null,"",null,null,"",null,null,"",null,null,"",null,null,"",null,null,"",null,null,"",null,null,"",null,null,""]
[62,null,null,null,null,"",null,null,null,null,"",null,null,"",null,null,"",null,null,"",null,null,"",null,null,"",null,null,"",null,null,"",null,null,""]

{"sheet":"Seriediagram","index":1,"n_rows":37,"n_cols":20,"rows_kept":37,"cut":false,"hidden":false,"merged":[[33,14,35,15],[36,14,38,15],[32,14,32,15],[1,0,2,20],[0,0,0,20],[33,17,35,17],[36,17,38,17],[33,19,38,19],[31,5,31,7],[31,9,31,11],[31,15,31,20],[4,0,4,19],[5,0,5,19],[33,1,38,1],[33,3,38,3],[32,5,38,7],[32,9,38,11],[33,13,35,13],[36,13,38,13]]}
[{"$f":"IF(Indtastning!C3=\"\",\"\",Indtastning!C3)","v":""}]
[{"$f":"IF(Indtastning!C4=\"\",\"\",Indtastning!C4)","v":""}]
[]
[]
[{"$f":"IF(ingenData=FALSE,Beregninger!C109&\" \"&\nIF(OR(Beregninger!C98=0,Beregninger!C98=1,Beregninger!C98=2),\"  ●   Gns. obs. \"&\nCHOOSE(IF(Beregninger!$C$100>0,1,2),ROUND(_xlfn.AGGREGATE(1,3,dgrTællerEfter),1),ROUND(_xlfn.AGGREGATE(1,3,dgrTællerFør),1))&\n\nIF(CHOOSE(IF(Beregninger!$C$100>0,1,2),ROUND(_xlfn.AGGREGATE(1,3,dgrNævnerEfter),1),ROUND(_xlfn.AGGREGATE(1,3,dgrNævnerFør),1))=1,\"\",\n\"/\"&CHOOSE(IF(Beregninger!$C$100>0,1,2),ROUND(_xlfn.AGGREGATE(1,3,dgrNævnerEfter),1),ROUND(_xlfn.AGGREGATE(1,3,dgrNævnerFør),1)))\n\n\n\n\n&\"; seneste obs. (\"&LOOKUP(2,1/(Beregninger!D6:D67<>\"\"),Beregninger!D6:D67)&\"): \"&ROUND(LOOKUP(2,1/(Beregninger!E6:E67<>\"\"),Beregninger!E6:E67),2)&\nIF(CHOOSE(IF(Beregninger!$C$100>0,1,2),ROUND(_xlfn.AGGREGATE(1,3,dgrNævnerEfter),1),ROUND(_xlfn.AGGREGATE(1,3,dgrNævnerFør),1))=1,\"\",\n\"/\"&ROUND(LOOKUP(2,1/(Beregninger!F6:F67<>\"\"),Beregninger!F6:F67),2)&\".\"),\"\"),\"\")","v":""}]
[{"$f":"IF(ingenData=FALSE,\"Periode: \"&IF(Beregninger!C108=\"\",Beregninger!C113,Beregninger!C108)&IF(Beregninger!C105=1,\"   ●   Foruddefineret median: \"&Beregninger!C102,\"\")&IF(Beregninger!C103=\"\",\"\",\"   ●   Seneste median: \"&Beregninger!C103&\" (\"&VLOOKUP(Beregninger!C100+1,Beregninger!A6:'Beregninger'!D67,4)&\" - \"&LOOKUP(2,1/(Beregninger!D6:D67<>\"\"),Beregninger!D6:D67)&\")\"),\"\")","v":""}]
[null,null,null,null,null,null,null,null,null,null,null,null,null,null,null,null,"Max",{"$f":"Beregninger!C91","v":105}]
[null,null,null,null,null,null,null,null,null,null,null,null,null,null,null,null,"Min",{"$f":"Beregninger!C92","v":""}]
[null,null,null,null,null,null,null,null,null,null,null,null,null,null,null,null,"Inddel",{"$f":"Beregninger!C93","v":""}]
[null,null,null,null,null,null,null,null,null,null,null,null,null,null,null,null,"Format",{"$f":"Beregninger!C96","v":0}]
[null,null,null,null,null,null,null,null,null,null,null,null,null,null,null,null,"Print",{"$f":"IF(ISERROR(Beregninger!#REF!),0,1)","v":0}]
[]
[]
[]
[]
[]
[]
[]
[]
[]
[]
[]
[]
[]
[]
[]
[]
[]
[]
[]
[]
[null,"MÅL",null,"MEDIAN",null,"DATADEFINITION",null,null,null,"KOMMENTARER",null,null,null,null,null,"STATISTISK PROCESKONTROL"]
[null,null,null,null,null,{"$f":"IF(Indtastning!$C$7=\"\",\"\",Indtastning!$C$7)&IF(Indtastning!$C$6=\"\",\"\",\"\nDatakilde: \"&Indtastning!$C$6)","v":""},null,null,null,{"$f":"\nIF(COUNTA(Indtastning!D18:D79)=0,\"\",\n\nIF(Indtastning!$C$11=\"\",\nIFERROR(\nIF(AND(SUM(Beregninger!C117:C118)=0,Indtastning!D18<>\"\",D34<>\"\"),\"Processen kan ikke vurderes statistisk - alle observationer ligger på medianen.\",\n\"Variationen er \"&\n\nIF($T$34=\"Nej\",\"ikke tilfældig: \"&\nIF(R37<O37,\"Der er kun \"&R37&\" kryds af medianen, men der forventes mindst \"&O37&\". \",\"\")&\nIF(R37=O37,\"Der er \"&R37&\" kryds af medianen, og der forventes mindst \"&O37&\". \",\"\")&\nIF(R34>O34,\"Længste dataserie er \"&R34&\" punkter, men maksimalt \"&O34&\" forventes. \",\"\")&\nIF(R34=O34,\"Længste dataserie er \"&R34&\" punkter; maksimalt \"&O34&\" forventes. \",\"\")&\n\"\",\n\n\"tilfældig: \"&\nIF(R37>O37-1,\"Der er \"&R37&\" kryds af medianen; der forventes mindst \"&O37&\". \",\"\")&\nIF(R37=O37,\"Der er \"&R37&\" kryds af medianen, og der forventes mindst \"&O37&\". \",\"\")&\nIF(R34=O34,\"Længste dataserie er \"&R34&\" punkter; maksimalt \"&O34&\" forventes. \",\"\")&\nIF(R34<O34,\"Længste dataserie er \"&R34&\" punkter; der forventes maksimalt \"&O34&\". \",\"\"))\n\n&\"\n\"&IFERROR(IF(VALUE(D34)=VALUE(setLæsMål),\"\",\"Medianen ligger \"&IF(OR(setOutputVærdi=0,setOutputVærdi=1,setOutputVærdi=2),ROUND(ABS((setSenesteMedian-setLæsMål)),1)&\" \",ROUND(ABS((setSenesteMedian-setLæsMål)*100),1)&\" procentpoint \")&IF(VALUE(D34)<VALUE(setLæsMål),\"under\",\"over\")&\" målet.\"),\"\")\n),\"\"),\n\nIndtastning!$C$11))","v":""},null,null,null,null,"FORVENTET",null,null,"FAKTISK",null,"STABIL PROCES?"]
[null,{"$f":"IF(ingenData=FALSE,Beregninger!C104,\"\")","v":""},null,{"$f":"IF(ISERROR(setSenesteMedian),\"\",\nIF(setOutputVærdi=0,TEXT(setSenesteMedian,\"0\"),\nIF(setOutputVærdi=1,TEXT(setSenesteMedian,\"0,0\"),\nIF(setOutputVærdi=2,TEXT(setSenesteMedian,\"0,00\"),\n(IF(AND(setOutputVærdi=5,IFERROR((setLæsMål-setSenesteMedian)<0.02,FALSE()),IFERROR((setLæsMål-setSenesteMedian)>0,FALSE())),TEXT(setSenesteMedian,\"0,0%\"),\nIF(AND(setOutputVærdi=5,setSenesteMedian<0.1),TEXT(setSenesteMedian,\"0,0%\"),\nIF(setOutputVærdi=5,TEXT(setSenesteMedian,\"0%\"),\nIF(setOutputVærdi=6,TEXT(setSenesteMedian,\"0,0%\"),\nTEXT(setSenesteMedian,\"0,00%\"))))))))))","v":""},null,null,null,null,null,null,null,null,null,"SERIE-\nLÆNGDE",{"$f":"IF(\nAND(ingenData=FALSE,CHOOSE(IF(Beregninger!$C$100>0,1,2),Beregninger!C122,Beregninger!C121)=0),\n\"?\",\nIF(ingenData=TRUE,\"\",CHOOSE(IF(Beregninger!$C$100>0,1,2),Beregninger!C122,Beregninger!C121)))","v":""},null,null,{"$f":"IF(\nAND(ingenData=FALSE,CHOOSE(IF(Beregninger!$C$100>0,1,2),Beregninger!C126,Beregninger!C125)=0),\n\"?\",\nIF(ingenData=TRUE,\"\",CHOOSE(IF(Beregninger!$C$100>0,1,2),Beregninger!C126,Beregninger!C125)))","v":""},null,{"$f":"IF(ingenData=TRUE,\"\",IF(AND(ingenData=FALSE,SUM(Beregninger!C123:C126)=0),\"?\",IF(AND((O34>=R34),(O37<=R37)),\"JA\",\"NEJ\")))","v":""}]
[]
[]
[null,null,null,null,null,null,null,null,null,null,null,null,null,"ANTAL\nKRYDS",{"$f":"IF(\nAND(ingenData=FALSE,CHOOSE(IF(Beregninger!$C$100>0,1,2),Beregninger!C120,Beregninger!C117)=0),\n\"?\",\nIF(ingenData=TRUE,\"\",CHOOSE(IF(Beregninger!$C$100>0,1,2),Beregninger!C120,Beregninger!C119)))","v":""},null,null,{"$f":"IF(\nAND(ingenData=FALSE,CHOOSE(IF(Beregninger!$C$100>0,1,2),Beregninger!C124,Beregninger!C123)=0),\n\"?\",\nIF(ingenData=TRUE,\"\",CHOOSE(IF(Beregninger!$C$100>0,1,2),Beregninger!C124,Beregninger!C123)))","v":""}]

{"sheet":"Beregninger","index":2,"n_rows":132,"n_cols":81,"rows_kept":132,"cut":false,"hidden":true,"merged":[[2,4,2,5],[2,6,2,7],[2,59,2,60],[2,8,2,9],[2,10,2,11],[2,12,2,13],[2,14,2,15],[2,16,2,17],[2,18,2,19],[2,20,2,21],[2,22,2,23],[2,24,2,25],[2,26,2,27],[2,28,2,29],[2,30,2,31],[2,32,2,33],[2,34,2,35],[2,36,2,37],[2,38,2,39],[2,40,2,41],[2,42,2,43]]}
[]
[]
["Nr","Obs #","Format","X-akse tekst","Data1",null,"Andel1",null,"Data2",null,"Andel2",null,"Data3",null,"Andel3",null,"Data4",null,"Andel4",null,"Data5",null,"Andel5",null,"Data6",null,"Andel6",null,"Data7",null,"Andel7",null,"Data8",null,"Andel8",null,"Data9",null,"Andel9",null,"Data10",null,"Andel10",null,"Kommentar","Kommentar_værdi",null,"Max data","Min data","Max","Min","Nedre","Øvre","Indikatator for skift","Andel før skift","Andel efter skift","Median1","Median2","Median","Data på\nMedianen",null,"Delta","Fortegn","Ignorer median","Kryds af median","Længde af forløb","Brugbar observation","Længde af forløb (Før skift)","Længde af forløb (Efter skift)","Mål","Måltitel",{"$f":"Indtastning!$D$15","v":"Titel proces 1"},{"$f":"Indtastning!$I$15","v":"Titel proces 2"},{"$f":"Indtastning!L15","v":"Titel proces 3"},{"$f":"Indtastning!O15","v":"Titel proces 4"},{"$f":"Indtastning!R15","v":"Titel proces 5"},{"$f":"Indtastning!U15","v":"Titel proces 6"},{"$f":"Indtastning!X15","v":"Titel proces 7"},{"$f":"Indtastning!AA15","v":"Titel proces 8"},{"$f":"Indtastning!AD15","v":"Titel proces 9"},{"$f":"Indtastning!AG15","v":"Titel proces 10"}]
[null,null,null,null,"Tæller ","Nævner",null,null,"Tæller ","Nævner",null,null,"Tæller ","Nævner",null,null,"Tæller ","Nævner",null,null,"Tæller ","Nævner",null,null,"Tæller ","Nævner",null,null,"Tæller ","Nævner",null,null,"Tæller ","Nævner",null,null,"Tæller ","Nævner",null,null,"Tæller ","Nævner",null,null,null,null,null,null,null,null,null,null,null,null,null,null,null,{"$f":"MEDIAN(BD6:BD65)","v":{"$error":"#NUM!"}},null,null,null,null,null,null,null,null,null,null,null,null,"MÅL"]
[null,null,null,null,null,null,null,null,null,null,null,null,null,null,null,null,null,null,null,null,null,null,null,null,null,null,null,null,null,null,null,null,null,null,null,null,null,null,null,null,null,null,null,null,null,null,null,null,null,null,null,null,null,null,null,null,{"$f":"IF(Indtastning!J13=\"\",IFERROR(MEDIAN(BC6:BC67),NA()),Indtastning!J13)","v":{"$error":"#N/A"}},null,{"$f":"MEDIAN(H6:H65)","v":{"$error":"#NUM!"}},null,null,null,null,null,null,null,null,null,null,{"$f":"VALUE(SUBSTITUTE(IF(Indtastning!J14=\"\",#N/A,Indtastning!J14),\"<\",\"\"))","v":{"$error":"#N/A"}}]
[{"$f":"IF(B6=\"\",\"\",ROW(A1))","v":""},{"$f":"IF(Indtastning!B18=\"\",\"\",Indtastning!B18)","v":""},{"$f":"CELL(\"format\",Indtastning!B18)","v":"G"},{"$f":"IF(LEFT(C6,1)=\"D\",TEXT(B6,\"mmm-åååå\"),TEXT(B6,\"standard\"))","v":""},{"$f":"IF(Indtastning!D18=\"\",\"\",Indtastning!D18)","v":""},{"$f":"IF(Indtastning!E18=\"\",\"\",Indtastning!E18)","v":""},{"$f":"IF(OR(F6=\"\",F6=0),#N/A,E6/F6)","v":{"$error":"#N/A"}},{"$f":"IF(ISNUMBER(G6),G6,\"\")","v":""},{"$f":"IF(Indtastning!I18=\"\",\"\",Indtastning!I18)","v":""},{"$f":"IF(Indtastning!J18=\"\",\"\",Indtastning!J18)","v":""},{"$f":"IF(OR(J6=\"\",J6=0,Skjulte_Indstillinger!$B$2=FALSE()),#N/A,I6/J6)","v":{"$error":"#N/A"}},{"$f":"IF(ISNUMBER(K6),K6,\"\")","v":""},{"$f":"IF(Indtastning!L18=\"\",\"\",Indtastning!L18)","v":""},{"$f":"IF(Indtastning!M18=\"\",\"\",Indtastning!M18)","v":""},{"$f":"IF(OR(N6=\"\",N6=0,Skjulte_Indstillinger!$B$3=FALSE()),#N/A,M6/N6)","v":{"$error":"#N/A"}},{"$f":"IF(ISNUMBER(O6),O6,\"\")","v":""},{"$f":"IF(Indtastning!O18=\"\",\"\",Indtastning!O18)","v":""},{"$f":"IF(Indtastning!P18=\"\",\"\",Indtastning!P18)","v":""},{"$f":"IF(OR(R6=\"\",R6=0,Skjulte_Indstillinger!$B$4=FALSE()),#N/A,Q6/R6)","v":{"$error":"#N/A"}},{"$f":"IF(ISNUMBER(S6),S6,\"\")","v":""},{"$f":"IF(Indtastning!R18=\"\",\"\",Indtastning!R18)","v":""},{"$f":"IF(Indtastning!S18=\"\",\"\",Indtastning!S18)","v":""},{"$f":"IF(OR(V6=\"\",V6=0,Skjulte_Indstillinger!$B$5=FALSE()),#N/A,U6/V6)","v":{"$error":"#N/A"}},{"$f":"IF(ISNUMBER(W6),W6,\"\")","v":""},{"$f":"IF(Indtastning!U18=\"\",\"\",Indtastning!U18)","v":""},{"$f":"IF(Indtastning!V18=\"\",\"\",Indtastning!V18)","v":""},{"$f":"IF(OR(Z6=\"\",Z6=0,Skjulte_Indstillinger!$B$6=FALSE()),#N/A,Y6/Z6)","v":{"$error":"#N/A"}},{"$f":"IF(ISNUMBER(AA6),AA6,\"\")","v":""},{"$f":"IF(Indtastning!X18=\"\",\"\",Indtastning!X18)","v":""},{"$f":"IF(Indtastning!Y18=\"\",\"\",Indtastning!Y18)","v":""},{"$f":"IF(OR(AD6=\"\",AD6=0,Skjulte_Indstillinger!$B$7=FALSE()),#N/A,AC6/AD6)","v":{"$error":"#N/A"}},{"$f":"IF(ISNUMBER(AE6),AE6,\"\")","v":""},{"$f":"IF(Indtastning!AA18=\"\",\"\",Indtastning!AA18)","v":""},{"$f":"IF(Indtastning!AB18=\"\",\"\",Indtastning!AB18)","v":""},{"$f":"IF(OR(AH6=\"\",AH6=0,Skjulte_Indstillinger!$B$8=FALSE()),#N/A,AG6/AH6)","v":{"$error":"#N/A"}},{"$f":"IF(ISNUMBER(AI6),AI6,\"\")","v":""},{"$f":"IF(Indtastning!AD18=\"\",\"\",Indtastning!AD18)","v":""},{"$f":"IF(Indtastning!AE18=\"\",\"\",Indtastning!AE18)","v":""},{"$f":"IF(OR(AL6=\"\",AL6=0,Skjulte_Indstillinger!$B$9=FALSE()),#N/A,AK6/AL6)","v":{"$error":"#N/A"}},{"$f":"IF(ISNUMBER(AM6),AM6,\"\")","v":""},{"$f":"IF(Indtastning!AG18=\"\",\"\",Indtastning!AG18)","v":""},{"$f":"IF(Indtastning!AH18=\"\",\"\",Indtastning!AH18)","v":""},{"$f":"IF(OR(AP6=\"\",AP6=0,Skjulte_Indstillinger!$B$10=FALSE()),#N/A,AO6/AP6)","v":{"$error":"#N/A"}},{"$f":"IF(ISNUMBER(AQ6),AQ6,\"\")","v":""},{"$f":"IF(Indtastning!G18=\"\",#N/A,Indtastning!G18)","v":{"$error":"#N/A"}},{"$f":"IF(AS6=\"\",#N/A,IF(MATCH(MAX(AZ6:BA6),AZ6:BA6)=2,\n(AV6+(BA6/2))*IF(ISEVEN(AU6),(1-(2/10)),(1+(2/10))),\n(AW6-(AZ6/2))*IF(ISEVEN(AU6),(1-(2/10)),(1+(2/10)))\n))","v":{"$error":"#N/A"}},{"$f":"_xlfn.AGGREGATE(3,3,$AS$6:$AS6)","v":0},{"$f":"_xlfn.AGGREGATE(4,3,$G3:$G8)","v":0},{"$f":"_xlfn.AGGREGATE(5,3,$G3:$G8)","v":0},{"$f":"MAX(_xlfn.AGGREGATE(4,3,$G3:$G8),IFERROR($BR$5,0))","v":0},0,{"$f":"AW6-AY6","v":0},{"$f":"AX6-AV6","v":0},{"$f":"IF(OR(A6=$C$101,BB5=1),1,0)","v":0},{"$f":"IF(BB6=0,H6,\"\")","v":""},{"$f":"IF(BB6=1,H6,\"\")","v":""},{"$f":"IF(BB6=0,$BE$5,#N/A)","v":{"$error":"#N/A"}},{"$f":"IF(OR(BB6=1,BB7=1),$BF$4,#N/A)","v":{"$error":"#N/A"}},{"$f":"IF(BB6=0,BE6,BF6)","v":{"$error":"#N/A"}},{"$f":"IF(ISERROR(BG6),#N/A,IF(BG6=G6,G6,NA()))","v":{"$error":"#N/A"}},{"$f":"IF(ISNUMBER(BH6),1,0)","v":0},{"$f":"IF((H6=\"\"),\"\",IF((H6=BG6),\"\",H6-BG6))","v":""},{"$f":"IF(ISERROR(G6),\"\",IF((BJ6=\"\"),0,SIGN(BJ6)))","v":""},{"$f":"IF(BK6=0,BK5,BK6)","v":""},{"$f":"IF(ISERROR(G6),\"\",IF(OR(BL6=BL5,BL5=0),0,1))","v":""},{"$f":"IF(OR(BL6=0,BL6=\"\"),0,IF(AND(BB6=1,BB5=0),1,IF(BL6=BL5,IF(BI6=1,BN5,BN5+1),1)))","v":0},{"$f":"IF(BK6=\"\",0,ABS(BK6))","v":0},{"$f":"IF(BB6=0,BN6,\"\")","v":0},{"$f":"IF(BB6=1,BN6,\"\")","v":""},{"$f":"$BR$5","v":{"$error":"#N/A"}},{"$f":"BR6","v":{"$error":"#N/A"}},{"$f":"IF(AND(H6<>\"\",H7=\"\",OR(Skjulte_Indstillinger!$B$2,Skjulte_Indstillinger!$B$3,Skjulte_Indstillinger!$B$4,Skjulte_Indstillinger!$B$5,Skjulte_Indstillinger!$B$6,Skjulte_Indstillinger!$B$7,Skjulte_Indstillinger!$B$8,Skjulte_Indstillinger!$B$9,Skjulte_Indstillinger!$B$10)),H6,NA())","v":{"$error":"#N/A"}},{"$f":"IF(AND(L6<>\"\",L7=\"\",Skjulte_Indstillinger!$B$2),L6,NA())","v":{"$error":"#N/A"}},{"$f":"IF(AND(P6<>\"\",P7=\"\",Skjulte_Indstillinger!$B$3),P6,NA())","v":{"$error":"#N/A"}},{"$f":"IF(AND(T6<>\"\",T7=\"\",Skjulte_Indstillinger!$B$4),T6,NA())","v":{"$error":"#N/A"}},{"$f":"IF(AND(X6<>\"\",X7=\"\",Skjulte_Indstillinger!$B$5),X6,NA())","v":{"$error":"#N/A"}},{"$f":"IF(AND(AB6<>\"\",AB7=\"\",Skjulte_Indstillinger!$B$6),AB6,NA())","v":{"$error":"#N/A"}},{"$f":"IF(AND(AF6<>\"\",AF7=\"\",Skjulte_Indstillinger!$B$7),AF6,NA())","v":{"$error":"#N/A"}},{"$f":"IF(AND(AJ6<>\"\",AJ7=\"\",Skjulte_Indstillinger!$B$8),AJ6,NA())","v":{"$error":"#N/A"}},{"$f":"IF(AND(AN6<>\"\",AN7=\"\",Skjulte_Indstillinger!$B$9),AN6,NA())","v":{"$error":"#N/A"}},{"$f":"IF(AND(AR6<>\"\",AR7=\"\",Skjulte_Indstillinger!$B$10),AR6,NA())","v":{"$error":"#N/A"}}]
[{"$f":"IF(B7=\"\",\"\",ROW(A2))","v":""},{"$f":"IF(Indtastning!B19=\"\",\"\",Indtastning!B19)","v":""},{"$f":"CELL(\"format\",Indtastning!B19)","v":"G"},{"$f":"IF(LEFT(C7,1)=\"D\",TEXT(B7,\"mmm-åååå\"),TEXT(B7,\"standard\"))","v":""},{"$f":"IF(Indtastning!D19=\"\",\"\",Indtastning!D19)","v":""},{"$f":"IF(Indtastning!E19=\"\",\"\",Indtastning!E19)","v":""},{"$f":"IF(OR(F7=\"\",F7=0),#N/A,E7/F7)","v":{"$error":"#N/A"}},{"$f":"IF(ISNUMBER(G7),G7,\"\")","v":""},{"$f":"IF(Indtastning!I19=\"\",\"\",Indtastning!I19)","v":""},{"$f":"IF(Indtastning!J19=\"\",\"\",Indtastning!J19)","v":""},{"$f":"IF(OR(J7=\"\",J7=0,Skjulte_Indstillinger!$B$2=FALSE()),#N/A,I7/J7)","v":{"$error":"#N/A"}},{"$f":"IF(ISNUMBER(K7),K7,\"\")","v":""},{"$f":"IF(Indtastning!L19=\"\",\"\",Indtastning!L19)","v":""},{"$f":"IF(Indtastning!M19=\"\",\"\",Indtastning!M19)","v":""},{"$f":"IF(OR(N7=\"\",N7=0,Skjulte_Indstillinger!$B$3=FALSE()),#N/A,M7/N7)","v":{"$error":"#N/A"}},{"$f":"IF(ISNUMBER(O7),O7,\"\")","v":""},{"$f":"IF(Indtastning!O19=\"\",\"\",Indtastning!O19)","v":""},{"$f":"IF(Indtastning!P19=\"\",\"\",Indtastning!P19)","v":""},{"$f":"IF(OR(R7=\"\",R7=0,Skjulte_Indstillinger!$B$4=FALSE()),#N/A,Q7/R7)","v":{"$error":"#N/A"}},{"$f":"IF(ISNUMBER(S7),S7,\"\")","v":""},{"$f":"IF(Indtastning!R19=\"\",\"\",Indtastning!R19)","v":""},{"$f":"IF(Indtastning!S19=\"\",\"\",Indtastning!S19)","v":""},{"$f":"IF(OR(V7=\"\",V7=0,Skjulte_Indstillinger!$B$5=FALSE()),#N/A,U7/V7)","v":{"$error":"#N/A"}},{"$f":"IF(ISNUMBER(W7),W7,\"\")","v":""},{"$f":"IF(Indtastning!U19=\"\",\"\",Indtastning!U19)","v":""},{"$f":"IF(Indtastning!V19=\"\",\"\",Indtastning!V19)","v":""},{"$f":"IF(OR(Z7=\"\",Z7=0,Skjulte_Indstillinger!$B$6=FALSE()),#N/A,Y7/Z7)","v":{"$error":"#N/A"}},{"$f":"IF(ISNUMBER(AA7),AA7,\"\")","v":""},{"$f":"IF(Indtastning!X19=\"\",\"\",Indtastning!X19)","v":""},{"$f":"IF(Indtastning!Y19=\"\",\"\",Indtastning!Y19)","v":""},{"$f":"IF(OR(AD7=\"\",AD7=0,Skjulte_Indstillinger!$B$7=FALSE()),#N/A,AC7/AD7)","v":{"$error":"#N/A"}},{"$f":"IF(ISNUMBER(AE7),AE7,\"\")","v":""},{"$f":"IF(Indtastning!AA19=\"\",\"\",Indtastning!AA19)","v":""},{"$f":"IF(Indtastning!AB19=\"\",\"\",Indtastning!AB19)","v":""},{"$f":"IF(OR(AH7=\"\",AH7=0,Skjulte_Indstillinger!$B$8=FALSE()),#N/A,AG7/AH7)","v":{"$error":"#N/A"}},{"$f":"IF(ISNUMBER(AI7),AI7,\"\")","v":""},{"$f":"IF(Indtastning!AD19=\"\",\"\",Indtastning!AD19)","v":""},{"$f":"IF(Indtastning!AE19=\"\",\"\",Indtastning!AE19)","v":""},{"$f":"IF(OR(AL7=\"\",AL7=0,Skjulte_Indstillinger!$B$9=FALSE()),#N/A,AK7/AL7)","v":{"$error":"#N/A"}},{"$f":"IF(ISNUMBER(AM7),AM7,\"\")","v":""},{"$f":"IF(Indtastning!AG19=\"\",\"\",Indtastning!AG19)","v":""},{"$f":"IF(Indtastning!AH19=\"\",\"\",Indtastning!AH19)","v":""},{"$f":"IF(OR(AP7=\"\",AP7=0,Skjulte_Indstillinger!$B$10=FALSE()),#N/A,AO7/AP7)","v":{"$error":"#N/A"}},{"$f":"IF(ISNUMBER(AQ7),AQ7,\"\")","v":""},{"$f":"IF(Indtastning!G19=\"\",#N/A,Indtastning!G19)","v":{"$error":"#N/A"}},{"$error":"#N/A"},{"$f":"_xlfn.AGGREGATE(3,3,$AS$6:$AS7)","v":0},{"$f":"_xlfn.AGGREGATE(4,3,$G4:$G9)","v":0},{"$f":"_xlfn.AGGREGATE(5,3,$G4:$G9)","v":0},{"$f":"MAX(_xlfn.AGGREGATE(4,3,$G4:$G9),IFERROR($BR$5,0))","v":0},0,{"$f":"AW7-AY7","v":0},{"$f":"AX7-AV7","v":0},0,"","",{"$error":"#N/A"},{"$f":"IF(OR(BB7=1,BB8=1),$BF$4,#N/A)","v":{"$error":"#N/A"}},{"$f":"IF(BB7=0,BE7,BF7)","v":{"$error":"#N/A"}},{"$error":"#N/A"},{"$f":"IF(ISNUMBER(BH7),1,0)","v":0},"","",{"$f":"IF(BK7=0,BK6,BK7)","v":""},"",{"$f":"IF(OR(BL7=0,BL7=\"\"),0,IF(AND(BB7=1,BB6=0),1,IF(BL7=BL6,IF(BI7=1,BN6,BN6+1),1)))","v":0},{"$f":"IF(BK7=\"\",0,ABS(BK7))","v":0},{"$f":"IF(BB7=0,BN7,\"\")","v":0},{"$f":"IF(BB7=1,BN7,\"\")","v":""},{"$f":"$BR$5","v":{"$error":"#N/A"}},{"$error":"#N/A"},{"$f":"IF(AND(H7<>\"\",H8=\"\",OR(Skjulte_Indstillinger!$B$2,Skjulte_Indstillinger!$B$3,Skjulte_Indstillinger!$B$4,Skjulte_Indstillinger!$B$5,Skjulte_Indstillinger!$B$6,Skjulte_Indstillinger!$B$7,Skjulte_Indstillinger!$B$8,Skjulte_Indstillinger!$B$9,Skjulte_Indstillinger!$B$10)),H7,NA())","v":{"$error":"#N/A"}},{"$f":"IF(AND(L7<>\"\",L8=\"\",Skjulte_Indstillinger!$B$2),L7,NA())","v":{"$error":"#N/A"}},{"$f":"IF(AND(P7<>\"\",P8=\"\",Skjulte_Indstillinger!$B$3),P7,NA())","v":{"$error":"#N/A"}},{"$f":"IF(AND(T7<>\"\",T8=\"\",Skjulte_Indstillinger!$B$4),T7,NA())","v":{"$error":"#N/A"}},{"$f":"IF(AND(X7<>\"\",X8=\"\",Skjulte_Indstillinger!$B$5),X7,NA())","v":{"$error":"#N/A"}},{"$f":"IF(AND(AB7<>\"\",AB8=\"\",Skjulte_Indstillinger!$B$6),AB7,NA())","v":{"$error":"#N/A"}},{"$f":"IF(AND(AF7<>\"\",AF8=\"\",Skjulte_Indstillinger!$B$7),AF7,NA())","v":{"$error":"#N/A"}},{"$f":"IF(AND(AJ7<>\"\",AJ8=\"\",Skjulte_Indstillinger!$B$8),AJ7,NA())","v":{"$error":"#N/A"}},{"$f":"IF(AND(AN7<>\"\",AN8=\"\",Skjulte_Indstillinger!$B$9),AN7,NA())","v":{"$error":"#N/A"}},{"$f":"IF(AND(AR7<>\"\",AR8=\"\",Skjulte_Indstillinger!$B$10),AR7,NA())","v":{"$error":"#N/A"}}]
["",{"$f":"IF(Indtastning!B20=\"\",\"\",Indtastning!B20)","v":""},{"$f":"CELL(\"format\",Indtastning!B20)","v":"G"},"",{"$f":"IF(Indtastning!D20=\"\",\"\",Indtastning!D20)","v":""},{"$f":"IF(Indtastning!E20=\"\",\"\",Indtastning!E20)","v":""},{"$error":"#N/A"},"",{"$f":"IF(Indtastning!I20=\"\",\"\",Indtastning!I20)","v":""},{"$f":"IF(Indtastning!J20=\"\",\"\",Indtastning!J20)","v":""},{"$f":"IF(OR(J8=\"\",J8=0,Skjulte_Indstillinger!$B$2=FALSE()),#N/A,I8/J8)","v":{"$error":"#N/A"}},"",{"$f":"IF(Indtastning!L20=\"\",\"\",Indtastning!L20)","v":""},{"$f":"IF(Indtastning!M20=\"\",\"\",Indtastning!M20)","v":""},{"$f":"IF(OR(N8=\"\",N8=0,Skjulte_Indstillinger!$B$3=FALSE()),#N/A,M8/N8)","v":{"$error":"#N/A"}},"",{"$f":"IF(Indtastning!O20=\"\",\"\",Indtastning!O20)","v":""},{"$f":"IF(Indtastning!P20=\"\",\"\",Indtastning!P20)","v":""},{"$f":"IF(OR(R8=\"\",R8=0,Skjulte_Indstillinger!$B$4=FALSE()),#N/A,Q8/R8)","v":{"$error":"#N/A"}},"",{"$f":"IF(Indtastning!R20=\"\",\"\",Indtastning!R20)","v":""},{"$f":"IF(Indtastning!S20=\"\",\"\",Indtastning!S20)","v":""},{"$f":"IF(OR(V8=\"\",V8=0,Skjulte_Indstillinger!$B$5=FALSE()),#N/A,U8/V8)","v":{"$error":"#N/A"}},"",{"$f":"IF(Indtastning!U20=\"\",\"\",Indtastning!U20)","v":""},{"$f":"IF(Indtastning!V20=\"\",\"\",Indtastning!V20)","v":""},{"$f":"IF(OR(Z8=\"\",Z8=0,Skjulte_Indstillinger!$B$6=FALSE()),#N/A,Y8/Z8)","v":{"$error":"#N/A"}},"",{"$f":"IF(Indtastning!X20=\"\",\"\",Indtastning!X20)","v":""},{"$f":"IF(Indtastning!Y20=\"\",\"\",Indtastning!Y20)","v":""},{"$f":"IF(OR(AD8=\"\",AD8=0,Skjulte_Indstillinger!$B$7=FALSE()),#N/A,AC8/AD8)","v":{"$error":"#N/A"}},"",{"$f":"IF(Indtastning!AA20=\"\",\"\",Indtastning!AA20)","v":""},{"$f":"IF(Indtastning!AB20=\"\",\"\",Indtastning!AB20)","v":""},{"$f":"IF(OR(AH8=\"\",AH8=0,Skjulte_Indstillinger!$B$8=FALSE()),#N/A,AG8/AH8)","v":{"$error":"#N/A"}},"",{"$f":"IF(Indtastning!AD20=\"\",\"\",Indtastning!AD20)","v":""},{"$f":"IF(Indtastning!AE20=\"\",\"\",Indtastning!AE20)","v":""},{"$f":"IF(OR(AL8=\"\",AL8=0,Skjulte_Indstillinger!$B$9=FALSE()),#N/A,AK8/AL8)","v":{"$error":"#N/A"}},"",{"$f":"IF(Indtastning!AG20=\"\",\"\",Indtastning!AG20)","v":""},{"$f":"IF(Indtastning!AH20=\"\",\"\",Indtastning!AH20)","v":""},{"$f":"IF(OR(AP8=\"\",AP8=0,Skjulte_Indstillinger!$B$10=FALSE()),#N/A,AO8/AP8)","v":{"$error":"#N/A"}},"",{"$f":"IF(Indtastning!G20=\"\",#N/A,Indtastning!G20)","v":{"$error":"#N/A"}},{"$error":"#N/A"},{"$f":"_xlfn.AGGREGATE(3,3,$AS$6:$AS8)","v":0},0,0,0,0,0,0,0,"","",{"$error":"#N/A"},{"$error":"#N/A"},{"$error":"#N/A"},{"$error":"#N/A"},0,"","","","",0,0,0,"",{"$error":"#N/A"},{"$f":"IF(AND(A4<>\"\",A5=\"\"),BR8,#N/A)","v":{"$error":"#N/A"}},{"$f":"IF(AND(H8<>\"\",H9=\"\",OR(Skjulte_Indstillinger!$B$2,Skjulte_Indstillinger!$B$3,Skjulte_Indstillinger!$B$4,Skjulte_Indstillinger!$B$5,Skjulte_Indstillinger!$B$6,Skjulte_Indstillinger!$B$7,Skjulte_Indstillinger!$B$8,Skjulte_Indstillinger!$B$9,Skjulte_Indstillinger!$B$10)),H8,NA())","v":{"$error":"#N/A"}},{"$f":"IF(AND(L8<>\"\",L9=\"\",Skjulte_Indstillinger!$B$2),L8,NA())","v":{"$error":"#N/A"}},{"$f":"IF(AND(P8<>\"\",P9=\"\",Skjulte_Indstillinger!$B$3),P8,NA())","v":{"$error":"#N/A"}},{"$f":"IF(AND(T8<>\"\",T9=\"\",Skjulte_Indstillinger!$B$4),T8,NA())","v":{"$error":"#N/A"}},{"$f":"IF(AND(X8<>\"\",X9=\"\",Skjulte_Indstillinger!$B$5),X8,NA())","v":{"$error":"#N/A"}},{"$f":"IF(AND(AB8<>\"\",AB9=\"\",Skjulte_Indstillinger!$B$6),AB8,NA())","v":{"$error":"#N/A"}},{"$f":"IF(AND(AF8<>\"\",AF9=\"\",Skjulte_Indstillinger!$B$7),AF8,NA())","v":{"$error":"#N/A"}},{"$f":"IF(AND(AJ8<>\"\",AJ9=\"\",Skjulte_Indstillinger!$B$8),AJ8,NA())","v":{"$error":"#N/A"}},{"$f":"IF(AND(AN8<>\"\",AN9=\"\",Skjulte_Indstillinger!$B$9),AN8,NA())","v":{"$error":"#N/A"}},{"$f":"IF(AND(AR8<>\"\",AR9=\"\",Skjulte_Indstillinger!$B$10),AR8,NA())","v":{"$error":"#N/A"}}]
["",{"$f":"IF(Indtastning!B21=\"\",\"\",Indtastning!B21)","v":""},{"$f":"CELL(\"format\",Indtastning!B21)","v":"G"},"",{"$f":"IF(Indtastning!D21=\"\",\"\",Indtastning!D21)","v":""},{"$f":"IF(Indtastning!E21=\"\",\"\",Indtastning!E21)","v":""},{"$error":"#N/A"},"",{"$f":"IF(Indtastning!I21=\"\",\"\",Indtastning!I21)","v":""},{"$f":"IF(Indtastning!J21=\"\",\"\",Indtastning!J21)","v":""},{"$f":"IF(OR(J9=\"\",J9=0,Skjulte_Indstillinger!$B$2=FALSE()),#N/A,I9/J9)","v":{"$error":"#N/A"}},"",{"$f":"IF(Indtastning!L21=\"\",\"\",Indtastning!L21)","v":""},{"$f":"IF(Indtastning!M21=\"\",\"\",Indtastning!M21)","v":""},{"$f":"IF(OR(N9=\"\",N9=0,Skjulte_Indstillinger!$B$3=FALSE()),#N/A,M9/N9)","v":{"$error":"#N/A"}},"",{"$f":"IF(Indtastning!O21=\"\",\"\",Indtastning!O21)","v":""},{"$f":"IF(Indtastning!P21=\"\",\"\",Indtastning!P21)","v":""},{"$f":"IF(OR(R9=\"\",R9=0,Skjulte_Indstillinger!$B$4=FALSE()),#N/A,Q9/R9)","v":{"$error":"#N/A"}},"",{"$f":"IF(Indtastning!R21=\"\",\"\",Indtastning!R21)","v":""},{"$f":"IF(Indtastning!S21=\"\",\"\",Indtastning!S21)","v":""},{"$f":"IF(OR(V9=\"\",V9=0,Skjulte_Indstillinger!$B$5=FALSE()),#N/A,U9/V9)","v":{"$error":"#N/A"}},"",{"$f":"IF(Indtastning!U21=\"\",\"\",Indtastning!U21)","v":""},{"$f":"IF(Indtastning!V21=\"\",\"\",Indtastning!V21)","v":""},{"$f":"IF(OR(Z9=\"\",Z9=0,Skjulte_Indstillinger!$B$6=FALSE()),#N/A,Y9/Z9)","v":{"$error":"#N/A"}},"",{"$f":"IF(Indtastning!X21=\"\",\"\",Indtastning!X21)","v":""},{"$f":"IF(Indtastning!Y21=\"\",\"\",Indtastning!Y21)","v":""},{"$f":"IF(OR(AD9=\"\",AD9=0,Skjulte_Indstillinger!$B$7=FALSE()),#N/A,AC9/AD9)","v":{"$error":"#N/A"}},"",{"$f":"IF(Indtastning!AA21=\"\",\"\",Indtastning!AA21)","v":""},{"$f":"IF(Indtastning!AB21=\"\",\"\",Indtastning!AB21)","v":""},{"$f":"IF(OR(AH9=\"\",AH9=0,Skjulte_Indstillinger!$B$8=FALSE()),#N/A,AG9/AH9)","v":{"$error":"#N/A"}},"",{"$f":"IF(Indtastning!AD21=\"\",\"\",Indtastning!AD21)","v":""},{"$f":"IF(Indtastning!AE21=\"\",\"\",Indtastning!AE21)","v":""},{"$f":"IF(OR(AL9=\"\",AL9=0,Skjulte_Indstillinger!$B$9=FALSE()),#N/A,AK9/AL9)","v":{"$error":"#N/A"}},"",{"$f":"IF(Indtastning!AG21=\"\",\"\",Indtastning!AG21)","v":""},{"$f":"IF(Indtastning!AH21=\"\",\"\",Indtastning!AH21)","v":""},{"$f":"IF(OR(AP9=\"\",AP9=0,Skjulte_Indstillinger!$B$10=FALSE()),#N/A,AO9/AP9)","v":{"$error":"#N/A"}},"",{"$f":"IF(Indtastning!G21=\"\",#N/A,Indtastning!G21)","v":{"$error":"#N/A"}},{"$error":"#N/A"},{"$f":"_xlfn.AGGREGATE(3,3,$AS$6:$AS9)","v":0},0,0,0,0,0,0,0,"","",{"$error":"#N/A"},{"$error":"#N/A"},{"$error":"#N/A"},{"$error":"#N/A"},0,"","","","",0,0,0,"",{"$error":"#N/A"},{"$f":"IF(AND(A5<>\"\",A6=\"\"),BR9,#N/A)","v":{"$error":"#N/A"}},{"$f":"IF(AND(H9<>\"\",H10=\"\",OR(Skjulte_Indstillinger!$B$2,Skjulte_Indstillinger!$B$3,Skjulte_Indstillinger!$B$4,Skjulte_Indstillinger!$B$5,Skjulte_Indstillinger!$B$6,Skjulte_Indstillinger!$B$7,Skjulte_Indstillinger!$B$8,Skjulte_Indstillinger!$B$9,Skjulte_Indstillinger!$B$10)),H9,NA())","v":{"$error":"#N/A"}},{"$f":"IF(AND(L9<>\"\",L10=\"\",Skjulte_Indstillinger!$B$2),L9,NA())","v":{"$error":"#N/A"}},{"$f":"IF(AND(P9<>\"\",P10=\"\",Skjulte_Indstillinger!$B$3),P9,NA())","v":{"$error":"#N/A"}},{"$f":"IF(AND(T9<>\"\",T10=\"\",Skjulte_Indstillinger!$B$4),T9,NA())","v":{"$error":"#N/A"}},{"$f":"IF(AND(X9<>\"\",X10=\"\",Skjulte_Indstillinger!$B$5),X9,NA())","v":{"$error":"#N/A"}},{"$f":"IF(AND(AB9<>\"\",AB10=\"\",Skjulte_Indstillinger!$B$6),AB9,NA())","v":{"$error":"#N/A"}},{"$f":"IF(AND(AF9<>\"\",AF10=\"\",Skjulte_Indstillinger!$B$7),AF9,NA())","v":{"$error":"#N/A"}},{"$f":"IF(AND(AJ9<>\"\",AJ10=\"\",Skjulte_Indstillinger!$B$8),AJ9,NA())","v":{"$error":"#N/A"}},{"$f":"IF(AND(AN9<>\"\",AN10=\"\",Skjulte_Indstillinger!$B$9),AN9,NA())","v":{"$error":"#N/A"}},{"$f":"IF(AND(AR9<>\"\",AR10=\"\",Skjulte_Indstillinger!$B$10),AR9,NA())","v":{"$error":"#N/A"}}]
["",{"$f":"IF(Indtastning!B22=\"\",\"\",Indtastning!B22)","v":""},{"$f":"CELL(\"format\",Indtastning!B22)","v":"G"},"",{"$f":"IF(Indtastning!D22=\"\",\"\",Indtastning!D22)","v":""},{"$f":"IF(Indtastning!E22=\"\",\"\",Indtastning!E22)","v":""},{"$error":"#N/A"},"",{"$f":"IF(Indtastning!I22=\"\",\"\",Indtastning!I22)","v":""},{"$f":"IF(Indtastning!J22=\"\",\"\",Indtastning!J22)","v":""},{"$f":"IF(OR(J10=\"\",J10=0,Skjulte_Indstillinger!$B$2=FALSE()),#N/A,I10/J10)","v":{"$error":"#N/A"}},"",{"$f":"IF(Indtastning!L22=\"\",\"\",Indtastning!L22)","v":""},{"$f":"IF(Indtastning!M22=\"\",\"\",Indtastning!M22)","v":""},{"$f":"IF(OR(N10=\"\",N10=0,Skjulte_Indstillinger!$B$3=FALSE()),#N/A,M10/N10)","v":{"$error":"#N/A"}},"",{"$f":"IF(Indtastning!O22=\"\",\"\",Indtastning!O22)","v":""},{"$f":"IF(Indtastning!P22=\"\",\"\",Indtastning!P22)","v":""},{"$f":"IF(OR(R10=\"\",R10=0,Skjulte_Indstillinger!$B$4=FALSE()),#N/A,Q10/R10)","v":{"$error":"#N/A"}},"",{"$f":"IF(Indtastning!R22=\"\",\"\",Indtastning!R22)","v":""},{"$f":"IF(Indtastning!S22=\"\",\"\",Indtastning!S22)","v":""},{"$f":"IF(OR(V10=\"\",V10=0,Skjulte_Indstillinger!$B$5=FALSE()),#N/A,U10/V10)","v":{"$error":"#N/A"}},"",{"$f":"IF(Indtastning!U22=\"\",\"\",Indtastning!U22)","v":""},{"$f":"IF(Indtastning!V22=\"\",\"\",Indtastning!V22)","v":""},{"$f":"IF(OR(Z10=\"\",Z10=0,Skjulte_Indstillinger!$B$6=FALSE()),#N/A,Y10/Z10)","v":{"$error":"#N/A"}},"",{"$f":"IF(Indtastning!X22=\"\",\"\",Indtastning!X22)","v":""},{"$f":"IF(Indtastning!Y22=\"\",\"\",Indtastning!Y22)","v":""},{"$f":"IF(OR(AD10=\"\",AD10=0,Skjulte_Indstillinger!$B$7=FALSE()),#N/A,AC10/AD10)","v":{"$error":"#N/A"}},"",{"$f":"IF(Indtastning!AA22=\"\",\"\",Indtastning!AA22)","v":""},{"$f":"IF(Indtastning!AB22=\"\",\"\",Indtastning!AB22)","v":""},{"$f":"IF(OR(AH10=\"\",AH10=0,Skjulte_Indstillinger!$B$8=FALSE()),#N/A,AG10/AH10)","v":{"$error":"#N/A"}},"",{"$f":"IF(Indtastning!AD22=\"\",\"\",Indtastning!AD22)","v":""},{"$f":"IF(Indtastning!AE22=\"\",\"\",Indtastning!AE22)","v":""},{"$f":"IF(OR(AL10=\"\",AL10=0,Skjulte_Indstillinger!$B$9=FALSE()),#N/A,AK10/AL10)","v":{"$error":"#N/A"}},"",{"$f":"IF(Indtastning!AG22=\"\",\"\",Indtastning!AG22)","v":""},{"$f":"IF(Indtastning!AH22=\"\",\"\",Indtastning!AH22)","v":""},{"$f":"IF(OR(AP10=\"\",AP10=0,Skjulte_Indstillinger!$B$10=FALSE()),#N/A,AO10/AP10)","v":{"$error":"#N/A"}},"",{"$f":"IF(Indtastning!G22=\"\",#N/A,Indtastning!G22)","v":{"$error":"#N/A"}},{"$error":"#N/A"},{"$f":"_xlfn.AGGREGATE(3,3,$AS$6:$AS10)","v":0},0,0,0,0,0,0,0,"","",{"$error":"#N/A"},{"$error":"#N/A"},{"$error":"#N/A"},{"$error":"#N/A"},0,"","","","",0,0,0,"",{"$error":"#N/A"},{"$f":"IF(AND(A6<>\"\",A7=\"\"),BR10,#N/A)","v":{"$error":"#N/A"}},{"$f":"IF(AND(H10<>\"\",H11=\"\",OR(Skjulte_Indstillinger!$B$2,Skjulte_Indstillinger!$B$3,Skjulte_Indstillinger!$B$4,Skjulte_Indstillinger!$B$5,Skjulte_Indstillinger!$B$6,Skjulte_Indstillinger!$B$7,Skjulte_Indstillinger!$B$8,Skjulte_Indstillinger!$B$9,Skjulte_Indstillinger!$B$10)),H10,NA())","v":{"$error":"#N/A"}},{"$f":"IF(AND(L10<>\"\",L11=\"\",Skjulte_Indstillinger!$B$2),L10,NA())","v":{"$error":"#N/A"}},{"$f":"IF(AND(P10<>\"\",P11=\"\",Skjulte_Indstillinger!$B$3),P10,NA())","v":{"$error":"#N/A"}},{"$f":"IF(AND(T10<>\"\",T11=\"\",Skjulte_Indstillinger!$B$4),T10,NA())","v":{"$error":"#N/A"}},{"$f":"IF(AND(X10<>\"\",X11=\"\",Skjulte_Indstillinger!$B$5),X10,NA())","v":{"$error":"#N/A"}},{"$f":"IF(AND(AB10<>\"\",AB11=\"\",Skjulte_Indstillinger!$B$6),AB10,NA())","v":{"$error":"#N/A"}},{"$f":"IF(AND(AF10<>\"\",AF11=\"\",Skjulte_Indstillinger!$B$7),AF10,NA())","v":{"$error":"#N/A"}},{"$f":"IF(AND(AJ10<>\"\",AJ11=\"\",Skjulte_Indstillinger!$B$8),AJ10,NA())","v":{"$error":"#N/A"}},{"$f":"IF(AND(AN10<>\"\",AN11=\"\",Skjulte_Indstillinger!$B$9),AN10,NA())","v":{"$error":"#N/A"}},{"$f":"IF(AND(AR10<>\"\",AR11=\"\",Skjulte_Indstillinger!$B$10),AR10,NA())","v":{"$error":"#N/A"}}]
["",{"$f":"IF(Indtastning!B23=\"\",\"\",Indtastning!B23)","v":""},{"$f":"CELL(\"format\",Indtastning!B23)","v":"G"},"",{"$f":"IF(Indtastning!D23=\"\",\"\",Indtastning!D23)","v":""},{"$f":"IF(Indtastning!E23=\"\",\"\",Indtastning!E23)","v":""},{"$error":"#N/A"},"",{"$f":"IF(Indtastning!I23=\"\",\"\",Indtastning!I23)","v":""},{"$f":"IF(Indtastning!J23=\"\",\"\",Indtastning!J23)","v":""},{"$f":"IF(OR(J11=\"\",J11=0,Skjulte_Indstillinger!$B$2=FALSE()),#N/A,I11/J11)","v":{"$error":"#N/A"}},"",{"$f":"IF(Indtastning!L23=\"\",\"\",Indtastning!L23)","v":""},{"$f":"IF(Indtastning!M23=\"\",\"\",Indtastning!M23)","v":""},{"$f":"IF(OR(N11=\"\",N11=0,Skjulte_Indstillinger!$B$3=FALSE()),#N/A,M11/N11)","v":{"$error":"#N/A"}},"",{"$f":"IF(Indtastning!O23=\"\",\"\",Indtastning!O23)","v":""},{"$f":"IF(Indtastning!P23=\"\",\"\",Indtastning!P23)","v":""},{"$f":"IF(OR(R11=\"\",R11=0,Skjulte_Indstillinger!$B$4=FALSE()),#N/A,Q11/R11)","v":{"$error":"#N/A"}},"",{"$f":"IF(Indtastning!R23=\"\",\"\",Indtastning!R23)","v":""},{"$f":"IF(Indtastning!S23=\"\",\"\",Indtastning!S23)","v":""},{"$f":"IF(OR(V11=\"\",V11=0,Skjulte_Indstillinger!$B$5=FALSE()),#N/A,U11/V11)","v":{"$error":"#N/A"}},"",{"$f":"IF(Indtastning!U23=\"\",\"\",Indtastning!U23)","v":""},{"$f":"IF(Indtastning!V23=\"\",\"\",Indtastning!V23)","v":""},{"$f":"IF(OR(Z11=\"\",Z11=0,Skjulte_Indstillinger!$B$6=FALSE()),#N/A,Y11/Z11)","v":{"$error":"#N/A"}},"",{"$f":"IF(Indtastning!X23=\"\",\"\",Indtastning!X23)","v":""},{"$f":"IF(Indtastning!Y23=\"\",\"\",Indtastning!Y23)","v":""},{"$f":"IF(OR(AD11=\"\",AD11=0,Skjulte_Indstillinger!$B$7=FALSE()),#N/A,AC11/AD11)","v":{"$error":"#N/A"}},"",{"$f":"IF(Indtastning!AA23=\"\",\"\",Indtastning!AA23)","v":""},{"$f":"IF(Indtastning!AB23=\"\",\"\",Indtastning!AB23)","v":""},{"$f":"IF(OR(AH11=\"\",AH11=0,Skjulte_Indstillinger!$B$8=FALSE()),#N/A,AG11/AH11)","v":{"$error":"#N/A"}},"",{"$f":"IF(Indtastning!AD23=\"\",\"\",Indtastning!AD23)","v":""},{"$f":"IF(Indtastning!AE23=\"\",\"\",Indtastning!AE23)","v":""},{"$f":"IF(OR(AL11=\"\",AL11=0,Skjulte_Indstillinger!$B$9=FALSE()),#N/A,AK11/AL11)","v":{"$error":"#N/A"}},"",{"$f":"IF(Indtastning!AG23=\"\",\"\",Indtastning!AG23)","v":""},{"$f":"IF(Indtastning!AH23=\"\",\"\",Indtastning!AH23)","v":""},{"$f":"IF(OR(AP11=\"\",AP11=0,Skjulte_Indstillinger!$B$10=FALSE()),#N/A,AO11/AP11)","v":{"$error":"#N/A"}},"",{"$f":"IF(Indtastning!G23=\"\",#N/A,Indtastning!G23)","v":{"$error":"#N/A"}},{"$error":"#N/A"},{"$f":"_xlfn.AGGREGATE(3,3,$AS$6:$AS11)","v":0},0,0,0,0,0,0,0,"","",{"$error":"#N/A"},{"$error":"#N/A"},{"$error":"#N/A"},{"$error":"#N/A"},0,"","","","",0,0,0,"",{"$error":"#N/A"},{"$f":"IF(AND(A7<>\"\",A8=\"\"),BR11,#N/A)","v":{"$error":"#N/A"}},{"$f":"IF(AND(H11<>\"\",H12=\"\",OR(Skjulte_Indstillinger!$B$2,Skjulte_Indstillinger!$B$3,Skjulte_Indstillinger!$B$4,Skjulte_Indstillinger!$B$5,Skjulte_Indstillinger!$B$6,Skjulte_Indstillinger!$B$7,Skjulte_Indstillinger!$B$8,Skjulte_Indstillinger!$B$9,Skjulte_Indstillinger!$B$10)),H11,NA())","v":{"$error":"#N/A"}},{"$f":"IF(AND(L11<>\"\",L12=\"\",Skjulte_Indstillinger!$B$2),L11,NA())","v":{"$error":"#N/A"}},{"$f":"IF(AND(P11<>\"\",P12=\"\",Skjulte_Indstillinger!$B$3),P11,NA())","v":{"$error":"#N/A"}},{"$f":"IF(AND(T11<>\"\",T12=\"\",Skjulte_Indstillinger!$B$4),T11,NA())","v":{"$error":"#N/A"}},{"$f":"IF(AND(X11<>\"\",X12=\"\",Skjulte_Indstillinger!$B$5),X11,NA())","v":{"$error":"#N/A"}},{"$f":"IF(AND(AB11<>\"\",AB12=\"\",Skjulte_Indstillinger!$B$6),AB11,NA())","v":{"$error":"#N/A"}},{"$f":"IF(AND(AF11<>\"\",AF12=\"\",Skjulte_Indstillinger!$B$7),AF11,NA())","v":{"$error":"#N/A"}},{"$f":"IF(AND(AJ11<>\"\",AJ12=\"\",Skjulte_Indstillinger!$B$8),AJ11,NA())","v":{"$error":"#N/A"}},{"$f":"IF(AND(AN11<>\"\",AN12=\"\",Skjulte_Indstillinger!$B$9),AN11,NA())","v":{"$error":"#N/A"}},{"$f":"IF(AND(AR11<>\"\",AR12=\"\",Skjulte_Indstillinger!$B$10),AR11,NA())","v":{"$error":"#N/A"}}]
["",{"$f":"IF(Indtastning!B24=\"\",\"\",Indtastning!B24)","v":""},{"$f":"CELL(\"format\",Indtastning!B24)","v":"G"},"",{"$f":"IF(Indtastning!D24=\"\",\"\",Indtastning!D24)","v":""},{"$f":"IF(Indtastning!E24=\"\",\"\",Indtastning!E24)","v":""},{"$error":"#N/A"},"",{"$f":"IF(Indtastning!I24=\"\",\"\",Indtastning!I24)","v":""},{"$f":"IF(Indtastning!J24=\"\",\"\",Indtastning!J24)","v":""},{"$f":"IF(OR(J12=\"\",J12=0,Skjulte_Indstillinger!$B$2=FALSE()),#N/A,I12/J12)","v":{"$error":"#N/A"}},"",{"$f":"IF(Indtastning!L24=\"\",\"\",Indtastning!L24)","v":""},{"$f":"IF(Indtastning!M24=\"\",\"\",Indtastning!M24)","v":""},{"$f":"IF(OR(N12=\"\",N12=0,Skjulte_Indstillinger!$B$3=FALSE()),#N/A,M12/N12)","v":{"$error":"#N/A"}},"",{"$f":"IF(Indtastning!O24=\"\",\"\",Indtastning!O24)","v":""},{"$f":"IF(Indtastning!P24=\"\",\"\",Indtastning!P24)","v":""},{"$f":"IF(OR(R12=\"\",R12=0,Skjulte_Indstillinger!$B$4=FALSE()),#N/A,Q12/R12)","v":{"$error":"#N/A"}},"",{"$f":"IF(Indtastning!R24=\"\",\"\",Indtastning!R24)","v":""},{"$f":"IF(Indtastning!S24=\"\",\"\",Indtastning!S24)","v":""},{"$f":"IF(OR(V12=\"\",V12=0,Skjulte_Indstillinger!$B$5=FALSE()),#N/A,U12/V12)","v":{"$error":"#N/A"}},"",{"$f":"IF(Indtastning!U24=\"\",\"\",Indtastning!U24)","v":""},{"$f":"IF(Indtastning!V24=\"\",\"\",Indtastning!V24)","v":""},{"$f":"IF(OR(Z12=\"\",Z12=0,Skjulte_Indstillinger!$B$6=FALSE()),#N/A,Y12/Z12)","v":{"$error":"#N/A"}},"",{"$f":"IF(Indtastning!X24=\"\",\"\",Indtastning!X24)","v":""},{"$f":"IF(Indtastning!Y24=\"\",\"\",Indtastning!Y24)","v":""},{"$f":"IF(OR(AD12=\"\",AD12=0,Skjulte_Indstillinger!$B$7=FALSE()),#N/A,AC12/AD12)","v":{"$error":"#N/A"}},"",{"$f":"IF(Indtastning!AA24=\"\",\"\",Indtastning!AA24)","v":""},{"$f":"IF(Indtastning!AB24=\"\",\"\",Indtastning!AB24)","v":""},{"$f":"IF(OR(AH12=\"\",AH12=0,Skjulte_Indstillinger!$B$8=FALSE()),#N/A,AG12/AH12)","v":{"$error":"#N/A"}},"",{"$f":"IF(Indtastning!AD24=\"\",\"\",Indtastning!AD24)","v":""},{"$f":"IF(Indtastning!AE24=\"\",\"\",Indtastning!AE24)","v":""},{"$f":"IF(OR(AL12=\"\",AL12=0,Skjulte_Indstillinger!$B$9=FALSE()),#N/A,AK12/AL12)","v":{"$error":"#N/A"}},"",{"$f":"IF(Indtastning!AG24=\"\",\"\",Indtastning!AG24)","v":""},{"$f":"IF(Indtastning!AH24=\"\",\"\",Indtastning!AH24)","v":""},{"$f":"IF(OR(AP12=\"\",AP12=0,Skjulte_Indstillinger!$B$10=FALSE()),#N/A,AO12/AP12)","v":{"$error":"#N/A"}},"",{"$f":"IF(Indtastning!G24=\"\",#N/A,Indtastning!G24)","v":{"$error":"#N/A"}},{"$error":"#N/A"},{"$f":"_xlfn.AGGREGATE(3,3,$AS$6:$AS12)","v":0},0,0,0,0,0,0,0,"","",{"$error":"#N/A"},{"$error":"#N/A"},{"$error":"#N/A"},{"$error":"#N/A"},0,"","","","",0,0,0,"",{"$error":"#N/A"},{"$error":"#N/A"},{"$f":"IF(AND(H12<>\"\",H13=\"\",OR(Skjulte_Indstillinger!$B$2,Skjulte_Indstillinger!$B$3,Skjulte_Indstillinger!$B$4,Skjulte_Indstillinger!$B$5,Skjulte_Indstillinger!$B$6,Skjulte_Indstillinger!$B$7,Skjulte_Indstillinger!$B$8,Skjulte_Indstillinger!$B$9,Skjulte_Indstillinger!$B$10)),H12,NA())","v":{"$error":"#N/A"}},{"$f":"IF(AND(L12<>\"\",L13=\"\",Skjulte_Indstillinger!$B$2),L12,NA())","v":{"$error":"#N/A"}},{"$f":"IF(AND(P12<>\"\",P13=\"\",Skjulte_Indstillinger!$B$3),P12,NA())","v":{"$error":"#N/A"}},{"$f":"IF(AND(T12<>\"\",T13=\"\",Skjulte_Indstillinger!$B$4),T12,NA())","v":{"$error":"#N/A"}},{"$f":"IF(AND(X12<>\"\",X13=\"\",Skjulte_Indstillinger!$B$5),X12,NA())","v":{"$error":"#N/A"}},{"$f":"IF(AND(AB12<>\"\",AB13=\"\",Skjulte_Indstillinger!$B$6),AB12,NA())","v":{"$error":"#N/A"}},{"$f":"IF(AND(AF12<>\"\",AF13=\"\",Skjulte_Indstillinger!$B$7),AF12,NA())","v":{"$error":"#N/A"}},{"$f":"IF(AND(AJ12<>\"\",AJ13=\"\",Skjulte_Indstillinger!$B$8),AJ12,NA())","v":{"$error":"#N/A"}},{"$f":"IF(AND(AN12<>\"\",AN13=\"\",Skjulte_Indstillinger!$B$9),AN12,NA())","v":{"$error":"#N/A"}},{"$f":"IF(AND(AR12<>\"\",AR13=\"\",Skjulte_Indstillinger!$B$10),AR12,NA())","v":{"$error":"#N/A"}}]
["",{"$f":"IF(Indtastning!B25=\"\",\"\",Indtastning!B25)","v":""},{"$f":"CELL(\"format\",Indtastning!B25)","v":"G"},"",{"$f":"IF(Indtastning!D25=\"\",\"\",Indtastning!D25)","v":""},{"$f":"IF(Indtastning!E25=\"\",\"\",Indtastning!E25)","v":""},{"$error":"#N/A"},"",{"$f":"IF(Indtastning!I25=\"\",\"\",Indtastning!I25)","v":""},{"$f":"IF(Indtastning!J25=\"\",\"\",Indtastning!J25)","v":""},{"$f":"IF(OR(J13=\"\",J13=0,Skjulte_Indstillinger!$B$2=FALSE()),#N/A,I13/J13)","v":{"$error":"#N/A"}},"",{"$f":"IF(Indtastning!L25=\"\",\"\",Indtastning!L25)","v":""},{"$f":"IF(Indtastning!M25=\"\",\"\",Indtastning!M25)","v":""},{"$f":"IF(OR(N13=\"\",N13=0,Skjulte_Indstillinger!$B$3=FALSE()),#N/A,M13/N13)","v":{"$error":"#N/A"}},"",{"$f":"IF(Indtastning!O25=\"\",\"\",Indtastning!O25)","v":""},{"$f":"IF(Indtastning!P25=\"\",\"\",Indtastning!P25)","v":""},{"$f":"IF(OR(R13=\"\",R13=0,Skjulte_Indstillinger!$B$4=FALSE()),#N/A,Q13/R13)","v":{"$error":"#N/A"}},"",{"$f":"IF(Indtastning!R25=\"\",\"\",Indtastning!R25)","v":""},{"$f":"IF(Indtastning!S25=\"\",\"\",Indtastning!S25)","v":""},{"$f":"IF(OR(V13=\"\",V13=0,Skjulte_Indstillinger!$B$5=FALSE()),#N/A,U13/V13)","v":{"$error":"#N/A"}},"",{"$f":"IF(Indtastning!U25=\"\",\"\",Indtastning!U25)","v":""},{"$f":"IF(Indtastning!V25=\"\",\"\",Indtastning!V25)","v":""},{"$f":"IF(OR(Z13=\"\",Z13=0,Skjulte_Indstillinger!$B$6=FALSE()),#N/A,Y13/Z13)","v":{"$error":"#N/A"}},"",{"$f":"IF(Indtastning!X25=\"\",\"\",Indtastning!X25)","v":""},{"$f":"IF(Indtastning!Y25=\"\",\"\",Indtastning!Y25)","v":""},{"$f":"IF(OR(AD13=\"\",AD13=0,Skjulte_Indstillinger!$B$7=FALSE()),#N/A,AC13/AD13)","v":{"$error":"#N/A"}},"",{"$f":"IF(Indtastning!AA25=\"\",\"\",Indtastning!AA25)","v":""},{"$f":"IF(Indtastning!AB25=\"\",\"\",Indtastning!AB25)","v":""},{"$f":"IF(OR(AH13=\"\",AH13=0,Skjulte_Indstillinger!$B$8=FALSE()),#N/A,AG13/AH13)","v":{"$error":"#N/A"}},"",{"$f":"IF(Indtastning!AD25=\"\",\"\",Indtastning!AD25)","v":""},{"$f":"IF(Indtastning!AE25=\"\",\"\",Indtastning!AE25)","v":""},{"$f":"IF(OR(AL13=\"\",AL13=0,Skjulte_Indstillinger!$B$9=FALSE()),#N/A,AK13/AL13)","v":{"$error":"#N/A"}},"",{"$f":"IF(Indtastning!AG25=\"\",\"\",Indtastning!AG25)","v":""},{"$f":"IF(Indtastning!AH25=\"\",\"\",Indtastning!AH25)","v":""},{"$f":"IF(OR(AP13=\"\",AP13=0,Skjulte_Indstillinger!$B$10=FALSE()),#N/A,AO13/AP13)","v":{"$error":"#N/A"}},"",{"$f":"IF(Indtastning!G25=\"\",#N/A,Indtastning!G25)","v":{"$error":"#N/A"}},{"$error":"#N/A"},{"$f":"_xlfn.AGGREGATE(3,3,$AS$6:$AS13)","v":0},0,0,0,0,0,0,0,"","",{"$error":"#N/A"},{"$error":"#N/A"},{"$error":"#N/A"},{"$error":"#N/A"},0,"","","","",0,0,0,"",{"$error":"#N/A"},{"$error":"#N/A"},{"$f":"IF(AND(H13<>\"\",H14=\"\",OR(Skjulte_Indstillinger!$B$2,Skjulte_Indstillinger!$B$3,Skjulte_Indstillinger!$B$4,Skjulte_Indstillinger!$B$5,Skjulte_Indstillinger!$B$6,Skjulte_Indstillinger!$B$7,Skjulte_Indstillinger!$B$8,Skjulte_Indstillinger!$B$9,Skjulte_Indstillinger!$B$10)),H13,NA())","v":{"$error":"#N/A"}},{"$f":"IF(AND(L13<>\"\",L14=\"\",Skjulte_Indstillinger!$B$2),L13,NA())","v":{"$error":"#N/A"}},{"$f":"IF(AND(P13<>\"\",P14=\"\",Skjulte_Indstillinger!$B$3),P13,NA())","v":{"$error":"#N/A"}},{"$f":"IF(AND(T13<>\"\",T14=\"\",Skjulte_Indstillinger!$B$4),T13,NA())","v":{"$error":"#N/A"}},{"$f":"IF(AND(X13<>\"\",X14=\"\",Skjulte_Indstillinger!$B$5),X13,NA())","v":{"$error":"#N/A"}},{"$f":"IF(AND(AB13<>\"\",AB14=\"\",Skjulte_Indstillinger!$B$6),AB13,NA())","v":{"$error":"#N/A"}},{"$f":"IF(AND(AF13<>\"\",AF14=\"\",Skjulte_Indstillinger!$B$7),AF13,NA())","v":{"$error":"#N/A"}},{"$f":"IF(AND(AJ13<>\"\",AJ14=\"\",Skjulte_Indstillinger!$B$8),AJ13,NA())","v":{"$error":"#N/A"}},{"$f":"IF(AND(AN13<>\"\",AN14=\"\",Skjulte_Indstillinger!$B$9),AN13,NA())","v":{"$error":"#N/A"}},{"$f":"IF(AND(AR13<>\"\",AR14=\"\",Skjulte_Indstillinger!$B$10),AR13,NA())","v":{"$error":"#N/A"}}]
["",{"$f":"IF(Indtastning!B26=\"\",\"\",Indtastning!B26)","v":""},{"$f":"CELL(\"format\",Indtastning!B26)","v":"G"},"",{"$f":"IF(Indtastning!D26=\"\",\"\",Indtastning!D26)","v":""},{"$f":"IF(Indtastning!E26=\"\",\"\",Indtastning!E26)","v":""},{"$error":"#N/A"},"",{"$f":"IF(Indtastning!I26=\"\",\"\",Indtastning!I26)","v":""},{"$f":"IF(Indtastning!J26=\"\",\"\",Indtastning!J26)","v":""},{"$f":"IF(OR(J14=\"\",J14=0,Skjulte_Indstillinger!$B$2=FALSE()),#N/A,I14/J14)","v":{"$error":"#N/A"}},"",{"$f":"IF(Indtastning!L26=\"\",\"\",Indtastning!L26)","v":""},{"$f":"IF(Indtastning!M26=\"\",\"\",Indtastning!M26)","v":""},{"$f":"IF(OR(N14=\"\",N14=0,Skjulte_Indstillinger!$B$3=FALSE()),#N/A,M14/N14)","v":{"$error":"#N/A"}},"",{"$f":"IF(Indtastning!O26=\"\",\"\",Indtastning!O26)","v":""},{"$f":"IF(Indtastning!P26=\"\",\"\",Indtastning!P26)","v":""},{"$f":"IF(OR(R14=\"\",R14=0,Skjulte_Indstillinger!$B$4=FALSE()),#N/A,Q14/R14)","v":{"$error":"#N/A"}},"",{"$f":"IF(Indtastning!R26=\"\",\"\",Indtastning!R26)","v":""},{"$f":"IF(Indtastning!S26=\"\",\"\",Indtastning!S26)","v":""},{"$f":"IF(OR(V14=\"\",V14=0,Skjulte_Indstillinger!$B$5=FALSE()),#N/A,U14/V14)","v":{"$error":"#N/A"}},"",{"$f":"IF(Indtastning!U26=\"\",\"\",Indtastning!U26)","v":""},{"$f":"IF(Indtastning!V26=\"\",\"\",Indtastning!V26)","v":""},{"$f":"IF(OR(Z14=\"\",Z14=0,Skjulte_Indstillinger!$B$6=FALSE()),#N/A,Y14/Z14)","v":{"$error":"#N/A"}},"",{"$f":"IF(Indtastning!X26=\"\",\"\",Indtastning!X26)","v":""},{"$f":"IF(Indtastning!Y26=\"\",\"\",Indtastning!Y26)","v":""},{"$f":"IF(OR(AD14=\"\",AD14=0,Skjulte_Indstillinger!$B$7=FALSE()),#N/A,AC14/AD14)","v":{"$error":"#N/A"}},"",{"$f":"IF(Indtastning!AA26=\"\",\"\",Indtastning!AA26)","v":""},{"$f":"IF(Indtastning!AB26=\"\",\"\",Indtastning!AB26)","v":""},{"$f":"IF(OR(AH14=\"\",AH14=0,Skjulte_Indstillinger!$B$8=FALSE()),#N/A,AG14/AH14)","v":{"$error":"#N/A"}},"",{"$f":"IF(Indtastning!AD26=\"\",\"\",Indtastning!AD26)","v":""},{"$f":"IF(Indtastning!AE26=\"\",\"\",Indtastning!AE26)","v":""},{"$f":"IF(OR(AL14=\"\",AL14=0,Skjulte_Indstillinger!$B$9=FALSE()),#N/A,AK14/AL14)","v":{"$error":"#N/A"}},"",{"$f":"IF(Indtastning!AG26=\"\",\"\",Indtastning!AG26)","v":""},{"$f":"IF(Indtastning!AH26=\"\",\"\",Indtastning!AH26)","v":""},{"$f":"IF(OR(AP14=\"\",AP14=0,Skjulte_Indstillinger!$B$10=FALSE()),#N/A,AO14/AP14)","v":{"$error":"#N/A"}},"",{"$f":"IF(Indtastning!G26=\"\",#N/A,Indtastning!G26)","v":{"$error":"#N/A"}},{"$error":"#N/A"},{"$f":"_xlfn.AGGREGATE(3,3,$AS$6:$AS14)","v":0},0,0,0,0,0,0,0,"","",{"$error":"#N/A"},{"$error":"#N/A"},{"$error":"#N/A"},{"$error":"#N/A"},0,"","","","",0,0,0,"",{"$error":"#N/A"},{"$error":"#N/A"},{"$f":"IF(AND(H14<>\"\",H15=\"\",OR(Skjulte_Indstillinger!$B$2,Skjulte_Indstillinger!$B$3,Skjulte_Indstillinger!$B$4,Skjulte_Indstillinger!$B$5,Skjulte_Indstillinger!$B$6,Skjulte_Indstillinger!$B$7,Skjulte_Indstillinger!$B$8,Skjulte_Indstillinger!$B$9,Skjulte_Indstillinger!$B$10)),H14,NA())","v":{"$error":"#N/A"}},{"$f":"IF(AND(L14<>\"\",L15=\"\",Skjulte_Indstillinger!$B$2),L14,NA())","v":{"$error":"#N/A"}},{"$f":"IF(AND(P14<>\"\",P15=\"\",Skjulte_Indstillinger!$B$3),P14,NA())","v":{"$error":"#N/A"}},{"$f":"IF(AND(T14<>\"\",T15=\"\",Skjulte_Indstillinger!$B$4),T14,NA())","v":{"$error":"#N/A"}},{"$f":"IF(AND(X14<>\"\",X15=\"\",Skjulte_Indstillinger!$B$5),X14,NA())","v":{"$error":"#N/A"}},{"$f":"IF(AND(AB14<>\"\",AB15=\"\",Skjulte_Indstillinger!$B$6),AB14,NA())","v":{"$error":"#N/A"}},{"$f":"IF(AND(AF14<>\"\",AF15=\"\",Skjulte_Indstillinger!$B$7),AF14,NA())","v":{"$error":"#N/A"}},{"$f":"IF(AND(AJ14<>\"\",AJ15=\"\",Skjulte_Indstillinger!$B$8),AJ14,NA())","v":{"$error":"#N/A"}},{"$f":"IF(AND(AN14<>\"\",AN15=\"\",Skjulte_Indstillinger!$B$9),AN14,NA())","v":{"$error":"#N/A"}},{"$f":"IF(AND(AR14<>\"\",AR15=\"\",Skjulte_Indstillinger!$B$10),AR14,NA())","v":{"$error":"#N/A"}}]
["",{"$f":"IF(Indtastning!B27=\"\",\"\",Indtastning!B27)","v":""},{"$f":"CELL(\"format\",Indtastning!B27)","v":"G"},"",{"$f":"IF(Indtastning!D27=\"\",\"\",Indtastning!D27)","v":""},{"$f":"IF(Indtastning!E27=\"\",\"\",Indtastning!E27)","v":""},{"$error":"#N/A"},"",{"$f":"IF(Indtastning!I27=\"\",\"\",Indtastning!I27)","v":""},{"$f":"IF(Indtastning!J27=\"\",\"\",Indtastning!J27)","v":""},{"$f":"IF(OR(J15=\"\",J15=0,Skjulte_Indstillinger!$B$2=FALSE()),#N/A,I15/J15)","v":{"$error":"#N/A"}},"",{"$f":"IF(Indtastning!L27=\"\",\"\",Indtastning!L27)","v":""},{"$f":"IF(Indtastning!M27=\"\",\"\",Indtastning!M27)","v":""},{"$f":"IF(OR(N15=\"\",N15=0,Skjulte_Indstillinger!$B$3=FALSE()),#N/A,M15/N15)","v":{"$error":"#N/A"}},"",{"$f":"IF(Indtastning!O27=\"\",\"\",Indtastning!O27)","v":""},{"$f":"IF(Indtastning!P27=\"\",\"\",Indtastning!P27)","v":""},{"$f":"IF(OR(R15=\"\",R15=0,Skjulte_Indstillinger!$B$4=FALSE()),#N/A,Q15/R15)","v":{"$error":"#N/A"}},"",{"$f":"IF(Indtastning!R27=\"\",\"\",Indtastning!R27)","v":""},{"$f":"IF(Indtastning!S27=\"\",\"\",Indtastning!S27)","v":""},{"$f":"IF(OR(V15=\"\",V15=0,Skjulte_Indstillinger!$B$5=FALSE()),#N/A,U15/V15)","v":{"$error":"#N/A"}},"",{"$f":"IF(Indtastning!U27=\"\",\"\",Indtastning!U27)","v":""},{"$f":"IF(Indtastning!V27=\"\",\"\",Indtastning!V27)","v":""},{"$f":"IF(OR(Z15=\"\",Z15=0,Skjulte_Indstillinger!$B$6=FALSE()),#N/A,Y15/Z15)","v":{"$error":"#N/A"}},"",{"$f":"IF(Indtastning!X27=\"\",\"\",Indtastning!X27)","v":""},{"$f":"IF(Indtastning!Y27=\"\",\"\",Indtastning!Y27)","v":""},{"$f":"IF(OR(AD15=\"\",AD15=0,Skjulte_Indstillinger!$B$7=FALSE()),#N/A,AC15/AD15)","v":{"$error":"#N/A"}},"",{"$f":"IF(Indtastning!AA27=\"\",\"\",Indtastning!AA27)","v":""},{"$f":"IF(Indtastning!AB27=\"\",\"\",Indtastning!AB27)","v":""},{"$f":"IF(OR(AH15=\"\",AH15=0,Skjulte_Indstillinger!$B$8=FALSE()),#N/A,AG15/AH15)","v":{"$error":"#N/A"}},"",{"$f":"IF(Indtastning!AD27=\"\",\"\",Indtastning!AD27)","v":""},{"$f":"IF(Indtastning!AE27=\"\",\"\",Indtastning!AE27)","v":""},{"$f":"IF(OR(AL15=\"\",AL15=0,Skjulte_Indstillinger!$B$9=FALSE()),#N/A,AK15/AL15)","v":{"$error":"#N/A"}},"",{"$f":"IF(Indtastning!AG27=\"\",\"\",Indtastning!AG27)","v":""},{"$f":"IF(Indtastning!AH27=\"\",\"\",Indtastning!AH27)","v":""},{"$f":"IF(OR(AP15=\"\",AP15=0,Skjulte_Indstillinger!$B$10=FALSE()),#N/A,AO15/AP15)","v":{"$error":"#N/A"}},"",{"$f":"IF(Indtastning!G27=\"\",#N/A,Indtastning!G27)","v":{"$error":"#N/A"}},{"$error":"#N/A"},{"$f":"_xlfn.AGGREGATE(3,3,$AS$6:$AS15)","v":0},0,0,0,0,0,0,0,"","",{"$error":"#N/A"},{"$error":"#N/A"},{"$error":"#N/A"},{"$error":"#N/A"},0,"","","","",0,0,0,"",{"$error":"#N/A"},{"$error":"#N/A"},{"$f":"IF(AND(H15<>\"\",H16=\"\",OR(Skjulte_Indstillinger!$B$2,Skjulte_Indstillinger!$B$3,Skjulte_Indstillinger!$B$4,Skjulte_Indstillinger!$B$5,Skjulte_Indstillinger!$B$6,Skjulte_Indstillinger!$B$7,Skjulte_Indstillinger!$B$8,Skjulte_Indstillinger!$B$9,Skjulte_Indstillinger!$B$10)),H15,NA())","v":{"$error":"#N/A"}},{"$f":"IF(AND(L15<>\"\",L16=\"\",Skjulte_Indstillinger!$B$2),L15,NA())","v":{"$error":"#N/A"}},{"$f":"IF(AND(P15<>\"\",P16=\"\",Skjulte_Indstillinger!$B$3),P15,NA())","v":{"$error":"#N/A"}},{"$f":"IF(AND(T15<>\"\",T16=\"\",Skjulte_Indstillinger!$B$4),T15,NA())","v":{"$error":"#N/A"}},{"$f":"IF(AND(X15<>\"\",X16=\"\",Skjulte_Indstillinger!$B$5),X15,NA())","v":{"$error":"#N/A"}},{"$f":"IF(AND(AB15<>\"\",AB16=\"\",Skjulte_Indstillinger!$B$6),AB15,NA())","v":{"$error":"#N/A"}},{"$f":"IF(AND(AF15<>\"\",AF16=\"\",Skjulte_Indstillinger!$B$7),AF15,NA())","v":{"$error":"#N/A"}},{"$f":"IF(AND(AJ15<>\"\",AJ16=\"\",Skjulte_Indstillinger!$B$8),AJ15,NA())","v":{"$error":"#N/A"}},{"$f":"IF(AND(AN15<>\"\",AN16=\"\",Skjulte_Indstillinger!$B$9),AN15,NA())","v":{"$error":"#N/A"}},{"$f":"IF(AND(AR15<>\"\",AR16=\"\",Skjulte_Indstillinger!$B$10),AR15,NA())","v":{"$error":"#N/A"}}]
["",{"$f":"IF(Indtastning!B28=\"\",\"\",Indtastning!B28)","v":""},{"$f":"CELL(\"format\",Indtastning!B28)","v":"G"},"",{"$f":"IF(Indtastning!D28=\"\",\"\",Indtastning!D28)","v":""},{"$f":"IF(Indtastning!E28=\"\",\"\",Indtastning!E28)","v":""},{"$error":"#N/A"},"",{"$f":"IF(Indtastning!I28=\"\",\"\",Indtastning!I28)","v":""},{"$f":"IF(Indtastning!J28=\"\",\"\",Indtastning!J28)","v":""},{"$f":"IF(OR(J16=\"\",J16=0,Skjulte_Indstillinger!$B$2=FALSE()),#N/A,I16/J16)","v":{"$error":"#N/A"}},"",{"$f":"IF(Indtastning!L28=\"\",\"\",Indtastning!L28)","v":""},{"$f":"IF(Indtastning!M28=\"\",\"\",Indtastning!M28)","v":""},{"$f":"IF(OR(N16=\"\",N16=0,Skjulte_Indstillinger!$B$3=FALSE()),#N/A,M16/N16)","v":{"$error":"#N/A"}},"",{"$f":"IF(Indtastning!O28=\"\",\"\",Indtastning!O28)","v":""},{"$f":"IF(Indtastning!P28=\"\",\"\",Indtastning!P28)","v":""},{"$f":"IF(OR(R16=\"\",R16=0,Skjulte_Indstillinger!$B$4=FALSE()),#N/A,Q16/R16)","v":{"$error":"#N/A"}},"",{"$f":"IF(Indtastning!R28=\"\",\"\",Indtastning!R28)","v":""},{"$f":"IF(Indtastning!S28=\"\",\"\",Indtastning!S28)","v":""},{"$f":"IF(OR(V16=\"\",V16=0,Skjulte_Indstillinger!$B$5=FALSE()),#N/A,U16/V16)","v":{"$error":"#N/A"}},"",{"$f":"IF(Indtastning!U28=\"\",\"\",Indtastning!U28)","v":""},{"$f":"IF(Indtastning!V28=\"\",\"\",Indtastning!V28)","v":""},{"$f":"IF(OR(Z16=\"\",Z16=0,Skjulte_Indstillinger!$B$6=FALSE()),#N/A,Y16/Z16)","v":{"$error":"#N/A"}},"",{"$f":"IF(Indtastning!X28=\"\",\"\",Indtastning!X28)","v":""},{"$f":"IF(Indtastning!Y28=\"\",\"\",Indtastning!Y28)","v":""},{"$f":"IF(OR(AD16=\"\",AD16=0,Skjulte_Indstillinger!$B$7=FALSE()),#N/A,AC16/AD16)","v":{"$error":"#N/A"}},"",{"$f":"IF(Indtastning!AA28=\"\",\"\",Indtastning!AA28)","v":""},{"$f":"IF(Indtastning!AB28=\"\",\"\",Indtastning!AB28)","v":""},{"$f":"IF(OR(AH16=\"\",AH16=0,Skjulte_Indstillinger!$B$8=FALSE()),#N/A,AG16/AH16)","v":{"$error":"#N/A"}},"",{"$f":"IF(Indtastning!AD28=\"\",\"\",Indtastning!AD28)","v":""},{"$f":"IF(Indtastning!AE28=\"\",\"\",Indtastning!AE28)","v":""},{"$f":"IF(OR(AL16=\"\",AL16=0,Skjulte_Indstillinger!$B$9=FALSE()),#N/A,AK16/AL16)","v":{"$error":"#N/A"}},"",{"$f":"IF(Indtastning!AG28=\"\",\"\",Indtastning!AG28)","v":""},{"$f":"IF(Indtastning!AH28=\"\",\"\",Indtastning!AH28)","v":""},{"$f":"IF(OR(AP16=\"\",AP16=0,Skjulte_Indstillinger!$B$10=FALSE()),#N/A,AO16/AP16)","v":{"$error":"#N/A"}},"",{"$f":"IF(Indtastning!G28=\"\",#N/A,Indtastning!G28)","v":{"$error":"#N/A"}},{"$error":"#N/A"},{"$f":"_xlfn.AGGREGATE(3,3,$AS$6:$AS16)","v":0},0,0,0,0,0,0,0,"","",{"$error":"#N/A"},{"$error":"#N/A"},{"$error":"#N/A"},{"$error":"#N/A"},0,"","","","",0,0,0,"",{"$error":"#N/A"},{"$error":"#N/A"},{"$f":"IF(AND(H16<>\"\",H17=\"\",OR(Skjulte_Indstillinger!$B$2,Skjulte_Indstillinger!$B$3,Skjulte_Indstillinger!$B$4,Skjulte_Indstillinger!$B$5,Skjulte_Indstillinger!$B$6,Skjulte_Indstillinger!$B$7,Skjulte_Indstillinger!$B$8,Skjulte_Indstillinger!$B$9,Skjulte_Indstillinger!$B$10)),H16,NA())","v":{"$error":"#N/A"}},{"$f":"IF(AND(L16<>\"\",L17=\"\",Skjulte_Indstillinger!$B$2),L16,NA())","v":{"$error":"#N/A"}},{"$f":"IF(AND(P16<>\"\",P17=\"\",Skjulte_Indstillinger!$B$3),P16,NA())","v":{"$error":"#N/A"}},{"$f":"IF(AND(T16<>\"\",T17=\"\",Skjulte_Indstillinger!$B$4),T16,NA())","v":{"$error":"#N/A"}},{"$f":"IF(AND(X16<>\"\",X17=\"\",Skjulte_Indstillinger!$B$5),X16,NA())","v":{"$error":"#N/A"}},{"$f":"IF(AND(AB16<>\"\",AB17=\"\",Skjulte_Indstillinger!$B$6),AB16,NA())","v":{"$error":"#N/A"}},{"$f":"IF(AND(AF16<>\"\",AF17=\"\",Skjulte_Indstillinger!$B$7),AF16,NA())","v":{"$error":"#N/A"}},{"$f":"IF(AND(AJ16<>\"\",AJ17=\"\",Skjulte_Indstillinger!$B$8),AJ16,NA())","v":{"$error":"#N/A"}},{"$f":"IF(AND(AN16<>\"\",AN17=\"\",Skjulte_Indstillinger!$B$9),AN16,NA())","v":{"$error":"#N/A"}},{"$f":"IF(AND(AR16<>\"\",AR17=\"\",Skjulte_Indstillinger!$B$10),AR16,NA())","v":{"$error":"#N/A"}}]
["",{"$f":"IF(Indtastning!B29=\"\",\"\",Indtastning!B29)","v":""},{"$f":"CELL(\"format\",Indtastning!B29)","v":"G"},"",{"$f":"IF(Indtastning!D29=\"\",\"\",Indtastning!D29)","v":""},{"$f":"IF(Indtastning!E29=\"\",\"\",Indtastning!E29)","v":""},{"$error":"#N/A"},"",{"$f":"IF(Indtastning!I29=\"\",\"\",Indtastning!I29)","v":""},{"$f":"IF(Indtastning!J29=\"\",\"\",Indtastning!J29)","v":""},{"$f":"IF(OR(J17=\"\",J17=0,Skjulte_Indstillinger!$B$2=FALSE()),#N/A,I17/J17)","v":{"$error":"#N/A"}},"",{"$f":"IF(Indtastning!L29=\"\",\"\",Indtastning!L29)","v":""},{"$f":"IF(Indtastning!M29=\"\",\"\",Indtastning!M29)","v":""},{"$f":"IF(OR(N17=\"\",N17=0,Skjulte_Indstillinger!$B$3=FALSE()),#N/A,M17/N17)","v":{"$error":"#N/A"}},"",{"$f":"IF(Indtastning!O29=\"\",\"\",Indtastning!O29)","v":""},{"$f":"IF(Indtastning!P29=\"\",\"\",Indtastning!P29)","v":""},{"$f":"IF(OR(R17=\"\",R17=0,Skjulte_Indstillinger!$B$4=FALSE()),#N/A,Q17/R17)","v":{"$error":"#N/A"}},"",{"$f":"IF(Indtastning!R29=\"\",\"\",Indtastning!R29)","v":""},{"$f":"IF(Indtastning!S29=\"\",\"\",Indtastning!S29)","v":""},{"$f":"IF(OR(V17=\"\",V17=0,Skjulte_Indstillinger!$B$5=FALSE()),#N/A,U17/V17)","v":{"$error":"#N/A"}},"",{"$f":"IF(Indtastning!U29=\"\",\"\",Indtastning!U29)","v":""},{"$f":"IF(Indtastning!V29=\"\",\"\",Indtastning!V29)","v":""},{"$f":"IF(OR(Z17=\"\",Z17=0,Skjulte_Indstillinger!$B$6=FALSE()),#N/A,Y17/Z17)","v":{"$error":"#N/A"}},"",{"$f":"IF(Indtastning!X29=\"\",\"\",Indtastning!X29)","v":""},{"$f":"IF(Indtastning!Y29=\"\",\"\",Indtastning!Y29)","v":""},{"$f":"IF(OR(AD17=\"\",AD17=0,Skjulte_Indstillinger!$B$7=FALSE()),#N/A,AC17/AD17)","v":{"$error":"#N/A"}},"",{"$f":"IF(Indtastning!AA29=\"\",\"\",Indtastning!AA29)","v":""},{"$f":"IF(Indtastning!AB29=\"\",\"\",Indtastning!AB29)","v":""},{"$f":"IF(OR(AH17=\"\",AH17=0,Skjulte_Indstillinger!$B$8=FALSE()),#N/A,AG17/AH17)","v":{"$error":"#N/A"}},"",{"$f":"IF(Indtastning!AD29=\"\",\"\",Indtastning!AD29)","v":""},{"$f":"IF(Indtastning!AE29=\"\",\"\",Indtastning!AE29)","v":""},{"$f":"IF(OR(AL17=\"\",AL17=0,Skjulte_Indstillinger!$B$9=FALSE()),#N/A,AK17/AL17)","v":{"$error":"#N/A"}},"",{"$f":"IF(Indtastning!AG29=\"\",\"\",Indtastning!AG29)","v":""},{"$f":"IF(Indtastning!AH29=\"\",\"\",Indtastning!AH29)","v":""},{"$f":"IF(OR(AP17=\"\",AP17=0,Skjulte_Indstillinger!$B$10=FALSE()),#N/A,AO17/AP17)","v":{"$error":"#N/A"}},"",{"$f":"IF(Indtastning!G29=\"\",#N/A,Indtastning!G29)","v":{"$error":"#N/A"}},{"$error":"#N/A"},{"$f":"_xlfn.AGGREGATE(3,3,$AS$6:$AS17)","v":0},0,0,0,0,0,0,0,"","",{"$error":"#N/A"},{"$error":"#N/A"},{"$error":"#N/A"},{"$error":"#N/A"},0,"","","","",0,0,0,"",{"$error":"#N/A"},{"$error":"#N/A"},{"$f":"IF(AND(H17<>\"\",H18=\"\",OR(Skjulte_Indstillinger!$B$2,Skjulte_Indstillinger!$B$3,Skjulte_Indstillinger!$B$4,Skjulte_Indstillinger!$B$5,Skjulte_Indstillinger!$B$6,Skjulte_Indstillinger!$B$7,Skjulte_Indstillinger!$B$8,Skjulte_Indstillinger!$B$9,Skjulte_Indstillinger!$B$10)),H17,NA())","v":{"$error":"#N/A"}},{"$f":"IF(AND(L17<>\"\",L18=\"\",Skjulte_Indstillinger!$B$2),L17,NA())","v":{"$error":"#N/A"}},{"$f":"IF(AND(P17<>\"\",P18=\"\",Skjulte_Indstillinger!$B$3),P17,NA())","v":{"$error":"#N/A"}},{"$f":"IF(AND(T17<>\"\",T18=\"\",Skjulte_Indstillinger!$B$4),T17,NA())","v":{"$error":"#N/A"}},{"$f":"IF(AND(X17<>\"\",X18=\"\",Skjulte_Indstillinger!$B$5),X17,NA())","v":{"$error":"#N/A"}},{"$f":"IF(AND(AB17<>\"\",AB18=\"\",Skjulte_Indstillinger!$B$6),AB17,NA())","v":{"$error":"#N/A"}},{"$f":"IF(AND(AF17<>\"\",AF18=\"\",Skjulte_Indstillinger!$B$7),AF17,NA())","v":{"$error":"#N/A"}},{"$f":"IF(AND(AJ17<>\"\",AJ18=\"\",Skjulte_Indstillinger!$B$8),AJ17,NA())","v":{"$error":"#N/A"}},{"$f":"IF(AND(AN17<>\"\",AN18=\"\",Skjulte_Indstillinger!$B$9),AN17,NA())","v":{"$error":"#N/A"}},{"$f":"IF(AND(AR17<>\"\",AR18=\"\",Skjulte_Indstillinger!$B$10),AR17,NA())","v":{"$error":"#N/A"}}]
["",{"$f":"IF(Indtastning!B30=\"\",\"\",Indtastning!B30)","v":""},{"$f":"CELL(\"format\",Indtastning!B30)","v":"G"},"",{"$f":"IF(Indtastning!D30=\"\",\"\",Indtastning!D30)","v":""},{"$f":"IF(Indtastning!E30=\"\",\"\",Indtastning!E30)","v":""},{"$error":"#N/A"},"",{"$f":"IF(Indtastning!I30=\"\",\"\",Indtastning!I30)","v":""},{"$f":"IF(Indtastning!J30=\"\",\"\",Indtastning!J30)","v":""},{"$f":"IF(OR(J18=\"\",J18=0,Skjulte_Indstillinger!$B$2=FALSE()),#N/A,I18/J18)","v":{"$error":"#N/A"}},"",{"$f":"IF(Indtastning!L30=\"\",\"\",Indtastning!L30)","v":""},{"$f":"IF(Indtastning!M30=\"\",\"\",Indtastning!M30)","v":""},{"$f":"IF(OR(N18=\"\",N18=0,Skjulte_Indstillinger!$B$3=FALSE()),#N/A,M18/N18)","v":{"$error":"#N/A"}},"",{"$f":"IF(Indtastning!O30=\"\",\"\",Indtastning!O30)","v":""},{"$f":"IF(Indtastning!P30=\"\",\"\",Indtastning!P30)","v":""},{"$f":"IF(OR(R18=\"\",R18=0,Skjulte_Indstillinger!$B$4=FALSE()),#N/A,Q18/R18)","v":{"$error":"#N/A"}},"",{"$f":"IF(Indtastning!R30=\"\",\"\",Indtastning!R30)","v":""},{"$f":"IF(Indtastning!S30=\"\",\"\",Indtastning!S30)","v":""},{"$f":"IF(OR(V18=\"\",V18=0,Skjulte_Indstillinger!$B$5=FALSE()),#N/A,U18/V18)","v":{"$error":"#N/A"}},"",{"$f":"IF(Indtastning!U30=\"\",\"\",Indtastning!U30)","v":""},{"$f":"IF(Indtastning!V30=\"\",\"\",Indtastning!V30)","v":""},{"$f":"IF(OR(Z18=\"\",Z18=0,Skjulte_Indstillinger!$B$6=FALSE()),#N/A,Y18/Z18)","v":{"$error":"#N/A"}},"",{"$f":"IF(Indtastning!X30=\"\",\"\",Indtastning!X30)","v":""},{"$f":"IF(Indtastning!Y30=\"\",\"\",Indtastning!Y30)","v":""},{"$f":"IF(OR(AD18=\"\",AD18=0,Skjulte_Indstillinger!$B$7=FALSE()),#N/A,AC18/AD18)","v":{"$error":"#N/A"}},"",{"$f":"IF(Indtastning!AA30=\"\",\"\",Indtastning!AA30)","v":""},{"$f":"IF(Indtastning!AB30=\"\",\"\",Indtastning!AB30)","v":""},{"$f":"IF(OR(AH18=\"\",AH18=0,Skjulte_Indstillinger!$B$8=FALSE()),#N/A,AG18/AH18)","v":{"$error":"#N/A"}},"",{"$f":"IF(Indtastning!AD30=\"\",\"\",Indtastning!AD30)","v":""},{"$f":"IF(Indtastning!AE30=\"\",\"\",Indtastning!AE30)","v":""},{"$f":"IF(OR(AL18=\"\",AL18=0,Skjulte_Indstillinger!$B$9=FALSE()),#N/A,AK18/AL18)","v":{"$error":"#N/A"}},"",{"$f":"IF(Indtastning!AG30=\"\",\"\",Indtastning!AG30)","v":""},{"$f":"IF(Indtastning!AH30=\"\",\"\",Indtastning!AH30)","v":""},{"$f":"IF(OR(AP18=\"\",AP18=0,Skjulte_Indstillinger!$B$10=FALSE()),#N/A,AO18/AP18)","v":{"$error":"#N/A"}},"",{"$f":"IF(Indtastning!G30=\"\",#N/A,Indtastning!G30)","v":{"$error":"#N/A"}},{"$error":"#N/A"},{"$f":"_xlfn.AGGREGATE(3,3,$AS$6:$AS18)","v":0},0,0,0,0,0,0,0,"","",{"$error":"#N/A"},{"$error":"#N/A"},{"$error":"#N/A"},{"$error":"#N/A"},0,"","","","",0,0,0,"",{"$error":"#N/A"},{"$error":"#N/A"},{"$f":"IF(AND(H18<>\"\",H19=\"\",OR(Skjulte_Indstillinger!$B$2,Skjulte_Indstillinger!$B$3,Skjulte_Indstillinger!$B$4,Skjulte_Indstillinger!$B$5,Skjulte_Indstillinger!$B$6,Skjulte_Indstillinger!$B$7,Skjulte_Indstillinger!$B$8,Skjulte_Indstillinger!$B$9,Skjulte_Indstillinger!$B$10)),H18,NA())","v":{"$error":"#N/A"}},{"$f":"IF(AND(L18<>\"\",L19=\"\",Skjulte_Indstillinger!$B$2),L18,NA())","v":{"$error":"#N/A"}},{"$f":"IF(AND(P18<>\"\",P19=\"\",Skjulte_Indstillinger!$B$3),P18,NA())","v":{"$error":"#N/A"}},{"$f":"IF(AND(T18<>\"\",T19=\"\",Skjulte_Indstillinger!$B$4),T18,NA())","v":{"$error":"#N/A"}},{"$f":"IF(AND(X18<>\"\",X19=\"\",Skjulte_Indstillinger!$B$5),X18,NA())","v":{"$error":"#N/A"}},{"$f":"IF(AND(AB18<>\"\",AB19=\"\",Skjulte_Indstillinger!$B$6),AB18,NA())","v":{"$error":"#N/A"}},{"$f":"IF(AND(AF18<>\"\",AF19=\"\",Skjulte_Indstillinger!$B$7),AF18,NA())","v":{"$error":"#N/A"}},{"$f":"IF(AND(AJ18<>\"\",AJ19=\"\",Skjulte_Indstillinger!$B$8),AJ18,NA())","v":{"$error":"#N/A"}},{"$f":"IF(AND(AN18<>\"\",AN19=\"\",Skjulte_Indstillinger!$B$9),AN18,NA())","v":{"$error":"#N/A"}},{"$f":"IF(AND(AR18<>\"\",AR19=\"\",Skjulte_Indstillinger!$B$10),AR18,NA())","v":{"$error":"#N/A"}}]
["",{"$f":"IF(Indtastning!B31=\"\",\"\",Indtastning!B31)","v":""},{"$f":"CELL(\"format\",Indtastning!B31)","v":"G"},"",{"$f":"IF(Indtastning!D31=\"\",\"\",Indtastning!D31)","v":""},{"$f":"IF(Indtastning!E31=\"\",\"\",Indtastning!E31)","v":""},{"$error":"#N/A"},"",{"$f":"IF(Indtastning!I31=\"\",\"\",Indtastning!I31)","v":""},{"$f":"IF(Indtastning!J31=\"\",\"\",Indtastning!J31)","v":""},{"$f":"IF(OR(J19=\"\",J19=0,Skjulte_Indstillinger!$B$2=FALSE()),#N/A,I19/J19)","v":{"$error":"#N/A"}},"",{"$f":"IF(Indtastning!L31=\"\",\"\",Indtastning!L31)","v":""},{"$f":"IF(Indtastning!M31=\"\",\"\",Indtastning!M31)","v":""},{"$f":"IF(OR(N19=\"\",N19=0,Skjulte_Indstillinger!$B$3=FALSE()),#N/A,M19/N19)","v":{"$error":"#N/A"}},"",{"$f":"IF(Indtastning!O31=\"\",\"\",Indtastning!O31)","v":""},{"$f":"IF(Indtastning!P31=\"\",\"\",Indtastning!P31)","v":""},{"$f":"IF(OR(R19=\"\",R19=0,Skjulte_Indstillinger!$B$4=FALSE()),#N/A,Q19/R19)","v":{"$error":"#N/A"}},"",{"$f":"IF(Indtastning!R31=\"\",\"\",Indtastning!R31)","v":""},{"$f":"IF(Indtastning!S31=\"\",\"\",Indtastning!S31)","v":""},{"$f":"IF(OR(V19=\"\",V19=0,Skjulte_Indstillinger!$B$5=FALSE()),#N/A,U19/V19)","v":{"$error":"#N/A"}},"",{"$f":"IF(Indtastning!U31=\"\",\"\",Indtastning!U31)","v":""},{"$f":"IF(Indtastning!V31=\"\",\"\",Indtastning!V31)","v":""},{"$f":"IF(OR(Z19=\"\",Z19=0,Skjulte_Indstillinger!$B$6=FALSE()),#N/A,Y19/Z19)","v":{"$error":"#N/A"}},"",{"$f":"IF(Indtastning!X31=\"\",\"\",Indtastning!X31)","v":""},{"$f":"IF(Indtastning!Y31=\"\",\"\",Indtastning!Y31)","v":""},{"$f":"IF(OR(AD19=\"\",AD19=0,Skjulte_Indstillinger!$B$7=FALSE()),#N/A,AC19/AD19)","v":{"$error":"#N/A"}},"",{"$f":"IF(Indtastning!AA31=\"\",\"\",Indtastning!AA31)","v":""},{"$f":"IF(Indtastning!AB31=\"\",\"\",Indtastning!AB31)","v":""},{"$f":"IF(OR(AH19=\"\",AH19=0,Skjulte_Indstillinger!$B$8=FALSE()),#N/A,AG19/AH19)","v":{"$error":"#N/A"}},"",{"$f":"IF(Indtastning!AD31=\"\",\"\",Indtastning!AD31)","v":""},{"$f":"IF(Indtastning!AE31=\"\",\"\",Indtastning!AE31)","v":""},{"$f":"IF(OR(AL19=\"\",AL19=0,Skjulte_Indstillinger!$B$9=FALSE()),#N/A,AK19/AL19)","v":{"$error":"#N/A"}},"",{"$f":"IF(Indtastning!AG31=\"\",\"\",Indtastning!AG31)","v":""},{"$f":"IF(Indtastning!AH31=\"\",\"\",Indtastning!AH31)","v":""},{"$f":"IF(OR(AP19=\"\",AP19=0,Skjulte_Indstillinger!$B$10=FALSE()),#N/A,AO19/AP19)","v":{"$error":"#N/A"}},"",{"$f":"IF(Indtastning!G31=\"\",#N/A,Indtastning!G31)","v":{"$error":"#N/A"}},{"$error":"#N/A"},{"$f":"_xlfn.AGGREGATE(3,3,$AS$6:$AS19)","v":0},0,0,0,0,0,0,0,"","",{"$error":"#N/A"},{"$error":"#N/A"},{"$error":"#N/A"},{"$error":"#N/A"},0,"","","","",0,0,0,"",{"$error":"#N/A"},{"$error":"#N/A"},{"$f":"IF(AND(H19<>\"\",H20=\"\",OR(Skjulte_Indstillinger!$B$2,Skjulte_Indstillinger!$B$3,Skjulte_Indstillinger!$B$4,Skjulte_Indstillinger!$B$5,Skjulte_Indstillinger!$B$6,Skjulte_Indstillinger!$B$7,Skjulte_Indstillinger!$B$8,Skjulte_Indstillinger!$B$9,Skjulte_Indstillinger!$B$10)),H19,NA())","v":{"$error":"#N/A"}},{"$f":"IF(AND(L19<>\"\",L20=\"\",Skjulte_Indstillinger!$B$2),L19,NA())","v":{"$error":"#N/A"}},{"$f":"IF(AND(P19<>\"\",P20=\"\",Skjulte_Indstillinger!$B$3),P19,NA())","v":{"$error":"#N/A"}},{"$f":"IF(AND(T19<>\"\",T20=\"\",Skjulte_Indstillinger!$B$4),T19,NA())","v":{"$error":"#N/A"}},{"$f":"IF(AND(X19<>\"\",X20=\"\",Skjulte_Indstillinger!$B$5),X19,NA())","v":{"$error":"#N/A"}},{"$f":"IF(AND(AB19<>\"\",AB20=\"\",Skjulte_Indstillinger!$B$6),AB19,NA())","v":{"$error":"#N/A"}},{"$f":"IF(AND(AF19<>\"\",AF20=\"\",Skjulte_Indstillinger!$B$7),AF19,NA())","v":{"$error":"#N/A"}},{"$f":"IF(AND(AJ19<>\"\",AJ20=\"\",Skjulte_Indstillinger!$B$8),AJ19,NA())","v":{"$error":"#N/A"}},{"$f":"IF(AND(AN19<>\"\",AN20=\"\",Skjulte_Indstillinger!$B$9),AN19,NA())","v":{"$error":"#N/A"}},{"$f":"IF(AND(AR19<>\"\",AR20=\"\",Skjulte_Indstillinger!$B$10),AR19,NA())","v":{"$error":"#N/A"}}]
["",{"$f":"IF(Indtastning!B32=\"\",\"\",Indtastning!B32)","v":""},{"$f":"CELL(\"format\",Indtastning!B32)","v":"G"},"",{"$f":"IF(Indtastning!D32=\"\",\"\",Indtastning!D32)","v":""},{"$f":"IF(Indtastning!E32=\"\",\"\",Indtastning!E32)","v":""},{"$error":"#N/A"},"",{"$f":"IF(Indtastning!I32=\"\",\"\",Indtastning!I32)","v":""},{"$f":"IF(Indtastning!J32=\"\",\"\",Indtastning!J32)","v":""},{"$f":"IF(OR(J20=\"\",J20=0,Skjulte_Indstillinger!$B$2=FALSE()),#N/A,I20/J20)","v":{"$error":"#N/A"}},"",{"$f":"IF(Indtastning!L32=\"\",\"\",Indtastning!L32)","v":""},{"$f":"IF(Indtastning!M32=\"\",\"\",Indtastning!M32)","v":""},{"$f":"IF(OR(N20=\"\",N20=0,Skjulte_Indstillinger!$B$3=FALSE()),#N/A,M20/N20)","v":{"$error":"#N/A"}},"",{"$f":"IF(Indtastning!O32=\"\",\"\",Indtastning!O32)","v":""},{"$f":"IF(Indtastning!P32=\"\",\"\",Indtastning!P32)","v":""},{"$f":"IF(OR(R20=\"\",R20=0,Skjulte_Indstillinger!$B$4=FALSE()),#N/A,Q20/R20)","v":{"$error":"#N/A"}},"",{"$f":"IF(Indtastning!R32=\"\",\"\",Indtastning!R32)","v":""},{"$f":"IF(Indtastning!S32=\"\",\"\",Indtastning!S32)","v":""},{"$f":"IF(OR(V20=\"\",V20=0,Skjulte_Indstillinger!$B$5=FALSE()),#N/A,U20/V20)","v":{"$error":"#N/A"}},"",{"$f":"IF(Indtastning!U32=\"\",\"\",Indtastning!U32)","v":""},{"$f":"IF(Indtastning!V32=\"\",\"\",Indtastning!V32)","v":""},{"$f":"IF(OR(Z20=\"\",Z20=0,Skjulte_Indstillinger!$B$6=FALSE()),#N/A,Y20/Z20)","v":{"$error":"#N/A"}},"",{"$f":"IF(Indtastning!X32=\"\",\"\",Indtastning!X32)","v":""},{"$f":"IF(Indtastning!Y32=\"\",\"\",Indtastning!Y32)","v":""},{"$f":"IF(OR(AD20=\"\",AD20=0,Skjulte_Indstillinger!$B$7=FALSE()),#N/A,AC20/AD20)","v":{"$error":"#N/A"}},"",{"$f":"IF(Indtastning!AA32=\"\",\"\",Indtastning!AA32)","v":""},{"$f":"IF(Indtastning!AB32=\"\",\"\",Indtastning!AB32)","v":""},{"$f":"IF(OR(AH20=\"\",AH20=0,Skjulte_Indstillinger!$B$8=FALSE()),#N/A,AG20/AH20)","v":{"$error":"#N/A"}},"",{"$f":"IF(Indtastning!AD32=\"\",\"\",Indtastning!AD32)","v":""},{"$f":"IF(Indtastning!AE32=\"\",\"\",Indtastning!AE32)","v":""},{"$f":"IF(OR(AL20=\"\",AL20=0,Skjulte_Indstillinger!$B$9=FALSE()),#N/A,AK20/AL20)","v":{"$error":"#N/A"}},"",{"$f":"IF(Indtastning!AG32=\"\",\"\",Indtastning!AG32)","v":""},{"$f":"IF(Indtastning!AH32=\"\",\"\",Indtastning!AH32)","v":""},{"$f":"IF(OR(AP20=\"\",AP20=0,Skjulte_Indstillinger!$B$10=FALSE()),#N/A,AO20/AP20)","v":{"$error":"#N/A"}},"",{"$f":"IF(Indtastning!G32=\"\",#N/A,Indtastning!G32)","v":{"$error":"#N/A"}},{"$error":"#N/A"},{"$f":"_xlfn.AGGREGATE(3,3,$AS$6:$AS20)","v":0},0,0,0,0,0,0,0,"","",{"$error":"#N/A"},{"$error":"#N/A"},{"$error":"#N/A"},{"$error":"#N/A"},0,"","","","",0,0,0,"",{"$error":"#N/A"},{"$error":"#N/A"},{"$f":"IF(AND(H20<>\"\",H21=\"\",OR(Skjulte_Indstillinger!$B$2,Skjulte_Indstillinger!$B$3,Skjulte_Indstillinger!$B$4,Skjulte_Indstillinger!$B$5,Skjulte_Indstillinger!$B$6,Skjulte_Indstillinger!$B$7,Skjulte_Indstillinger!$B$8,Skjulte_Indstillinger!$B$9,Skjulte_Indstillinger!$B$10)),H20,NA())","v":{"$error":"#N/A"}},{"$f":"IF(AND(L20<>\"\",L21=\"\",Skjulte_Indstillinger!$B$2),L20,NA())","v":{"$error":"#N/A"}},{"$f":"IF(AND(P20<>\"\",P21=\"\",Skjulte_Indstillinger!$B$3),P20,NA())","v":{"$error":"#N/A"}},{"$f":"IF(AND(T20<>\"\",T21=\"\",Skjulte_Indstillinger!$B$4),T20,NA())","v":{"$error":"#N/A"}},{"$f":"IF(AND(X20<>\"\",X21=\"\",Skjulte_Indstillinger!$B$5),X20,NA())","v":{"$error":"#N/A"}},{"$f":"IF(AND(AB20<>\"\",AB21=\"\",Skjulte_Indstillinger!$B$6),AB20,NA())","v":{"$error":"#N/A"}},{"$f":"IF(AND(AF20<>\"\",AF21=\"\",Skjulte_Indstillinger!$B$7),AF20,NA())","v":{"$error":"#N/A"}},{"$f":"IF(AND(AJ20<>\"\",AJ21=\"\",Skjulte_Indstillinger!$B$8),AJ20,NA())","v":{"$error":"#N/A"}},{"$f":"IF(AND(AN20<>\"\",AN21=\"\",Skjulte_Indstillinger!$B$9),AN20,NA())","v":{"$error":"#N/A"}},{"$f":"IF(AND(AR20<>\"\",AR21=\"\",Skjulte_Indstillinger!$B$10),AR20,NA())","v":{"$error":"#N/A"}}]
["",{"$f":"IF(Indtastning!B33=\"\",\"\",Indtastning!B33)","v":""},{"$f":"CELL(\"format\",Indtastning!B33)","v":"G"},"",{"$f":"IF(Indtastning!D33=\"\",\"\",Indtastning!D33)","v":""},{"$f":"IF(Indtastning!E33=\"\",\"\",Indtastning!E33)","v":""},{"$error":"#N/A"},"",{"$f":"IF(Indtastning!I33=\"\",\"\",Indtastning!I33)","v":""},{"$f":"IF(Indtastning!J33=\"\",\"\",Indtastning!J33)","v":""},{"$f":"IF(OR(J21=\"\",J21=0,Skjulte_Indstillinger!$B$2=FALSE()),#N/A,I21/J21)","v":{"$error":"#N/A"}},"",{"$f":"IF(Indtastning!L33=\"\",\"\",Indtastning!L33)","v":""},{"$f":"IF(Indtastning!M33=\"\",\"\",Indtastning!M33)","v":""},{"$f":"IF(OR(N21=\"\",N21=0,Skjulte_Indstillinger!$B$3=FALSE()),#N/A,M21/N21)","v":{"$error":"#N/A"}},"",{"$f":"IF(Indtastning!O33=\"\",\"\",Indtastning!O33)","v":""},{"$f":"IF(Indtastning!P33=\"\",\"\",Indtastning!P33)","v":""},{"$f":"IF(OR(R21=\"\",R21=0,Skjulte_Indstillinger!$B$4=FALSE()),#N/A,Q21/R21)","v":{"$error":"#N/A"}},"",{"$f":"IF(Indtastning!R33=\"\",\"\",Indtastning!R33)","v":""},{"$f":"IF(Indtastning!S33=\"\",\"\",Indtastning!S33)","v":""},{"$f":"IF(OR(V21=\"\",V21=0,Skjulte_Indstillinger!$B$5=FALSE()),#N/A,U21/V21)","v":{"$error":"#N/A"}},"",{"$f":"IF(Indtastning!U33=\"\",\"\",Indtastning!U33)","v":""},{"$f":"IF(Indtastning!V33=\"\",\"\",Indtastning!V33)","v":""},{"$f":"IF(OR(Z21=\"\",Z21=0,Skjulte_Indstillinger!$B$6=FALSE()),#N/A,Y21/Z21)","v":{"$error":"#N/A"}},"",{"$f":"IF(Indtastning!X33=\"\",\"\",Indtastning!X33)","v":""},{"$f":"IF(Indtastning!Y33=\"\",\"\",Indtastning!Y33)","v":""},{"$f":"IF(OR(AD21=\"\",AD21=0,Skjulte_Indstillinger!$B$7=FALSE()),#N/A,AC21/AD21)","v":{"$error":"#N/A"}},"",{"$f":"IF(Indtastning!AA33=\"\",\"\",Indtastning!AA33)","v":""},{"$f":"IF(Indtastning!AB33=\"\",\"\",Indtastning!AB33)","v":""},{"$f":"IF(OR(AH21=\"\",AH21=0,Skjulte_Indstillinger!$B$8=FALSE()),#N/A,AG21/AH21)","v":{"$error":"#N/A"}},"",{"$f":"IF(Indtastning!AD33=\"\",\"\",Indtastning!AD33)","v":""},{"$f":"IF(Indtastning!AE33=\"\",\"\",Indtastning!AE33)","v":""},{"$f":"IF(OR(AL21=\"\",AL21=0,Skjulte_Indstillinger!$B$9=FALSE()),#N/A,AK21/AL21)","v":{"$error":"#N/A"}},"",{"$f":"IF(Indtastning!AG33=\"\",\"\",Indtastning!AG33)","v":""},{"$f":"IF(Indtastning!AH33=\"\",\"\",Indtastning!AH33)","v":""},{"$f":"IF(OR(AP21=\"\",AP21=0,Skjulte_Indstillinger!$B$10=FALSE()),#N/A,AO21/AP21)","v":{"$error":"#N/A"}},"",{"$f":"IF(Indtastning!G33=\"\",#N/A,Indtastning!G33)","v":{"$error":"#N/A"}},{"$error":"#N/A"},{"$f":"_xlfn.AGGREGATE(3,3,$AS$6:$AS21)","v":0},0,0,0,0,0,0,0,"","",{"$error":"#N/A"},{"$error":"#N/A"},{"$error":"#N/A"},{"$error":"#N/A"},0,"","","","",0,0,0,"",{"$error":"#N/A"},{"$error":"#N/A"},{"$f":"IF(AND(H21<>\"\",H22=\"\",OR(Skjulte_Indstillinger!$B$2,Skjulte_Indstillinger!$B$3,Skjulte_Indstillinger!$B$4,Skjulte_Indstillinger!$B$5,Skjulte_Indstillinger!$B$6,Skjulte_Indstillinger!$B$7,Skjulte_Indstillinger!$B$8,Skjulte_Indstillinger!$B$9,Skjulte_Indstillinger!$B$10)),H21,NA())","v":{"$error":"#N/A"}},{"$f":"IF(AND(L21<>\"\",L22=\"\",Skjulte_Indstillinger!$B$2),L21,NA())","v":{"$error":"#N/A"}},{"$f":"IF(AND(P21<>\"\",P22=\"\",Skjulte_Indstillinger!$B$3),P21,NA())","v":{"$error":"#N/A"}},{"$f":"IF(AND(T21<>\"\",T22=\"\",Skjulte_Indstillinger!$B$4),T21,NA())","v":{"$error":"#N/A"}},{"$f":"IF(AND(X21<>\"\",X22=\"\",Skjulte_Indstillinger!$B$5),X21,NA())","v":{"$error":"#N/A"}},{"$f":"IF(AND(AB21<>\"\",AB22=\"\",Skjulte_Indstillinger!$B$6),AB21,NA())","v":{"$error":"#N/A"}},{"$f":"IF(AND(AF21<>\"\",AF22=\"\",Skjulte_Indstillinger!$B$7),AF21,NA())","v":{"$error":"#N/A"}},{"$f":"IF(AND(AJ21<>\"\",AJ22=\"\",Skjulte_Indstillinger!$B$8),AJ21,NA())","v":{"$error":"#N/A"}},{"$f":"IF(AND(AN21<>\"\",AN22=\"\",Skjulte_Indstillinger!$B$9),AN21,NA())","v":{"$error":"#N/A"}},{"$f":"IF(AND(AR21<>\"\",AR22=\"\",Skjulte_Indstillinger!$B$10),AR21,NA())","v":{"$error":"#N/A"}}]
["",{"$f":"IF(Indtastning!B34=\"\",\"\",Indtastning!B34)","v":""},{"$f":"CELL(\"format\",Indtastning!B34)","v":"G"},"",{"$f":"IF(Indtastning!D34=\"\",\"\",Indtastning!D34)","v":""},{"$f":"IF(Indtastning!E34=\"\",\"\",Indtastning!E34)","v":""},{"$error":"#N/A"},"",{"$f":"IF(Indtastning!I34=\"\",\"\",Indtastning!I34)","v":""},{"$f":"IF(Indtastning!J34=\"\",\"\",Indtastning!J34)","v":""},{"$f":"IF(OR(J22=\"\",J22=0,Skjulte_Indstillinger!$B$2=FALSE()),#N/A,I22/J22)","v":{"$error":"#N/A"}},"",{"$f":"IF(Indtastning!L34=\"\",\"\",Indtastning!L34)","v":""},{"$f":"IF(Indtastning!M34=\"\",\"\",Indtastning!M34)","v":""},{"$f":"IF(OR(N22=\"\",N22=0,Skjulte_Indstillinger!$B$3=FALSE()),#N/A,M22/N22)","v":{"$error":"#N/A"}},"",{"$f":"IF(Indtastning!O34=\"\",\"\",Indtastning!O34)","v":""},{"$f":"IF(Indtastning!P34=\"\",\"\",Indtastning!P34)","v":""},{"$f":"IF(OR(R22=\"\",R22=0,Skjulte_Indstillinger!$B$4=FALSE()),#N/A,Q22/R22)","v":{"$error":"#N/A"}},"",{"$f":"IF(Indtastning!R34=\"\",\"\",Indtastning!R34)","v":""},{"$f":"IF(Indtastning!S34=\"\",\"\",Indtastning!S34)","v":""},{"$f":"IF(OR(V22=\"\",V22=0,Skjulte_Indstillinger!$B$5=FALSE()),#N/A,U22/V22)","v":{"$error":"#N/A"}},"",{"$f":"IF(Indtastning!U34=\"\",\"\",Indtastning!U34)","v":""},{"$f":"IF(Indtastning!V34=\"\",\"\",Indtastning!V34)","v":""},{"$f":"IF(OR(Z22=\"\",Z22=0,Skjulte_Indstillinger!$B$6=FALSE()),#N/A,Y22/Z22)","v":{"$error":"#N/A"}},"",{"$f":"IF(Indtastning!X34=\"\",\"\",Indtastning!X34)","v":""},{"$f":"IF(Indtastning!Y34=\"\",\"\",Indtastning!Y34)","v":""},{"$f":"IF(OR(AD22=\"\",AD22=0,Skjulte_Indstillinger!$B$7=FALSE()),#N/A,AC22/AD22)","v":{"$error":"#N/A"}},"",{"$f":"IF(Indtastning!AA34=\"\",\"\",Indtastning!AA34)","v":""},{"$f":"IF(Indtastning!AB34=\"\",\"\",Indtastning!AB34)","v":""},{"$f":"IF(OR(AH22=\"\",AH22=0,Skjulte_Indstillinger!$B$8=FALSE()),#N/A,AG22/AH22)","v":{"$error":"#N/A"}},"",{"$f":"IF(Indtastning!AD34=\"\",\"\",Indtastning!AD34)","v":""},{"$f":"IF(Indtastning!AE34=\"\",\"\",Indtastning!AE34)","v":""},{"$f":"IF(OR(AL22=\"\",AL22=0,Skjulte_Indstillinger!$B$9=FALSE()),#N/A,AK22/AL22)","v":{"$error":"#N/A"}},"",{"$f":"IF(Indtastning!AG34=\"\",\"\",Indtastning!AG34)","v":""},{"$f":"IF(Indtastning!AH34=\"\",\"\",Indtastning!AH34)","v":""},{"$f":"IF(OR(AP22=\"\",AP22=0,Skjulte_Indstillinger!$B$10=FALSE()),#N/A,AO22/AP22)","v":{"$error":"#N/A"}},"",{"$f":"IF(Indtastning!G34=\"\",#N/A,Indtastning!G34)","v":{"$error":"#N/A"}},{"$error":"#N/A"},{"$f":"_xlfn.AGGREGATE(3,3,$AS$6:$AS22)","v":0},0,0,0,0,0,0,0,"","",{"$error":"#N/A"},{"$error":"#N/A"},{"$error":"#N/A"},{"$error":"#N/A"},0,"","","","",0,0,0,"",{"$error":"#N/A"},{"$error":"#N/A"},{"$f":"IF(AND(H22<>\"\",H23=\"\",OR(Skjulte_Indstillinger!$B$2,Skjulte_Indstillinger!$B$3,Skjulte_Indstillinger!$B$4,Skjulte_Indstillinger!$B$5,Skjulte_Indstillinger!$B$6,Skjulte_Indstillinger!$B$7,Skjulte_Indstillinger!$B$8,Skjulte_Indstillinger!$B$9,Skjulte_Indstillinger!$B$10)),H22,NA())","v":{"$error":"#N/A"}},{"$f":"IF(AND(L22<>\"\",L23=\"\",Skjulte_Indstillinger!$B$2),L22,NA())","v":{"$error":"#N/A"}},{"$f":"IF(AND(P22<>\"\",P23=\"\",Skjulte_Indstillinger!$B$3),P22,NA())","v":{"$error":"#N/A"}},{"$f":"IF(AND(T22<>\"\",T23=\"\",Skjulte_Indstillinger!$B$4),T22,NA())","v":{"$error":"#N/A"}},{"$f":"IF(AND(X22<>\"\",X23=\"\",Skjulte_Indstillinger!$B$5),X22,NA())","v":{"$error":"#N/A"}},{"$f":"IF(AND(AB22<>\"\",AB23=\"\",Skjulte_Indstillinger!$B$6),AB22,NA())","v":{"$error":"#N/A"}},{"$f":"IF(AND(AF22<>\"\",AF23=\"\",Skjulte_Indstillinger!$B$7),AF22,NA())","v":{"$error":"#N/A"}},{"$f":"IF(AND(AJ22<>\"\",AJ23=\"\",Skjulte_Indstillinger!$B$8),AJ22,NA())","v":{"$error":"#N/A"}},{"$f":"IF(AND(AN22<>\"\",AN23=\"\",Skjulte_Indstillinger!$B$9),AN22,NA())","v":{"$error":"#N/A"}},{"$f":"IF(AND(AR22<>\"\",AR23=\"\",Skjulte_Indstillinger!$B$10),AR22,NA())","v":{"$error":"#N/A"}}]
["",{"$f":"IF(Indtastning!B35=\"\",\"\",Indtastning!B35)","v":""},{"$f":"CELL(\"format\",Indtastning!B35)","v":"G"},"",{"$f":"IF(Indtastning!D35=\"\",\"\",Indtastning!D35)","v":""},{"$f":"IF(Indtastning!E35=\"\",\"\",Indtastning!E35)","v":""},{"$error":"#N/A"},"",{"$f":"IF(Indtastning!I35=\"\",\"\",Indtastning!I35)","v":""},{"$f":"IF(Indtastning!J35=\"\",\"\",Indtastning!J35)","v":""},{"$f":"IF(OR(J23=\"\",J23=0,Skjulte_Indstillinger!$B$2=FALSE()),#N/A,I23/J23)","v":{"$error":"#N/A"}},"",{"$f":"IF(Indtastning!L35=\"\",\"\",Indtastning!L35)","v":""},{"$f":"IF(Indtastning!M35=\"\",\"\",Indtastning!M35)","v":""},{"$f":"IF(OR(N23=\"\",N23=0,Skjulte_Indstillinger!$B$3=FALSE()),#N/A,M23/N23)","v":{"$error":"#N/A"}},"",{"$f":"IF(Indtastning!O35=\"\",\"\",Indtastning!O35)","v":""},{"$f":"IF(Indtastning!P35=\"\",\"\",Indtastning!P35)","v":""},{"$f":"IF(OR(R23=\"\",R23=0,Skjulte_Indstillinger!$B$4=FALSE()),#N/A,Q23/R23)","v":{"$error":"#N/A"}},"",{"$f":"IF(Indtastning!R35=\"\",\"\",Indtastning!R35)","v":""},{"$f":"IF(Indtastning!S35=\"\",\"\",Indtastning!S35)","v":""},{"$f":"IF(OR(V23=\"\",V23=0,Skjulte_Indstillinger!$B$5=FALSE()),#N/A,U23/V23)","v":{"$error":"#N/A"}},"",{"$f":"IF(Indtastning!U35=\"\",\"\",Indtastning!U35)","v":""},{"$f":"IF(Indtastning!V35=\"\",\"\",Indtastning!V35)","v":""},{"$f":"IF(OR(Z23=\"\",Z23=0,Skjulte_Indstillinger!$B$6=FALSE()),#N/A,Y23/Z23)","v":{"$error":"#N/A"}},"",{"$f":"IF(Indtastning!X35=\"\",\"\",Indtastning!X35)","v":""},{"$f":"IF(Indtastning!Y35=\"\",\"\",Indtastning!Y35)","v":""},{"$f":"IF(OR(AD23=\"\",AD23=0,Skjulte_Indstillinger!$B$7=FALSE()),#N/A,AC23/AD23)","v":{"$error":"#N/A"}},"",{"$f":"IF(Indtastning!AA35=\"\",\"\",Indtastning!AA35)","v":""},{"$f":"IF(Indtastning!AB35=\"\",\"\",Indtastning!AB35)","v":""},{"$f":"IF(OR(AH23=\"\",AH23=0,Skjulte_Indstillinger!$B$8=FALSE()),#N/A,AG23/AH23)","v":{"$error":"#N/A"}},"",{"$f":"IF(Indtastning!AD35=\"\",\"\",Indtastning!AD35)","v":""},{"$f":"IF(Indtastning!AE35=\"\",\"\",Indtastning!AE35)","v":""},{"$f":"IF(OR(AL23=\"\",AL23=0,Skjulte_Indstillinger!$B$9=FALSE()),#N/A,AK23/AL23)","v":{"$error":"#N/A"}},"",{"$f":"IF(Indtastning!AG35=\"\",\"\",Indtastning!AG35)","v":""},{"$f":"IF(Indtastning!AH35=\"\",\"\",Indtastning!AH35)","v":""},{"$f":"IF(OR(AP23=\"\",AP23=0,Skjulte_Indstillinger!$B$10=FALSE()),#N/A,AO23/AP23)","v":{"$error":"#N/A"}},"",{"$f":"IF(Indtastning!G35=\"\",#N/A,Indtastning!G35)","v":{"$error":"#N/A"}},{"$error":"#N/A"},{"$f":"_xlfn.AGGREGATE(3,3,$AS$6:$AS23)","v":0},0,0,0,0,0,0,0,"","",{"$error":"#N/A"},{"$error":"#N/A"},{"$error":"#N/A"},{"$error":"#N/A"},0,"","","","",0,0,0,"",{"$error":"#N/A"},{"$error":"#N/A"},{"$f":"IF(AND(H23<>\"\",H24=\"\",OR(Skjulte_Indstillinger!$B$2,Skjulte_Indstillinger!$B$3,Skjulte_Indstillinger!$B$4,Skjulte_Indstillinger!$B$5,Skjulte_Indstillinger!$B$6,Skjulte_Indstillinger!$B$7,Skjulte_Indstillinger!$B$8,Skjulte_Indstillinger!$B$9,Skjulte_Indstillinger!$B$10)),H23,NA())","v":{"$error":"#N/A"}},{"$f":"IF(AND(L23<>\"\",L24=\"\",Skjulte_Indstillinger!$B$2),L23,NA())","v":{"$error":"#N/A"}},{"$f":"IF(AND(P23<>\"\",P24=\"\",Skjulte_Indstillinger!$B$3),P23,NA())","v":{"$error":"#N/A"}},{"$f":"IF(AND(T23<>\"\",T24=\"\",Skjulte_Indstillinger!$B$4),T23,NA())","v":{"$error":"#N/A"}},{"$f":"IF(AND(X23<>\"\",X24=\"\",Skjulte_Indstillinger!$B$5),X23,NA())","v":{"$error":"#N/A"}},{"$f":"IF(AND(AB23<>\"\",AB24=\"\",Skjulte_Indstillinger!$B$6),AB23,NA())","v":{"$error":"#N/A"}},{"$f":"IF(AND(AF23<>\"\",AF24=\"\",Skjulte_Indstillinger!$B$7),AF23,NA())","v":{"$error":"#N/A"}},{"$f":"IF(AND(AJ23<>\"\",AJ24=\"\",Skjulte_Indstillinger!$B$8),AJ23,NA())","v":{"$error":"#N/A"}},{"$f":"IF(AND(AN23<>\"\",AN24=\"\",Skjulte_Indstillinger!$B$9),AN23,NA())","v":{"$error":"#N/A"}},{"$f":"IF(AND(AR23<>\"\",AR24=\"\",Skjulte_Indstillinger!$B$10),AR23,NA())","v":{"$error":"#N/A"}}]
["",{"$f":"IF(Indtastning!B36=\"\",\"\",Indtastning!B36)","v":""},{"$f":"CELL(\"format\",Indtastning!B36)","v":"G"},"",{"$f":"IF(Indtastning!D36=\"\",\"\",Indtastning!D36)","v":""},{"$f":"IF(Indtastning!E36=\"\",\"\",Indtastning!E36)","v":""},{"$error":"#N/A"},"",{"$f":"IF(Indtastning!I36=\"\",\"\",Indtastning!I36)","v":""},{"$f":"IF(Indtastning!J36=\"\",\"\",Indtastning!J36)","v":""},{"$f":"IF(OR(J24=\"\",J24=0,Skjulte_Indstillinger!$B$2=FALSE()),#N/A,I24/J24)","v":{"$error":"#N/A"}},"",{"$f":"IF(Indtastning!L36=\"\",\"\",Indtastning!L36)","v":""},{"$f":"IF(Indtastning!M36=\"\",\"\",Indtastning!M36)","v":""},{"$f":"IF(OR(N24=\"\",N24=0,Skjulte_Indstillinger!$B$3=FALSE()),#N/A,M24/N24)","v":{"$error":"#N/A"}},"",{"$f":"IF(Indtastning!O36=\"\",\"\",Indtastning!O36)","v":""},{"$f":"IF(Indtastning!P36=\"\",\"\",Indtastning!P36)","v":""},{"$f":"IF(OR(R24=\"\",R24=0,Skjulte_Indstillinger!$B$4=FALSE()),#N/A,Q24/R24)","v":{"$error":"#N/A"}},"",{"$f":"IF(Indtastning!R36=\"\",\"\",Indtastning!R36)","v":""},{"$f":"IF(Indtastning!S36=\"\",\"\",Indtastning!S36)","v":""},{"$f":"IF(OR(V24=\"\",V24=0,Skjulte_Indstillinger!$B$5=FALSE()),#N/A,U24/V24)","v":{"$error":"#N/A"}},"",{"$f":"IF(Indtastning!U36=\"\",\"\",Indtastning!U36)","v":""},{"$f":"IF(Indtastning!V36=\"\",\"\",Indtastning!V36)","v":""},{"$f":"IF(OR(Z24=\"\",Z24=0,Skjulte_Indstillinger!$B$6=FALSE()),#N/A,Y24/Z24)","v":{"$error":"#N/A"}},"",{"$f":"IF(Indtastning!X36=\"\",\"\",Indtastning!X36)","v":""},{"$f":"IF(Indtastning!Y36=\"\",\"\",Indtastning!Y36)","v":""},{"$f":"IF(OR(AD24=\"\",AD24=0,Skjulte_Indstillinger!$B$7=FALSE()),#N/A,AC24/AD24)","v":{"$error":"#N/A"}},"",{"$f":"IF(Indtastning!AA36=\"\",\"\",Indtastning!AA36)","v":""},{"$f":"IF(Indtastning!AB36=\"\",\"\",Indtastning!AB36)","v":""},{"$f":"IF(OR(AH24=\"\",AH24=0,Skjulte_Indstillinger!$B$8=FALSE()),#N/A,AG24/AH24)","v":{"$error":"#N/A"}},"",{"$f":"IF(Indtastning!AD36=\"\",\"\",Indtastning!AD36)","v":""},{"$f":"IF(Indtastning!AE36=\"\",\"\",Indtastning!AE36)","v":""},{"$f":"IF(OR(AL24=\"\",AL24=0,Skjulte_Indstillinger!$B$9=FALSE()),#N/A,AK24/AL24)","v":{"$error":"#N/A"}},"",{"$f":"IF(Indtastning!AG36=\"\",\"\",Indtastning!AG36)","v":""},{"$f":"IF(Indtastning!AH36=\"\",\"\",Indtastning!AH36)","v":""},{"$f":"IF(OR(AP24=\"\",AP24=0,Skjulte_Indstillinger!$B$10=FALSE()),#N/A,AO24/AP24)","v":{"$error":"#N/A"}},"",{"$f":"IF(Indtastning!G36=\"\",#N/A,Indtastning!G36)","v":{"$error":"#N/A"}},{"$error":"#N/A"},{"$f":"_xlfn.AGGREGATE(3,3,$AS$6:$AS24)","v":0},0,0,0,0,0,0,0,"","",{"$error":"#N/A"},{"$error":"#N/A"},{"$error":"#N/A"},{"$error":"#N/A"},0,"","","","",0,0,0,"",{"$error":"#N/A"},{"$error":"#N/A"},{"$f":"IF(AND(H24<>\"\",H25=\"\",OR(Skjulte_Indstillinger!$B$2,Skjulte_Indstillinger!$B$3,Skjulte_Indstillinger!$B$4,Skjulte_Indstillinger!$B$5,Skjulte_Indstillinger!$B$6,Skjulte_Indstillinger!$B$7,Skjulte_Indstillinger!$B$8,Skjulte_Indstillinger!$B$9,Skjulte_Indstillinger!$B$10)),H24,NA())","v":{"$error":"#N/A"}},{"$f":"IF(AND(L24<>\"\",L25=\"\",Skjulte_Indstillinger!$B$2),L24,NA())","v":{"$error":"#N/A"}},{"$f":"IF(AND(P24<>\"\",P25=\"\",Skjulte_Indstillinger!$B$3),P24,NA())","v":{"$error":"#N/A"}},{"$f":"IF(AND(T24<>\"\",T25=\"\",Skjulte_Indstillinger!$B$4),T24,NA())","v":{"$error":"#N/A"}},{"$f":"IF(AND(X24<>\"\",X25=\"\",Skjulte_Indstillinger!$B$5),X24,NA())","v":{"$error":"#N/A"}},{"$f":"IF(AND(AB24<>\"\",AB25=\"\",Skjulte_Indstillinger!$B$6),AB24,NA())","v":{"$error":"#N/A"}},{"$f":"IF(AND(AF24<>\"\",AF25=\"\",Skjulte_Indstillinger!$B$7),AF24,NA())","v":{"$error":"#N/A"}},{"$f":"IF(AND(AJ24<>\"\",AJ25=\"\",Skjulte_Indstillinger!$B$8),AJ24,NA())","v":{"$error":"#N/A"}},{"$f":"IF(AND(AN24<>\"\",AN25=\"\",Skjulte_Indstillinger!$B$9),AN24,NA())","v":{"$error":"#N/A"}},{"$f":"IF(AND(AR24<>\"\",AR25=\"\",Skjulte_Indstillinger!$B$10),AR24,NA())","v":{"$error":"#N/A"}}]
["",{"$f":"IF(Indtastning!B37=\"\",\"\",Indtastning!B37)","v":""},{"$f":"CELL(\"format\",Indtastning!B37)","v":"G"},"",{"$f":"IF(Indtastning!D37=\"\",\"\",Indtastning!D37)","v":""},{"$f":"IF(Indtastning!E37=\"\",\"\",Indtastning!E37)","v":""},{"$error":"#N/A"},"",{"$f":"IF(Indtastning!I37=\"\",\"\",Indtastning!I37)","v":""},{"$f":"IF(Indtastning!J37=\"\",\"\",Indtastning!J37)","v":""},{"$f":"IF(OR(J25=\"\",J25=0,Skjulte_Indstillinger!$B$2=FALSE()),#N/A,I25/J25)","v":{"$error":"#N/A"}},"",{"$f":"IF(Indtastning!L37=\"\",\"\",Indtastning!L37)","v":""},{"$f":"IF(Indtastning!M37=\"\",\"\",Indtastning!M37)","v":""},{"$f":"IF(OR(N25=\"\",N25=0,Skjulte_Indstillinger!$B$3=FALSE()),#N/A,M25/N25)","v":{"$error":"#N/A"}},"",{"$f":"IF(Indtastning!O37=\"\",\"\",Indtastning!O37)","v":""},{"$f":"IF(Indtastning!P37=\"\",\"\",Indtastning!P37)","v":""},{"$f":"IF(OR(R25=\"\",R25=0,Skjulte_Indstillinger!$B$4=FALSE()),#N/A,Q25/R25)","v":{"$error":"#N/A"}},"",{"$f":"IF(Indtastning!R37=\"\",\"\",Indtastning!R37)","v":""},{"$f":"IF(Indtastning!S37=\"\",\"\",Indtastning!S37)","v":""},{"$f":"IF(OR(V25=\"\",V25=0,Skjulte_Indstillinger!$B$5=FALSE()),#N/A,U25/V25)","v":{"$error":"#N/A"}},"",{"$f":"IF(Indtastning!U37=\"\",\"\",Indtastning!U37)","v":""},{"$f":"IF(Indtastning!V37=\"\",\"\",Indtastning!V37)","v":""},{"$f":"IF(OR(Z25=\"\",Z25=0,Skjulte_Indstillinger!$B$6=FALSE()),#N/A,Y25/Z25)","v":{"$error":"#N/A"}},"",{"$f":"IF(Indtastning!X37=\"\",\"\",Indtastning!X37)","v":""},{"$f":"IF(Indtastning!Y37=\"\",\"\",Indtastning!Y37)","v":""},{"$f":"IF(OR(AD25=\"\",AD25=0,Skjulte_Indstillinger!$B$7=FALSE()),#N/A,AC25/AD25)","v":{"$error":"#N/A"}},"",{"$f":"IF(Indtastning!AA37=\"\",\"\",Indtastning!AA37)","v":""},{"$f":"IF(Indtastning!AB37=\"\",\"\",Indtastning!AB37)","v":""},{"$f":"IF(OR(AH25=\"\",AH25=0,Skjulte_Indstillinger!$B$8=FALSE()),#N/A,AG25/AH25)","v":{"$error":"#N/A"}},"",{"$f":"IF(Indtastning!AD37=\"\",\"\",Indtastning!AD37)","v":""},{"$f":"IF(Indtastning!AE37=\"\",\"\",Indtastning!AE37)","v":""},{"$f":"IF(OR(AL25=\"\",AL25=0,Skjulte_Indstillinger!$B$9=FALSE()),#N/A,AK25/AL25)","v":{"$error":"#N/A"}},"",{"$f":"IF(Indtastning!AG37=\"\",\"\",Indtastning!AG37)","v":""},{"$f":"IF(Indtastning!AH37=\"\",\"\",Indtastning!AH37)","v":""},{"$f":"IF(OR(AP25=\"\",AP25=0,Skjulte_Indstillinger!$B$10=FALSE()),#N/A,AO25/AP25)","v":{"$error":"#N/A"}},"",{"$f":"IF(Indtastning!G37=\"\",#N/A,Indtastning!G37)","v":{"$error":"#N/A"}},{"$error":"#N/A"},{"$f":"_xlfn.AGGREGATE(3,3,$AS$6:$AS25)","v":0},0,0,0,0,0,0,0,"","",{"$error":"#N/A"},{"$error":"#N/A"},{"$error":"#N/A"},{"$error":"#N/A"},0,"","","","",0,0,0,"",{"$error":"#N/A"},{"$error":"#N/A"},{"$f":"IF(AND(H25<>\"\",H26=\"\",OR(Skjulte_Indstillinger!$B$2,Skjulte_Indstillinger!$B$3,Skjulte_Indstillinger!$B$4,Skjulte_Indstillinger!$B$5,Skjulte_Indstillinger!$B$6,Skjulte_Indstillinger!$B$7,Skjulte_Indstillinger!$B$8,Skjulte_Indstillinger!$B$9,Skjulte_Indstillinger!$B$10)),H25,NA())","v":{"$error":"#N/A"}},{"$f":"IF(AND(L25<>\"\",L26=\"\",Skjulte_Indstillinger!$B$2),L25,NA())","v":{"$error":"#N/A"}},{"$f":"IF(AND(P25<>\"\",P26=\"\",Skjulte_Indstillinger!$B$3),P25,NA())","v":{"$error":"#N/A"}},{"$f":"IF(AND(T25<>\"\",T26=\"\",Skjulte_Indstillinger!$B$4),T25,NA())","v":{"$error":"#N/A"}},{"$f":"IF(AND(X25<>\"\",X26=\"\",Skjulte_Indstillinger!$B$5),X25,NA())","v":{"$error":"#N/A"}},{"$f":"IF(AND(AB25<>\"\",AB26=\"\",Skjulte_Indstillinger!$B$6),AB25,NA())","v":{"$error":"#N/A"}},{"$f":"IF(AND(AF25<>\"\",AF26=\"\",Skjulte_Indstillinger!$B$7),AF25,NA())","v":{"$error":"#N/A"}},{"$f":"IF(AND(AJ25<>\"\",AJ26=\"\",Skjulte_Indstillinger!$B$8),AJ25,NA())","v":{"$error":"#N/A"}},{"$f":"IF(AND(AN25<>\"\",AN26=\"\",Skjulte_Indstillinger!$B$9),AN25,NA())","v":{"$error":"#N/A"}},{"$f":"IF(AND(AR25<>\"\",AR26=\"\",Skjulte_Indstillinger!$B$10),AR25,NA())","v":{"$error":"#N/A"}}]
["",{"$f":"IF(Indtastning!B38=\"\",\"\",Indtastning!B38)","v":""},{"$f":"CELL(\"format\",Indtastning!B38)","v":"G"},"",{"$f":"IF(Indtastning!D38=\"\",\"\",Indtastning!D38)","v":""},{"$f":"IF(Indtastning!E38=\"\",\"\",Indtastning!E38)","v":""},{"$error":"#N/A"},"",{"$f":"IF(Indtastning!I38=\"\",\"\",Indtastning!I38)","v":""},{"$f":"IF(Indtastning!J38=\"\",\"\",Indtastning!J38)","v":""},{"$f":"IF(OR(J26=\"\",J26=0,Skjulte_Indstillinger!$B$2=FALSE()),#N/A,I26/J26)","v":{"$error":"#N/A"}},"",{"$f":"IF(Indtastning!L38=\"\",\"\",Indtastning!L38)","v":""},{"$f":"IF(Indtastning!M38=\"\",\"\",Indtastning!M38)","v":""},{"$f":"IF(OR(N26=\"\",N26=0,Skjulte_Indstillinger!$B$3=FALSE()),#N/A,M26/N26)","v":{"$error":"#N/A"}},"",{"$f":"IF(Indtastning!O38=\"\",\"\",Indtastning!O38)","v":""},{"$f":"IF(Indtastning!P38=\"\",\"\",Indtastning!P38)","v":""},{"$f":"IF(OR(R26=\"\",R26=0,Skjulte_Indstillinger!$B$4=FALSE()),#N/A,Q26/R26)","v":{"$error":"#N/A"}},"",{"$f":"IF(Indtastning!R38=\"\",\"\",Indtastning!R38)","v":""},{"$f":"IF(Indtastning!S38=\"\",\"\",Indtastning!S38)","v":""},{"$f":"IF(OR(V26=\"\",V26=0,Skjulte_Indstillinger!$B$5=FALSE()),#N/A,U26/V26)","v":{"$error":"#N/A"}},"",{"$f":"IF(Indtastning!U38=\"\",\"\",Indtastning!U38)","v":""},{"$f":"IF(Indtastning!V38=\"\",\"\",Indtastning!V38)","v":""},{"$f":"IF(OR(Z26=\"\",Z26=0,Skjulte_Indstillinger!$B$6=FALSE()),#N/A,Y26/Z26)","v":{"$error":"#N/A"}},"",{"$f":"IF(Indtastning!X38=\"\",\"\",Indtastning!X38)","v":""},{"$f":"IF(Indtastning!Y38=\"\",\"\",Indtastning!Y38)","v":""},{"$f":"IF(OR(AD26=\"\",AD26=0,Skjulte_Indstillinger!$B$7=FALSE()),#N/A,AC26/AD26)","v":{"$error":"#N/A"}},"",{"$f":"IF(Indtastning!AA38=\"\",\"\",Indtastning!AA38)","v":""},{"$f":"IF(Indtastning!AB38=\"\",\"\",Indtastning!AB38)","v":""},{"$f":"IF(OR(AH26=\"\",AH26=0,Skjulte_Indstillinger!$B$8=FALSE()),#N/A,AG26/AH26)","v":{"$error":"#N/A"}},"",{"$f":"IF(Indtastning!AD38=\"\",\"\",Indtastning!AD38)","v":""},{"$f":"IF(Indtastning!AE38=\"\",\"\",Indtastning!AE38)","v":""},{"$f":"IF(OR(AL26=\"\",AL26=0,Skjulte_Indstillinger!$B$9=FALSE()),#N/A,AK26/AL26)","v":{"$error":"#N/A"}},"",{"$f":"IF(Indtastning!AG38=\"\",\"\",Indtastning!AG38)","v":""},{"$f":"IF(Indtastning!AH38=\"\",\"\",Indtastning!AH38)","v":""},{"$f":"IF(OR(AP26=\"\",AP26=0,Skjulte_Indstillinger!$B$10=FALSE()),#N/A,AO26/AP26)","v":{"$error":"#N/A"}},"",{"$f":"IF(Indtastning!G38=\"\",#N/A,Indtastning!G38)","v":{"$error":"#N/A"}},{"$error":"#N/A"},{"$f":"_xlfn.AGGREGATE(3,3,$AS$6:$AS26)","v":0},0,0,0,0,0,0,0,"","",{"$error":"#N/A"},{"$error":"#N/A"},{"$error":"#N/A"},{"$error":"#N/A"},0,"","","","",0,0,0,"",{"$error":"#N/A"},{"$error":"#N/A"},{"$f":"IF(AND(H26<>\"\",H27=\"\",OR(Skjulte_Indstillinger!$B$2,Skjulte_Indstillinger!$B$3,Skjulte_Indstillinger!$B$4,Skjulte_Indstillinger!$B$5,Skjulte_Indstillinger!$B$6,Skjulte_Indstillinger!$B$7,Skjulte_Indstillinger!$B$8,Skjulte_Indstillinger!$B$9,Skjulte_Indstillinger!$B$10)),H26,NA())","v":{"$error":"#N/A"}},{"$f":"IF(AND(L26<>\"\",L27=\"\",Skjulte_Indstillinger!$B$2),L26,NA())","v":{"$error":"#N/A"}},{"$f":"IF(AND(P26<>\"\",P27=\"\",Skjulte_Indstillinger!$B$3),P26,NA())","v":{"$error":"#N/A"}},{"$f":"IF(AND(T26<>\"\",T27=\"\",Skjulte_Indstillinger!$B$4),T26,NA())","v":{"$error":"#N/A"}},{"$f":"IF(AND(X26<>\"\",X27=\"\",Skjulte_Indstillinger!$B$5),X26,NA())","v":{"$error":"#N/A"}},{"$f":"IF(AND(AB26<>\"\",AB27=\"\",Skjulte_Indstillinger!$B$6),AB26,NA())","v":{"$error":"#N/A"}},{"$f":"IF(AND(AF26<>\"\",AF27=\"\",Skjulte_Indstillinger!$B$7),AF26,NA())","v":{"$error":"#N/A"}},{"$f":"IF(AND(AJ26<>\"\",AJ27=\"\",Skjulte_Indstillinger!$B$8),AJ26,NA())","v":{"$error":"#N/A"}},{"$f":"IF(AND(AN26<>\"\",AN27=\"\",Skjulte_Indstillinger!$B$9),AN26,NA())","v":{"$error":"#N/A"}},{"$f":"IF(AND(AR26<>\"\",AR27=\"\",Skjulte_Indstillinger!$B$10),AR26,NA())","v":{"$error":"#N/A"}}]
["",{"$f":"IF(Indtastning!B39=\"\",\"\",Indtastning!B39)","v":""},{"$f":"CELL(\"format\",Indtastning!B39)","v":"G"},"",{"$f":"IF(Indtastning!D39=\"\",\"\",Indtastning!D39)","v":""},{"$f":"IF(Indtastning!E39=\"\",\"\",Indtastning!E39)","v":""},{"$error":"#N/A"},"",{"$f":"IF(Indtastning!I39=\"\",\"\",Indtastning!I39)","v":""},{"$f":"IF(Indtastning!J39=\"\",\"\",Indtastning!J39)","v":""},{"$f":"IF(OR(J27=\"\",J27=0,Skjulte_Indstillinger!$B$2=FALSE()),#N/A,I27/J27)","v":{"$error":"#N/A"}},"",{"$f":"IF(Indtastning!L39=\"\",\"\",Indtastning!L39)","v":""},{"$f":"IF(Indtastning!M39=\"\",\"\",Indtastning!M39)","v":""},{"$f":"IF(OR(N27=\"\",N27=0,Skjulte_Indstillinger!$B$3=FALSE()),#N/A,M27/N27)","v":{"$error":"#N/A"}},"",{"$f":"IF(Indtastning!O39=\"\",\"\",Indtastning!O39)","v":""},{"$f":"IF(Indtastning!P39=\"\",\"\",Indtastning!P39)","v":""},{"$f":"IF(OR(R27=\"\",R27=0,Skjulte_Indstillinger!$B$4=FALSE()),#N/A,Q27/R27)","v":{"$error":"#N/A"}},"",{"$f":"IF(Indtastning!R39=\"\",\"\",Indtastning!R39)","v":""},{"$f":"IF(Indtastning!S39=\"\",\"\",Indtastning!S39)","v":""},{"$f":"IF(OR(V27=\"\",V27=0,Skjulte_Indstillinger!$B$5=FALSE()),#N/A,U27/V27)","v":{"$error":"#N/A"}},"",{"$f":"IF(Indtastning!U39=\"\",\"\",Indtastning!U39)","v":""},{"$f":"IF(Indtastning!V39=\"\",\"\",Indtastning!V39)","v":""},{"$f":"IF(OR(Z27=\"\",Z27=0,Skjulte_Indstillinger!$B$6=FALSE()),#N/A,Y27/Z27)","v":{"$error":"#N/A"}},"",{"$f":"IF(Indtastning!X39=\"\",\"\",Indtastning!X39)","v":""},{"$f":"IF(Indtastning!Y39=\"\",\"\",Indtastning!Y39)","v":""},{"$f":"IF(OR(AD27=\"\",AD27=0,Skjulte_Indstillinger!$B$7=FALSE()),#N/A,AC27/AD27)","v":{"$error":"#N/A"}},"",{"$f":"IF(Indtastning!AA39=\"\",\"\",Indtastning!AA39)","v":""},{"$f":"IF(Indtastning!AB39=\"\",\"\",Indtastning!AB39)","v":""},{"$f":"IF(OR(AH27=\"\",AH27=0,Skjulte_Indstillinger!$B$8=FALSE()),#N/A,AG27/AH27)","v":{"$error":"#N/A"}},"",{"$f":"IF(Indtastning!AD39=\"\",\"\",Indtastning!AD39)","v":""},{"$f":"IF(Indtastning!AE39=\"\",\"\",Indtastning!AE39)","v":""},{"$f":"IF(OR(AL27=\"\",AL27=0,Skjulte_Indstillinger!$B$9=FALSE()),#N/A,AK27/AL27)","v":{"$error":"#N/A"}},"",{"$f":"IF(Indtastning!AG39=\"\",\"\",Indtastning!AG39)","v":""},{"$f":"IF(Indtastning!AH39=\"\",\"\",Indtastning!AH39)","v":""},{"$f":"IF(OR(AP27=\"\",AP27=0,Skjulte_Indstillinger!$B$10=FALSE()),#N/A,AO27/AP27)","v":{"$error":"#N/A"}},"",{"$f":"IF(Indtastning!G39=\"\",#N/A,Indtastning!G39)","v":{"$error":"#N/A"}},{"$error":"#N/A"},{"$f":"_xlfn.AGGREGATE(3,3,$AS$6:$AS27)","v":0},0,0,0,0,0,0,0,"","",{"$error":"#N/A"},{"$error":"#N/A"},{"$error":"#N/A"},{"$error":"#N/A"},0,"","","","",0,0,0,"",{"$error":"#N/A"},{"$error":"#N/A"},{"$f":"IF(AND(H27<>\"\",H28=\"\",OR(Skjulte_Indstillinger!$B$2,Skjulte_Indstillinger!$B$3,Skjulte_Indstillinger!$B$4,Skjulte_Indstillinger!$B$5,Skjulte_Indstillinger!$B$6,Skjulte_Indstillinger!$B$7,Skjulte_Indstillinger!$B$8,Skjulte_Indstillinger!$B$9,Skjulte_Indstillinger!$B$10)),H27,NA())","v":{"$error":"#N/A"}},{"$f":"IF(AND(L27<>\"\",L28=\"\",Skjulte_Indstillinger!$B$2),L27,NA())","v":{"$error":"#N/A"}},{"$f":"IF(AND(P27<>\"\",P28=\"\",Skjulte_Indstillinger!$B$3),P27,NA())","v":{"$error":"#N/A"}},{"$f":"IF(AND(T27<>\"\",T28=\"\",Skjulte_Indstillinger!$B$4),T27,NA())","v":{"$error":"#N/A"}},{"$f":"IF(AND(X27<>\"\",X28=\"\",Skjulte_Indstillinger!$B$5),X27,NA())","v":{"$error":"#N/A"}},{"$f":"IF(AND(AB27<>\"\",AB28=\"\",Skjulte_Indstillinger!$B$6),AB27,NA())","v":{"$error":"#N/A"}},{"$f":"IF(AND(AF27<>\"\",AF28=\"\",Skjulte_Indstillinger!$B$7),AF27,NA())","v":{"$error":"#N/A"}},{"$f":"IF(AND(AJ27<>\"\",AJ28=\"\",Skjulte_Indstillinger!$B$8),AJ27,NA())","v":{"$error":"#N/A"}},{"$f":"IF(AND(AN27<>\"\",AN28=\"\",Skjulte_Indstillinger!$B$9),AN27,NA())","v":{"$error":"#N/A"}},{"$f":"IF(AND(AR27<>\"\",AR28=\"\",Skjulte_Indstillinger!$B$10),AR27,NA())","v":{"$error":"#N/A"}}]
["",{"$f":"IF(Indtastning!B40=\"\",\"\",Indtastning!B40)","v":""},{"$f":"CELL(\"format\",Indtastning!B40)","v":"G"},"",{"$f":"IF(Indtastning!D40=\"\",\"\",Indtastning!D40)","v":""},{"$f":"IF(Indtastning!E40=\"\",\"\",Indtastning!E40)","v":""},{"$error":"#N/A"},"",{"$f":"IF(Indtastning!I40=\"\",\"\",Indtastning!I40)","v":""},{"$f":"IF(Indtastning!J40=\"\",\"\",Indtastning!J40)","v":""},{"$f":"IF(OR(J28=\"\",J28=0,Skjulte_Indstillinger!$B$2=FALSE()),#N/A,I28/J28)","v":{"$error":"#N/A"}},"",{"$f":"IF(Indtastning!L40=\"\",\"\",Indtastning!L40)","v":""},{"$f":"IF(Indtastning!M40=\"\",\"\",Indtastning!M40)","v":""},{"$f":"IF(OR(N28=\"\",N28=0,Skjulte_Indstillinger!$B$3=FALSE()),#N/A,M28/N28)","v":{"$error":"#N/A"}},"",{"$f":"IF(Indtastning!O40=\"\",\"\",Indtastning!O40)","v":""},{"$f":"IF(Indtastning!P40=\"\",\"\",Indtastning!P40)","v":""},{"$f":"IF(OR(R28=\"\",R28=0,Skjulte_Indstillinger!$B$4=FALSE()),#N/A,Q28/R28)","v":{"$error":"#N/A"}},"",{"$f":"IF(Indtastning!R40=\"\",\"\",Indtastning!R40)","v":""},{"$f":"IF(Indtastning!S40=\"\",\"\",Indtastning!S40)","v":""},{"$f":"IF(OR(V28=\"\",V28=0,Skjulte_Indstillinger!$B$5=FALSE()),#N/A,U28/V28)","v":{"$error":"#N/A"}},"",{"$f":"IF(Indtastning!U40=\"\",\"\",Indtastning!U40)","v":""},{"$f":"IF(Indtastning!V40=\"\",\"\",Indtastning!V40)","v":""},{"$f":"IF(OR(Z28=\"\",Z28=0,Skjulte_Indstillinger!$B$6=FALSE()),#N/A,Y28/Z28)","v":{"$error":"#N/A"}},"",{"$f":"IF(Indtastning!X40=\"\",\"\",Indtastning!X40)","v":""},{"$f":"IF(Indtastning!Y40=\"\",\"\",Indtastning!Y40)","v":""},{"$f":"IF(OR(AD28=\"\",AD28=0,Skjulte_Indstillinger!$B$7=FALSE()),#N/A,AC28/AD28)","v":{"$error":"#N/A"}},"",{"$f":"IF(Indtastning!AA40=\"\",\"\",Indtastning!AA40)","v":""},{"$f":"IF(Indtastning!AB40=\"\",\"\",Indtastning!AB40)","v":""},{"$f":"IF(OR(AH28=\"\",AH28=0,Skjulte_Indstillinger!$B$8=FALSE()),#N/A,AG28/AH28)","v":{"$error":"#N/A"}},"",{"$f":"IF(Indtastning!AD40=\"\",\"\",Indtastning!AD40)","v":""},{"$f":"IF(Indtastning!AE40=\"\",\"\",Indtastning!AE40)","v":""},{"$f":"IF(OR(AL28=\"\",AL28=0,Skjulte_Indstillinger!$B$9=FALSE()),#N/A,AK28/AL28)","v":{"$error":"#N/A"}},"",{"$f":"IF(Indtastning!AG40=\"\",\"\",Indtastning!AG40)","v":""},{"$f":"IF(Indtastning!AH40=\"\",\"\",Indtastning!AH40)","v":""},{"$f":"IF(OR(AP28=\"\",AP28=0,Skjulte_Indstillinger!$B$10=FALSE()),#N/A,AO28/AP28)","v":{"$error":"#N/A"}},"",{"$f":"IF(Indtastning!G40=\"\",#N/A,Indtastning!G40)","v":{"$error":"#N/A"}},{"$error":"#N/A"},{"$f":"_xlfn.AGGREGATE(3,3,$AS$6:$AS28)","v":0},0,0,0,0,0,0,0,"","",{"$error":"#N/A"},{"$error":"#N/A"},{"$error":"#N/A"},{"$error":"#N/A"},0,"","","","",0,0,0,"",{"$error":"#N/A"},{"$error":"#N/A"},{"$f":"IF(AND(H28<>\"\",H29=\"\",OR(Skjulte_Indstillinger!$B$2,Skjulte_Indstillinger!$B$3,Skjulte_Indstillinger!$B$4,Skjulte_Indstillinger!$B$5,Skjulte_Indstillinger!$B$6,Skjulte_Indstillinger!$B$7,Skjulte_Indstillinger!$B$8,Skjulte_Indstillinger!$B$9,Skjulte_Indstillinger!$B$10)),H28,NA())","v":{"$error":"#N/A"}},{"$f":"IF(AND(L28<>\"\",L29=\"\",Skjulte_Indstillinger!$B$2),L28,NA())","v":{"$error":"#N/A"}},{"$f":"IF(AND(P28<>\"\",P29=\"\",Skjulte_Indstillinger!$B$3),P28,NA())","v":{"$error":"#N/A"}},{"$f":"IF(AND(T28<>\"\",T29=\"\",Skjulte_Indstillinger!$B$4),T28,NA())","v":{"$error":"#N/A"}},{"$f":"IF(AND(X28<>\"\",X29=\"\",Skjulte_Indstillinger!$B$5),X28,NA())","v":{"$error":"#N/A"}},{"$f":"IF(AND(AB28<>\"\",AB29=\"\",Skjulte_Indstillinger!$B$6),AB28,NA())","v":{"$error":"#N/A"}},{"$f":"IF(AND(AF28<>\"\",AF29=\"\",Skjulte_Indstillinger!$B$7),AF28,NA())","v":{"$error":"#N/A"}},{"$f":"IF(AND(AJ28<>\"\",AJ29=\"\",Skjulte_Indstillinger!$B$8),AJ28,NA())","v":{"$error":"#N/A"}},{"$f":"IF(AND(AN28<>\"\",AN29=\"\",Skjulte_Indstillinger!$B$9),AN28,NA())","v":{"$error":"#N/A"}},{"$f":"IF(AND(AR28<>\"\",AR29=\"\",Skjulte_Indstillinger!$B$10),AR28,NA())","v":{"$error":"#N/A"}}]
["",{"$f":"IF(Indtastning!B41=\"\",\"\",Indtastning!B41)","v":""},{"$f":"CELL(\"format\",Indtastning!B41)","v":"G"},"",{"$f":"IF(Indtastning!D41=\"\",\"\",Indtastning!D41)","v":""},{"$f":"IF(Indtastning!E41=\"\",\"\",Indtastning!E41)","v":""},{"$error":"#N/A"},"",{"$f":"IF(Indtastning!I41=\"\",\"\",Indtastning!I41)","v":""},{"$f":"IF(Indtastning!J41=\"\",\"\",Indtastning!J41)","v":""},{"$f":"IF(OR(J29=\"\",J29=0,Skjulte_Indstillinger!$B$2=FALSE()),#N/A,I29/J29)","v":{"$error":"#N/A"}},"",{"$f":"IF(Indtastning!L41=\"\",\"\",Indtastning!L41)","v":""},{"$f":"IF(Indtastning!M41=\"\",\"\",Indtastning!M41)","v":""},{"$f":"IF(OR(N29=\"\",N29=0,Skjulte_Indstillinger!$B$3=FALSE()),#N/A,M29/N29)","v":{"$error":"#N/A"}},"",{"$f":"IF(Indtastning!O41=\"\",\"\",Indtastning!O41)","v":""},{"$f":"IF(Indtastning!P41=\"\",\"\",Indtastning!P41)","v":""},{"$f":"IF(OR(R29=\"\",R29=0,Skjulte_Indstillinger!$B$4=FALSE()),#N/A,Q29/R29)","v":{"$error":"#N/A"}},"",{"$f":"IF(Indtastning!R41=\"\",\"\",Indtastning!R41)","v":""},{"$f":"IF(Indtastning!S41=\"\",\"\",Indtastning!S41)","v":""},{"$f":"IF(OR(V29=\"\",V29=0,Skjulte_Indstillinger!$B$5=FALSE()),#N/A,U29/V29)","v":{"$error":"#N/A"}},"",{"$f":"IF(Indtastning!U41=\"\",\"\",Indtastning!U41)","v":""},{"$f":"IF(Indtastning!V41=\"\",\"\",Indtastning!V41)","v":""},{"$f":"IF(OR(Z29=\"\",Z29=0,Skjulte_Indstillinger!$B$6=FALSE()),#N/A,Y29/Z29)","v":{"$error":"#N/A"}},"",{"$f":"IF(Indtastning!X41=\"\",\"\",Indtastning!X41)","v":""},{"$f":"IF(Indtastning!Y41=\"\",\"\",Indtastning!Y41)","v":""},{"$f":"IF(OR(AD29=\"\",AD29=0,Skjulte_Indstillinger!$B$7=FALSE()),#N/A,AC29/AD29)","v":{"$error":"#N/A"}},"",{"$f":"IF(Indtastning!AA41=\"\",\"\",Indtastning!AA41)","v":""},{"$f":"IF(Indtastning!AB41=\"\",\"\",Indtastning!AB41)","v":""},{"$f":"IF(OR(AH29=\"\",AH29=0,Skjulte_Indstillinger!$B$8=FALSE()),#N/A,AG29/AH29)","v":{"$error":"#N/A"}},"",{"$f":"IF(Indtastning!AD41=\"\",\"\",Indtastning!AD41)","v":""},{"$f":"IF(Indtastning!AE41=\"\",\"\",Indtastning!AE41)","v":""},{"$f":"IF(OR(AL29=\"\",AL29=0,Skjulte_Indstillinger!$B$9=FALSE()),#N/A,AK29/AL29)","v":{"$error":"#N/A"}},"",{"$f":"IF(Indtastning!AG41=\"\",\"\",Indtastning!AG41)","v":""},{"$f":"IF(Indtastning!AH41=\"\",\"\",Indtastning!AH41)","v":""},{"$f":"IF(OR(AP29=\"\",AP29=0,Skjulte_Indstillinger!$B$10=FALSE()),#N/A,AO29/AP29)","v":{"$error":"#N/A"}},"",{"$f":"IF(Indtastning!G41=\"\",#N/A,Indtastning!G41)","v":{"$error":"#N/A"}},{"$error":"#N/A"},{"$f":"_xlfn.AGGREGATE(3,3,$AS$6:$AS29)","v":0},0,0,0,0,0,0,0,"","",{"$error":"#N/A"},{"$error":"#N/A"},{"$error":"#N/A"},{"$error":"#N/A"},0,"","","","",0,0,0,"",{"$error":"#N/A"},{"$error":"#N/A"},{"$f":"IF(AND(H29<>\"\",H30=\"\",OR(Skjulte_Indstillinger!$B$2,Skjulte_Indstillinger!$B$3,Skjulte_Indstillinger!$B$4,Skjulte_Indstillinger!$B$5,Skjulte_Indstillinger!$B$6,Skjulte_Indstillinger!$B$7,Skjulte_Indstillinger!$B$8,Skjulte_Indstillinger!$B$9,Skjulte_Indstillinger!$B$10)),H29,NA())","v":{"$error":"#N/A"}},{"$f":"IF(AND(L29<>\"\",L30=\"\",Skjulte_Indstillinger!$B$2),L29,NA())","v":{"$error":"#N/A"}},{"$f":"IF(AND(P29<>\"\",P30=\"\",Skjulte_Indstillinger!$B$3),P29,NA())","v":{"$error":"#N/A"}},{"$f":"IF(AND(T29<>\"\",T30=\"\",Skjulte_Indstillinger!$B$4),T29,NA())","v":{"$error":"#N/A"}},{"$f":"IF(AND(X29<>\"\",X30=\"\",Skjulte_Indstillinger!$B$5),X29,NA())","v":{"$error":"#N/A"}},{"$f":"IF(AND(AB29<>\"\",AB30=\"\",Skjulte_Indstillinger!$B$6),AB29,NA())","v":{"$error":"#N/A"}},{"$f":"IF(AND(AF29<>\"\",AF30=\"\",Skjulte_Indstillinger!$B$7),AF29,NA())","v":{"$error":"#N/A"}},{"$f":"IF(AND(AJ29<>\"\",AJ30=\"\",Skjulte_Indstillinger!$B$8),AJ29,NA())","v":{"$error":"#N/A"}},{"$f":"IF(AND(AN29<>\"\",AN30=\"\",Skjulte_Indstillinger!$B$9),AN29,NA())","v":{"$error":"#N/A"}},{"$f":"IF(AND(AR29<>\"\",AR30=\"\",Skjulte_Indstillinger!$B$10),AR29,NA())","v":{"$error":"#N/A"}}]
["",{"$f":"IF(Indtastning!B42=\"\",\"\",Indtastning!B42)","v":""},{"$f":"CELL(\"format\",Indtastning!B42)","v":"G"},"",{"$f":"IF(Indtastning!D42=\"\",\"\",Indtastning!D42)","v":""},{"$f":"IF(Indtastning!E42=\"\",\"\",Indtastning!E42)","v":""},{"$error":"#N/A"},"",{"$f":"IF(Indtastning!I42=\"\",\"\",Indtastning!I42)","v":""},{"$f":"IF(Indtastning!J42=\"\",\"\",Indtastning!J42)","v":""},{"$f":"IF(OR(J30=\"\",J30=0,Skjulte_Indstillinger!$B$2=FALSE()),#N/A,I30/J30)","v":{"$error":"#N/A"}},"",{"$f":"IF(Indtastning!L42=\"\",\"\",Indtastning!L42)","v":""},{"$f":"IF(Indtastning!M42=\"\",\"\",Indtastning!M42)","v":""},{"$f":"IF(OR(N30=\"\",N30=0,Skjulte_Indstillinger!$B$3=FALSE()),#N/A,M30/N30)","v":{"$error":"#N/A"}},"",{"$f":"IF(Indtastning!O42=\"\",\"\",Indtastning!O42)","v":""},{"$f":"IF(Indtastning!P42=\"\",\"\",Indtastning!P42)","v":""},{"$f":"IF(OR(R30=\"\",R30=0,Skjulte_Indstillinger!$B$4=FALSE()),#N/A,Q30/R30)","v":{"$error":"#N/A"}},"",{"$f":"IF(Indtastning!R42=\"\",\"\",Indtastning!R42)","v":""},{"$f":"IF(Indtastning!S42=\"\",\"\",Indtastning!S42)","v":""},{"$f":"IF(OR(V30=\"\",V30=0,Skjulte_Indstillinger!$B$5=FALSE()),#N/A,U30/V30)","v":{"$error":"#N/A"}},"",{"$f":"IF(Indtastning!U42=\"\",\"\",Indtastning!U42)","v":""},{"$f":"IF(Indtastning!V42=\"\",\"\",Indtastning!V42)","v":""},{"$f":"IF(OR(Z30=\"\",Z30=0,Skjulte_Indstillinger!$B$6=FALSE()),#N/A,Y30/Z30)","v":{"$error":"#N/A"}},"",{"$f":"IF(Indtastning!X42=\"\",\"\",Indtastning!X42)","v":""},{"$f":"IF(Indtastning!Y42=\"\",\"\",Indtastning!Y42)","v":""},{"$f":"IF(OR(AD30=\"\",AD30=0,Skjulte_Indstillinger!$B$7=FALSE()),#N/A,AC30/AD30)","v":{"$error":"#N/A"}},"",{"$f":"IF(Indtastning!AA42=\"\",\"\",Indtastning!AA42)","v":""},{"$f":"IF(Indtastning!AB42=\"\",\"\",Indtastning!AB42)","v":""},{"$f":"IF(OR(AH30=\"\",AH30=0,Skjulte_Indstillinger!$B$8=FALSE()),#N/A,AG30/AH30)","v":{"$error":"#N/A"}},"",{"$f":"IF(Indtastning!AD42=\"\",\"\",Indtastning!AD42)","v":""},{"$f":"IF(Indtastning!AE42=\"\",\"\",Indtastning!AE42)","v":""},{"$f":"IF(OR(AL30=\"\",AL30=0,Skjulte_Indstillinger!$B$9=FALSE()),#N/A,AK30/AL30)","v":{"$error":"#N/A"}},"",{"$f":"IF(Indtastning!AG42=\"\",\"\",Indtastning!AG42)","v":""},{"$f":"IF(Indtastning!AH42=\"\",\"\",Indtastning!AH42)","v":""},{"$f":"IF(OR(AP30=\"\",AP30=0,Skjulte_Indstillinger!$B$10=FALSE()),#N/A,AO30/AP30)","v":{"$error":"#N/A"}},"",{"$f":"IF(Indtastning!G42=\"\",#N/A,Indtastning!G42)","v":{"$error":"#N/A"}},{"$error":"#N/A"},{"$f":"LOG(_xlfn.AGGREGATE(3,3,$AS$6:$AS30),10)","v":{"$error":"#NUM!"}},0,0,0,0,0,0,0,"","",{"$error":"#N/A"},{"$error":"#N/A"},{"$error":"#N/A"},{"$error":"#N/A"},0,"","","","",0,0,0,"",{"$error":"#N/A"},{"$error":"#N/A"},{"$f":"IF(AND(H30<>\"\",H31=\"\",OR(Skjulte_Indstillinger!$B$2,Skjulte_Indstillinger!$B$3,Skjulte_Indstillinger!$B$4,Skjulte_Indstillinger!$B$5,Skjulte_Indstillinger!$B$6,Skjulte_Indstillinger!$B$7,Skjulte_Indstillinger!$B$8,Skjulte_Indstillinger!$B$9,Skjulte_Indstillinger!$B$10)),H30,NA())","v":{"$error":"#N/A"}},{"$f":"IF(AND(L30<>\"\",L31=\"\",Skjulte_Indstillinger!$B$2),L30,NA())","v":{"$error":"#N/A"}},{"$f":"IF(AND(P30<>\"\",P31=\"\",Skjulte_Indstillinger!$B$3),P30,NA())","v":{"$error":"#N/A"}},{"$f":"IF(AND(T30<>\"\",T31=\"\",Skjulte_Indstillinger!$B$4),T30,NA())","v":{"$error":"#N/A"}},{"$f":"IF(AND(X30<>\"\",X31=\"\",Skjulte_Indstillinger!$B$5),X30,NA())","v":{"$error":"#N/A"}},{"$f":"IF(AND(AB30<>\"\",AB31=\"\",Skjulte_Indstillinger!$B$6),AB30,NA())","v":{"$error":"#N/A"}},{"$f":"IF(AND(AF30<>\"\",AF31=\"\",Skjulte_Indstillinger!$B$7),AF30,NA())","v":{"$error":"#N/A"}},{"$f":"IF(AND(AJ30<>\"\",AJ31=\"\",Skjulte_Indstillinger!$B$8),AJ30,NA())","v":{"$error":"#N/A"}},{"$f":"IF(AND(AN30<>\"\",AN31=\"\",Skjulte_Indstillinger!$B$9),AN30,NA())","v":{"$error":"#N/A"}},{"$f":"IF(AND(AR30<>\"\",AR31=\"\",Skjulte_Indstillinger!$B$10),AR30,NA())","v":{"$error":"#N/A"}}]
["",{"$f":"IF(Indtastning!B43=\"\",\"\",Indtastning!B43)","v":""},{"$f":"CELL(\"format\",Indtastning!B43)","v":"G"},"",{"$f":"IF(Indtastning!D43=\"\",\"\",Indtastning!D43)","v":""},{"$f":"IF(Indtastning!E43=\"\",\"\",Indtastning!E43)","v":""},{"$error":"#N/A"},"",{"$f":"IF(Indtastning!I43=\"\",\"\",Indtastning!I43)","v":""},{"$f":"IF(Indtastning!J43=\"\",\"\",Indtastning!J43)","v":""},{"$f":"IF(OR(J31=\"\",J31=0,Skjulte_Indstillinger!$B$2=FALSE()),#N/A,I31/J31)","v":{"$error":"#N/A"}},"",{"$f":"IF(Indtastning!L43=\"\",\"\",Indtastning!L43)","v":""},{"$f":"IF(Indtastning!M43=\"\",\"\",Indtastning!M43)","v":""},{"$f":"IF(OR(N31=\"\",N31=0,Skjulte_Indstillinger!$B$3=FALSE()),#N/A,M31/N31)","v":{"$error":"#N/A"}},"",{"$f":"IF(Indtastning!O43=\"\",\"\",Indtastning!O43)","v":""},{"$f":"IF(Indtastning!P43=\"\",\"\",Indtastning!P43)","v":""},{"$f":"IF(OR(R31=\"\",R31=0,Skjulte_Indstillinger!$B$4=FALSE()),#N/A,Q31/R31)","v":{"$error":"#N/A"}},"",{"$f":"IF(Indtastning!R43=\"\",\"\",Indtastning!R43)","v":""},{"$f":"IF(Indtastning!S43=\"\",\"\",Indtastning!S43)","v":""},{"$f":"IF(OR(V31=\"\",V31=0,Skjulte_Indstillinger!$B$5=FALSE()),#N/A,U31/V31)","v":{"$error":"#N/A"}},"",{"$f":"IF(Indtastning!U43=\"\",\"\",Indtastning!U43)","v":""},{"$f":"IF(Indtastning!V43=\"\",\"\",Indtastning!V43)","v":""},{"$f":"IF(OR(Z31=\"\",Z31=0,Skjulte_Indstillinger!$B$6=FALSE()),#N/A,Y31/Z31)","v":{"$error":"#N/A"}},"",{"$f":"IF(Indtastning!X43=\"\",\"\",Indtastning!X43)","v":""},{"$f":"IF(Indtastning!Y43=\"\",\"\",Indtastning!Y43)","v":""},{"$f":"IF(OR(AD31=\"\",AD31=0,Skjulte_Indstillinger!$B$7=FALSE()),#N/A,AC31/AD31)","v":{"$error":"#N/A"}},"",{"$f":"IF(Indtastning!AA43=\"\",\"\",Indtastning!AA43)","v":""},{"$f":"IF(Indtastning!AB43=\"\",\"\",Indtastning!AB43)","v":""},{"$f":"IF(OR(AH31=\"\",AH31=0,Skjulte_Indstillinger!$B$8=FALSE()),#N/A,AG31/AH31)","v":{"$error":"#N/A"}},"",{"$f":"IF(Indtastning!AD43=\"\",\"\",Indtastning!AD43)","v":""},{"$f":"IF(Indtastning!AE43=\"\",\"\",Indtastning!AE43)","v":""},{"$f":"IF(OR(AL31=\"\",AL31=0,Skjulte_Indstillinger!$B$9=FALSE()),#N/A,AK31/AL31)","v":{"$error":"#N/A"}},"",{"$f":"IF(Indtastning!AG43=\"\",\"\",Indtastning!AG43)","v":""},{"$f":"IF(Indtastning!AH43=\"\",\"\",Indtastning!AH43)","v":""},{"$f":"IF(OR(AP31=\"\",AP31=0,Skjulte_Indstillinger!$B$10=FALSE()),#N/A,AO31/AP31)","v":{"$error":"#N/A"}},"",{"$f":"IF(Indtastning!G43=\"\",#N/A,Indtastning!G43)","v":{"$error":"#N/A"}},{"$error":"#N/A"},{"$f":"LOG(_xlfn.AGGREGATE(3,3,$AS$6:$AS31),10)","v":{"$error":"#NUM!"}},0,0,0,0,0,0,0,"","",{"$error":"#N/A"},{"$error":"#N/A"},{"$error":"#N/A"},{"$error":"#N/A"},0,"","","","",0,0,0,"",{"$error":"#N/A"},{"$error":"#N/A"},{"$f":"IF(AND(H31<>\"\",H32=\"\",OR(Skjulte_Indstillinger!$B$2,Skjulte_Indstillinger!$B$3,Skjulte_Indstillinger!$B$4,Skjulte_Indstillinger!$B$5,Skjulte_Indstillinger!$B$6,Skjulte_Indstillinger!$B$7,Skjulte_Indstillinger!$B$8,Skjulte_Indstillinger!$B$9,Skjulte_Indstillinger!$B$10)),H31,NA())","v":{"$error":"#N/A"}},{"$f":"IF(AND(L31<>\"\",L32=\"\",Skjulte_Indstillinger!$B$2),L31,NA())","v":{"$error":"#N/A"}},{"$f":"IF(AND(P31<>\"\",P32=\"\",Skjulte_Indstillinger!$B$3),P31,NA())","v":{"$error":"#N/A"}},{"$f":"IF(AND(T31<>\"\",T32=\"\",Skjulte_Indstillinger!$B$4),T31,NA())","v":{"$error":"#N/A"}},{"$f":"IF(AND(X31<>\"\",X32=\"\",Skjulte_Indstillinger!$B$5),X31,NA())","v":{"$error":"#N/A"}},{"$f":"IF(AND(AB31<>\"\",AB32=\"\",Skjulte_Indstillinger!$B$6),AB31,NA())","v":{"$error":"#N/A"}},{"$f":"IF(AND(AF31<>\"\",AF32=\"\",Skjulte_Indstillinger!$B$7),AF31,NA())","v":{"$error":"#N/A"}},{"$f":"IF(AND(AJ31<>\"\",AJ32=\"\",Skjulte_Indstillinger!$B$8),AJ31,NA())","v":{"$error":"#N/A"}},{"$f":"IF(AND(AN31<>\"\",AN32=\"\",Skjulte_Indstillinger!$B$9),AN31,NA())","v":{"$error":"#N/A"}},{"$f":"IF(AND(AR31<>\"\",AR32=\"\",Skjulte_Indstillinger!$B$10),AR31,NA())","v":{"$error":"#N/A"}}]
["",{"$f":"IF(Indtastning!B44=\"\",\"\",Indtastning!B44)","v":""},{"$f":"CELL(\"format\",Indtastning!B44)","v":"G"},"",{"$f":"IF(Indtastning!D44=\"\",\"\",Indtastning!D44)","v":""},{"$f":"IF(Indtastning!E44=\"\",\"\",Indtastning!E44)","v":""},{"$error":"#N/A"},"",{"$f":"IF(Indtastning!I44=\"\",\"\",Indtastning!I44)","v":""},{"$f":"IF(Indtastning!J44=\"\",\"\",Indtastning!J44)","v":""},{"$f":"IF(OR(J32=\"\",J32=0,Skjulte_Indstillinger!$B$2=FALSE()),#N/A,I32/J32)","v":{"$error":"#N/A"}},"",{"$f":"IF(Indtastning!L44=\"\",\"\",Indtastning!L44)","v":""},{"$f":"IF(Indtastning!M44=\"\",\"\",Indtastning!M44)","v":""},{"$f":"IF(OR(N32=\"\",N32=0,Skjulte_Indstillinger!$B$3=FALSE()),#N/A,M32/N32)","v":{"$error":"#N/A"}},"",{"$f":"IF(Indtastning!O44=\"\",\"\",Indtastning!O44)","v":""},{"$f":"IF(Indtastning!P44=\"\",\"\",Indtastning!P44)","v":""},{"$f":"IF(OR(R32=\"\",R32=0,Skjulte_Indstillinger!$B$4=FALSE()),#N/A,Q32/R32)","v":{"$error":"#N/A"}},"",{"$f":"IF(Indtastning!R44=\"\",\"\",Indtastning!R44)","v":""},{"$f":"IF(Indtastning!S44=\"\",\"\",Indtastning!S44)","v":""},{"$f":"IF(OR(V32=\"\",V32=0,Skjulte_Indstillinger!$B$5=FALSE()),#N/A,U32/V32)","v":{"$error":"#N/A"}},"",{"$f":"IF(Indtastning!U44=\"\",\"\",Indtastning!U44)","v":""},{"$f":"IF(Indtastning!V44=\"\",\"\",Indtastning!V44)","v":""},{"$f":"IF(OR(Z32=\"\",Z32=0,Skjulte_Indstillinger!$B$6=FALSE()),#N/A,Y32/Z32)","v":{"$error":"#N/A"}},"",{"$f":"IF(Indtastning!X44=\"\",\"\",Indtastning!X44)","v":""},{"$f":"IF(Indtastning!Y44=\"\",\"\",Indtastning!Y44)","v":""},{"$f":"IF(OR(AD32=\"\",AD32=0,Skjulte_Indstillinger!$B$7=FALSE()),#N/A,AC32/AD32)","v":{"$error":"#N/A"}},"",{"$f":"IF(Indtastning!AA44=\"\",\"\",Indtastning!AA44)","v":""},{"$f":"IF(Indtastning!AB44=\"\",\"\",Indtastning!AB44)","v":""},{"$f":"IF(OR(AH32=\"\",AH32=0,Skjulte_Indstillinger!$B$8=FALSE()),#N/A,AG32/AH32)","v":{"$error":"#N/A"}},"",{"$f":"IF(Indtastning!AD44=\"\",\"\",Indtastning!AD44)","v":""},{"$f":"IF(Indtastning!AE44=\"\",\"\",Indtastning!AE44)","v":""},{"$f":"IF(OR(AL32=\"\",AL32=0,Skjulte_Indstillinger!$B$9=FALSE()),#N/A,AK32/AL32)","v":{"$error":"#N/A"}},"",{"$f":"IF(Indtastning!AG44=\"\",\"\",Indtastning!AG44)","v":""},{"$f":"IF(Indtastning!AH44=\"\",\"\",Indtastning!AH44)","v":""},{"$f":"IF(OR(AP32=\"\",AP32=0,Skjulte_Indstillinger!$B$10=FALSE()),#N/A,AO32/AP32)","v":{"$error":"#N/A"}},"",{"$f":"IF(Indtastning!G44=\"\",#N/A,Indtastning!G44)","v":{"$error":"#N/A"}},{"$error":"#N/A"},{"$f":"LOG(_xlfn.AGGREGATE(3,3,$AS$6:$AS32),10)","v":{"$error":"#NUM!"}},0,0,0,0,0,0,0,"","",{"$error":"#N/A"},{"$error":"#N/A"},{"$error":"#N/A"},{"$error":"#N/A"},0,"","","","",0,0,0,"",{"$error":"#N/A"},{"$error":"#N/A"},{"$f":"IF(AND(H32<>\"\",H33=\"\",OR(Skjulte_Indstillinger!$B$2,Skjulte_Indstillinger!$B$3,Skjulte_Indstillinger!$B$4,Skjulte_Indstillinger!$B$5,Skjulte_Indstillinger!$B$6,Skjulte_Indstillinger!$B$7,Skjulte_Indstillinger!$B$8,Skjulte_Indstillinger!$B$9,Skjulte_Indstillinger!$B$10)),H32,NA())","v":{"$error":"#N/A"}},{"$f":"IF(AND(L32<>\"\",L33=\"\",Skjulte_Indstillinger!$B$2),L32,NA())","v":{"$error":"#N/A"}},{"$f":"IF(AND(P32<>\"\",P33=\"\",Skjulte_Indstillinger!$B$3),P32,NA())","v":{"$error":"#N/A"}},{"$f":"IF(AND(T32<>\"\",T33=\"\",Skjulte_Indstillinger!$B$4),T32,NA())","v":{"$error":"#N/A"}},{"$f":"IF(AND(X32<>\"\",X33=\"\",Skjulte_Indstillinger!$B$5),X32,NA())","v":{"$error":"#N/A"}},{"$f":"IF(AND(AB32<>\"\",AB33=\"\",Skjulte_Indstillinger!$B$6),AB32,NA())","v":{"$error":"#N/A"}},{"$f":"IF(AND(AF32<>\"\",AF33=\"\",Skjulte_Indstillinger!$B$7),AF32,NA())","v":{"$error":"#N/A"}},{"$f":"IF(AND(AJ32<>\"\",AJ33=\"\",Skjulte_Indstillinger!$B$8),AJ32,NA())","v":{"$error":"#N/A"}},{"$f":"IF(AND(AN32<>\"\",AN33=\"\",Skjulte_Indstillinger!$B$9),AN32,NA())","v":{"$error":"#N/A"}},{"$f":"IF(AND(AR32<>\"\",AR33=\"\",Skjulte_Indstillinger!$B$10),AR32,NA())","v":{"$error":"#N/A"}}]
["",{"$f":"IF(Indtastning!B45=\"\",\"\",Indtastning!B45)","v":""},{"$f":"CELL(\"format\",Indtastning!B45)","v":"G"},"",{"$f":"IF(Indtastning!D45=\"\",\"\",Indtastning!D45)","v":""},{"$f":"IF(Indtastning!E45=\"\",\"\",Indtastning!E45)","v":""},{"$error":"#N/A"},"",{"$f":"IF(Indtastning!I45=\"\",\"\",Indtastning!I45)","v":""},{"$f":"IF(Indtastning!J45=\"\",\"\",Indtastning!J45)","v":""},{"$f":"IF(OR(J33=\"\",J33=0,Skjulte_Indstillinger!$B$2=FALSE()),#N/A,I33/J33)","v":{"$error":"#N/A"}},"",{"$f":"IF(Indtastning!L45=\"\",\"\",Indtastning!L45)","v":""},{"$f":"IF(Indtastning!M45=\"\",\"\",Indtastning!M45)","v":""},{"$f":"IF(OR(N33=\"\",N33=0,Skjulte_Indstillinger!$B$3=FALSE()),#N/A,M33/N33)","v":{"$error":"#N/A"}},"",{"$f":"IF(Indtastning!O45=\"\",\"\",Indtastning!O45)","v":""},{"$f":"IF(Indtastning!P45=\"\",\"\",Indtastning!P45)","v":""},{"$f":"IF(OR(R33=\"\",R33=0,Skjulte_Indstillinger!$B$4=FALSE()),#N/A,Q33/R33)","v":{"$error":"#N/A"}},"",{"$f":"IF(Indtastning!R45=\"\",\"\",Indtastning!R45)","v":""},{"$f":"IF(Indtastning!S45=\"\",\"\",Indtastning!S45)","v":""},{"$f":"IF(OR(V33=\"\",V33=0,Skjulte_Indstillinger!$B$5=FALSE()),#N/A,U33/V33)","v":{"$error":"#N/A"}},"",{"$f":"IF(Indtastning!U45=\"\",\"\",Indtastning!U45)","v":""},{"$f":"IF(Indtastning!V45=\"\",\"\",Indtastning!V45)","v":""},{"$f":"IF(OR(Z33=\"\",Z33=0,Skjulte_Indstillinger!$B$6=FALSE()),#N/A,Y33/Z33)","v":{"$error":"#N/A"}},"",{"$f":"IF(Indtastning!X45=\"\",\"\",Indtastning!X45)","v":""},{"$f":"IF(Indtastning!Y45=\"\",\"\",Indtastning!Y45)","v":""},{"$f":"IF(OR(AD33=\"\",AD33=0,Skjulte_Indstillinger!$B$7=FALSE()),#N/A,AC33/AD33)","v":{"$error":"#N/A"}},"",{"$f":"IF(Indtastning!AA45=\"\",\"\",Indtastning!AA45)","v":""},{"$f":"IF(Indtastning!AB45=\"\",\"\",Indtastning!AB45)","v":""},{"$f":"IF(OR(AH33=\"\",AH33=0,Skjulte_Indstillinger!$B$8=FALSE()),#N/A,AG33/AH33)","v":{"$error":"#N/A"}},"",{"$f":"IF(Indtastning!AD45=\"\",\"\",Indtastning!AD45)","v":""},{"$f":"IF(Indtastning!AE45=\"\",\"\",Indtastning!AE45)","v":""},{"$f":"IF(OR(AL33=\"\",AL33=0,Skjulte_Indstillinger!$B$9=FALSE()),#N/A,AK33/AL33)","v":{"$error":"#N/A"}},"",{"$f":"IF(Indtastning!AG45=\"\",\"\",Indtastning!AG45)","v":""},{"$f":"IF(Indtastning!AH45=\"\",\"\",Indtastning!AH45)","v":""},{"$f":"IF(OR(AP33=\"\",AP33=0,Skjulte_Indstillinger!$B$10=FALSE()),#N/A,AO33/AP33)","v":{"$error":"#N/A"}},"",{"$f":"IF(Indtastning!G45=\"\",#N/A,Indtastning!G45)","v":{"$error":"#N/A"}},{"$error":"#N/A"},{"$f":"LOG(_xlfn.AGGREGATE(3,3,$AS$6:$AS33),10)","v":{"$error":"#NUM!"}},0,0,0,0,0,0,0,"","",{"$error":"#N/A"},{"$error":"#N/A"},{"$error":"#N/A"},{"$error":"#N/A"},0,"","","","",0,0,0,"",{"$error":"#N/A"},{"$error":"#N/A"},{"$f":"IF(AND(H33<>\"\",H34=\"\",OR(Skjulte_Indstillinger!$B$2,Skjulte_Indstillinger!$B$3,Skjulte_Indstillinger!$B$4,Skjulte_Indstillinger!$B$5,Skjulte_Indstillinger!$B$6,Skjulte_Indstillinger!$B$7,Skjulte_Indstillinger!$B$8,Skjulte_Indstillinger!$B$9,Skjulte_Indstillinger!$B$10)),H33,NA())","v":{"$error":"#N/A"}},{"$f":"IF(AND(L33<>\"\",L34=\"\",Skjulte_Indstillinger!$B$2),L33,NA())","v":{"$error":"#N/A"}},{"$f":"IF(AND(P33<>\"\",P34=\"\",Skjulte_Indstillinger!$B$3),P33,NA())","v":{"$error":"#N/A"}},{"$f":"IF(AND(T33<>\"\",T34=\"\",Skjulte_Indstillinger!$B$4),T33,NA())","v":{"$error":"#N/A"}},{"$f":"IF(AND(X33<>\"\",X34=\"\",Skjulte_Indstillinger!$B$5),X33,NA())","v":{"$error":"#N/A"}},{"$f":"IF(AND(AB33<>\"\",AB34=\"\",Skjulte_Indstillinger!$B$6),AB33,NA())","v":{"$error":"#N/A"}},{"$f":"IF(AND(AF33<>\"\",AF34=\"\",Skjulte_Indstillinger!$B$7),AF33,NA())","v":{"$error":"#N/A"}},{"$f":"IF(AND(AJ33<>\"\",AJ34=\"\",Skjulte_Indstillinger!$B$8),AJ33,NA())","v":{"$error":"#N/A"}},{"$f":"IF(AND(AN33<>\"\",AN34=\"\",Skjulte_Indstillinger!$B$9),AN33,NA())","v":{"$error":"#N/A"}},{"$f":"IF(AND(AR33<>\"\",AR34=\"\",Skjulte_Indstillinger!$B$10),AR33,NA())","v":{"$error":"#N/A"}}]
["",{"$f":"IF(Indtastning!B46=\"\",\"\",Indtastning!B46)","v":""},{"$f":"CELL(\"format\",Indtastning!B46)","v":"G"},"",{"$f":"IF(Indtastning!D46=\"\",\"\",Indtastning!D46)","v":""},{"$f":"IF(Indtastning!E46=\"\",\"\",Indtastning!E46)","v":""},{"$error":"#N/A"},"",{"$f":"IF(Indtastning!I46=\"\",\"\",Indtastning!I46)","v":""},{"$f":"IF(Indtastning!J46=\"\",\"\",Indtastning!J46)","v":""},{"$f":"IF(OR(J34=\"\",J34=0,Skjulte_Indstillinger!$B$2=FALSE()),#N/A,I34/J34)","v":{"$error":"#N/A"}},"",{"$f":"IF(Indtastning!L46=\"\",\"\",Indtastning!L46)","v":""},{"$f":"IF(Indtastning!M46=\"\",\"\",Indtastning!M46)","v":""},{"$f":"IF(OR(N34=\"\",N34=0,Skjulte_Indstillinger!$B$3=FALSE()),#N/A,M34/N34)","v":{"$error":"#N/A"}},"",{"$f":"IF(Indtastning!O46=\"\",\"\",Indtastning!O46)","v":""},{"$f":"IF(Indtastning!P46=\"\",\"\",Indtastning!P46)","v":""},{"$f":"IF(OR(R34=\"\",R34=0,Skjulte_Indstillinger!$B$4=FALSE()),#N/A,Q34/R34)","v":{"$error":"#N/A"}},"",{"$f":"IF(Indtastning!R46=\"\",\"\",Indtastning!R46)","v":""},{"$f":"IF(Indtastning!S46=\"\",\"\",Indtastning!S46)","v":""},{"$f":"IF(OR(V34=\"\",V34=0,Skjulte_Indstillinger!$B$5=FALSE()),#N/A,U34/V34)","v":{"$error":"#N/A"}},"",{"$f":"IF(Indtastning!U46=\"\",\"\",Indtastning!U46)","v":""},{"$f":"IF(Indtastning!V46=\"\",\"\",Indtastning!V46)","v":""},{"$f":"IF(OR(Z34=\"\",Z34=0,Skjulte_Indstillinger!$B$6=FALSE()),#N/A,Y34/Z34)","v":{"$error":"#N/A"}},"",{"$f":"IF(Indtastning!X46=\"\",\"\",Indtastning!X46)","v":""},{"$f":"IF(Indtastning!Y46=\"\",\"\",Indtastning!Y46)","v":""},{"$f":"IF(OR(AD34=\"\",AD34=0,Skjulte_Indstillinger!$B$7=FALSE()),#N/A,AC34/AD34)","v":{"$error":"#N/A"}},"",{"$f":"IF(Indtastning!AA46=\"\",\"\",Indtastning!AA46)","v":""},{"$f":"IF(Indtastning!AB46=\"\",\"\",Indtastning!AB46)","v":""},{"$f":"IF(OR(AH34=\"\",AH34=0,Skjulte_Indstillinger!$B$8=FALSE()),#N/A,AG34/AH34)","v":{"$error":"#N/A"}},"",{"$f":"IF(Indtastning!AD46=\"\",\"\",Indtastning!AD46)","v":""},{"$f":"IF(Indtastning!AE46=\"\",\"\",Indtastning!AE46)","v":""},{"$f":"IF(OR(AL34=\"\",AL34=0,Skjulte_Indstillinger!$B$9=FALSE()),#N/A,AK34/AL34)","v":{"$error":"#N/A"}},"",{"$f":"IF(Indtastning!AG46=\"\",\"\",Indtastning!AG46)","v":""},{"$f":"IF(Indtastning!AH46=\"\",\"\",Indtastning!AH46)","v":""},{"$f":"IF(OR(AP34=\"\",AP34=0,Skjulte_Indstillinger!$B$10=FALSE()),#N/A,AO34/AP34)","v":{"$error":"#N/A"}},"",{"$f":"IF(Indtastning!G46=\"\",#N/A,Indtastning!G46)","v":{"$error":"#N/A"}},{"$error":"#N/A"},{"$f":"LOG(_xlfn.AGGREGATE(3,3,$AS$6:$AS34),10)","v":{"$error":"#NUM!"}},0,0,0,0,0,0,0,"","",{"$error":"#N/A"},{"$error":"#N/A"},{"$error":"#N/A"},{"$error":"#N/A"},0,"","","","",0,0,0,"",{"$error":"#N/A"},{"$error":"#N/A"},{"$f":"IF(AND(H34<>\"\",H35=\"\",OR(Skjulte_Indstillinger!$B$2,Skjulte_Indstillinger!$B$3,Skjulte_Indstillinger!$B$4,Skjulte_Indstillinger!$B$5,Skjulte_Indstillinger!$B$6,Skjulte_Indstillinger!$B$7,Skjulte_Indstillinger!$B$8,Skjulte_Indstillinger!$B$9,Skjulte_Indstillinger!$B$10)),H34,NA())","v":{"$error":"#N/A"}},{"$f":"IF(AND(L34<>\"\",L35=\"\",Skjulte_Indstillinger!$B$2),L34,NA())","v":{"$error":"#N/A"}},{"$f":"IF(AND(P34<>\"\",P35=\"\",Skjulte_Indstillinger!$B$3),P34,NA())","v":{"$error":"#N/A"}},{"$f":"IF(AND(T34<>\"\",T35=\"\",Skjulte_Indstillinger!$B$4),T34,NA())","v":{"$error":"#N/A"}},{"$f":"IF(AND(X34<>\"\",X35=\"\",Skjulte_Indstillinger!$B$5),X34,NA())","v":{"$error":"#N/A"}},{"$f":"IF(AND(AB34<>\"\",AB35=\"\",Skjulte_Indstillinger!$B$6),AB34,NA())","v":{"$error":"#N/A"}},{"$f":"IF(AND(AF34<>\"\",AF35=\"\",Skjulte_Indstillinger!$B$7),AF34,NA())","v":{"$error":"#N/A"}},{"$f":"IF(AND(AJ34<>\"\",AJ35=\"\",Skjulte_Indstillinger!$B$8),AJ34,NA())","v":{"$error":"#N/A"}},{"$f":"IF(AND(AN34<>\"\",AN35=\"\",Skjulte_Indstillinger!$B$9),AN34,NA())","v":{"$error":"#N/A"}},{"$f":"IF(AND(AR34<>\"\",AR35=\"\",Skjulte_Indstillinger!$B$10),AR34,NA())","v":{"$error":"#N/A"}}]
["",{"$f":"IF(Indtastning!B47=\"\",\"\",Indtastning!B47)","v":""},{"$f":"CELL(\"format\",Indtastning!B47)","v":"G"},"",{"$f":"IF(Indtastning!D47=\"\",\"\",Indtastning!D47)","v":""},{"$f":"IF(Indtastning!E47=\"\",\"\",Indtastning!E47)","v":""},{"$error":"#N/A"},"",{"$f":"IF(Indtastning!I47=\"\",\"\",Indtastning!I47)","v":""},{"$f":"IF(Indtastning!J47=\"\",\"\",Indtastning!J47)","v":""},{"$f":"IF(OR(J35=\"\",J35=0,Skjulte_Indstillinger!$B$2=FALSE()),#N/A,I35/J35)","v":{"$error":"#N/A"}},"",{"$f":"IF(Indtastning!L47=\"\",\"\",Indtastning!L47)","v":""},{"$f":"IF(Indtastning!M47=\"\",\"\",Indtastning!M47)","v":""},{"$f":"IF(OR(N35=\"\",N35=0,Skjulte_Indstillinger!$B$3=FALSE()),#N/A,M35/N35)","v":{"$error":"#N/A"}},"",{"$f":"IF(Indtastning!O47=\"\",\"\",Indtastning!O47)","v":""},{"$f":"IF(Indtastning!P47=\"\",\"\",Indtastning!P47)","v":""},{"$f":"IF(OR(R35=\"\",R35=0,Skjulte_Indstillinger!$B$4=FALSE()),#N/A,Q35/R35)","v":{"$error":"#N/A"}},"",{"$f":"IF(Indtastning!R47=\"\",\"\",Indtastning!R47)","v":""},{"$f":"IF(Indtastning!S47=\"\",\"\",Indtastning!S47)","v":""},{"$f":"IF(OR(V35=\"\",V35=0,Skjulte_Indstillinger!$B$5=FALSE()),#N/A,U35/V35)","v":{"$error":"#N/A"}},"",{"$f":"IF(Indtastning!U47=\"\",\"\",Indtastning!U47)","v":""},{"$f":"IF(Indtastning!V47=\"\",\"\",Indtastning!V47)","v":""},{"$f":"IF(OR(Z35=\"\",Z35=0,Skjulte_Indstillinger!$B$6=FALSE()),#N/A,Y35/Z35)","v":{"$error":"#N/A"}},"",{"$f":"IF(Indtastning!X47=\"\",\"\",Indtastning!X47)","v":""},{"$f":"IF(Indtastning!Y47=\"\",\"\",Indtastning!Y47)","v":""},{"$f":"IF(OR(AD35=\"\",AD35=0,Skjulte_Indstillinger!$B$7=FALSE()),#N/A,AC35/AD35)","v":{"$error":"#N/A"}},"",{"$f":"IF(Indtastning!AA47=\"\",\"\",Indtastning!AA47)","v":""},{"$f":"IF(Indtastning!AB47=\"\",\"\",Indtastning!AB47)","v":""},{"$f":"IF(OR(AH35=\"\",AH35=0,Skjulte_Indstillinger!$B$8=FALSE()),#N/A,AG35/AH35)","v":{"$error":"#N/A"}},"",{"$f":"IF(Indtastning!AD47=\"\",\"\",Indtastning!AD47)","v":""},{"$f":"IF(Indtastning!AE47=\"\",\"\",Indtastning!AE47)","v":""},{"$f":"IF(OR(AL35=\"\",AL35=0,Skjulte_Indstillinger!$B$9=FALSE()),#N/A,AK35/AL35)","v":{"$error":"#N/A"}},"",{"$f":"IF(Indtastning!AG47=\"\",\"\",Indtastning!AG47)","v":""},{"$f":"IF(Indtastning!AH47=\"\",\"\",Indtastning!AH47)","v":""},{"$f":"IF(OR(AP35=\"\",AP35=0,Skjulte_Indstillinger!$B$10=FALSE()),#N/A,AO35/AP35)","v":{"$error":"#N/A"}},"",{"$f":"IF(Indtastning!G47=\"\",#N/A,Indtastning!G47)","v":{"$error":"#N/A"}},{"$error":"#N/A"},{"$f":"LOG(_xlfn.AGGREGATE(3,3,$AS$6:$AS35),10)","v":{"$error":"#NUM!"}},0,0,0,0,0,0,0,"","",{"$error":"#N/A"},{"$error":"#N/A"},{"$error":"#N/A"},{"$error":"#N/A"},0,"","","","",0,0,0,"",{"$error":"#N/A"},{"$error":"#N/A"},{"$f":"IF(AND(H35<>\"\",H36=\"\",OR(Skjulte_Indstillinger!$B$2,Skjulte_Indstillinger!$B$3,Skjulte_Indstillinger!$B$4,Skjulte_Indstillinger!$B$5,Skjulte_Indstillinger!$B$6,Skjulte_Indstillinger!$B$7,Skjulte_Indstillinger!$B$8,Skjulte_Indstillinger!$B$9,Skjulte_Indstillinger!$B$10)),H35,NA())","v":{"$error":"#N/A"}},{"$f":"IF(AND(L35<>\"\",L36=\"\",Skjulte_Indstillinger!$B$2),L35,NA())","v":{"$error":"#N/A"}},{"$f":"IF(AND(P35<>\"\",P36=\"\",Skjulte_Indstillinger!$B$3),P35,NA())","v":{"$error":"#N/A"}},{"$f":"IF(AND(T35<>\"\",T36=\"\",Skjulte_Indstillinger!$B$4),T35,NA())","v":{"$error":"#N/A"}},{"$f":"IF(AND(X35<>\"\",X36=\"\",Skjulte_Indstillinger!$B$5),X35,NA())","v":{"$error":"#N/A"}},{"$f":"IF(AND(AB35<>\"\",AB36=\"\",Skjulte_Indstillinger!$B$6),AB35,NA())","v":{"$error":"#N/A"}},{"$f":"IF(AND(AF35<>\"\",AF36=\"\",Skjulte_Indstillinger!$B$7),AF35,NA())","v":{"$error":"#N/A"}},{"$f":"IF(AND(AJ35<>\"\",AJ36=\"\",Skjulte_Indstillinger!$B$8),AJ35,NA())","v":{"$error":"#N/A"}},{"$f":"IF(AND(AN35<>\"\",AN36=\"\",Skjulte_Indstillinger!$B$9),AN35,NA())","v":{"$error":"#N/A"}},{"$f":"IF(AND(AR35<>\"\",AR36=\"\",Skjulte_Indstillinger!$B$10),AR35,NA())","v":{"$error":"#N/A"}}]
["",{"$f":"IF(Indtastning!B48=\"\",\"\",Indtastning!B48)","v":""},{"$f":"CELL(\"format\",Indtastning!B48)","v":"G"},"",{"$f":"IF(Indtastning!D48=\"\",\"\",Indtastning!D48)","v":""},{"$f":"IF(Indtastning!E48=\"\",\"\",Indtastning!E48)","v":""},{"$error":"#N/A"},"",{"$f":"IF(Indtastning!I48=\"\",\"\",Indtastning!I48)","v":""},{"$f":"IF(Indtastning!J48=\"\",\"\",Indtastning!J48)","v":""},{"$f":"IF(OR(J36=\"\",J36=0,Skjulte_Indstillinger!$B$2=FALSE()),#N/A,I36/J36)","v":{"$error":"#N/A"}},"",{"$f":"IF(Indtastning!L48=\"\",\"\",Indtastning!L48)","v":""},{"$f":"IF(Indtastning!M48=\"\",\"\",Indtastning!M48)","v":""},{"$f":"IF(OR(N36=\"\",N36=0,Skjulte_Indstillinger!$B$3=FALSE()),#N/A,M36/N36)","v":{"$error":"#N/A"}},"",{"$f":"IF(Indtastning!O48=\"\",\"\",Indtastning!O48)","v":""},{"$f":"IF(Indtastning!P48=\"\",\"\",Indtastning!P48)","v":""},{"$f":"IF(OR(R36=\"\",R36=0,Skjulte_Indstillinger!$B$4=FALSE()),#N/A,Q36/R36)","v":{"$error":"#N/A"}},"",{"$f":"IF(Indtastning!R48=\"\",\"\",Indtastning!R48)","v":""},{"$f":"IF(Indtastning!S48=\"\",\"\",Indtastning!S48)","v":""},{"$f":"IF(OR(V36=\"\",V36=0,Skjulte_Indstillinger!$B$5=FALSE()),#N/A,U36/V36)","v":{"$error":"#N/A"}},"",{"$f":"IF(Indtastning!U48=\"\",\"\",Indtastning!U48)","v":""},{"$f":"IF(Indtastning!V48=\"\",\"\",Indtastning!V48)","v":""},{"$f":"IF(OR(Z36=\"\",Z36=0,Skjulte_Indstillinger!$B$6=FALSE()),#N/A,Y36/Z36)","v":{"$error":"#N/A"}},"",{"$f":"IF(Indtastning!X48=\"\",\"\",Indtastning!X48)","v":""},{"$f":"IF(Indtastning!Y48=\"\",\"\",Indtastning!Y48)","v":""},{"$f":"IF(OR(AD36=\"\",AD36=0,Skjulte_Indstillinger!$B$7=FALSE()),#N/A,AC36/AD36)","v":{"$error":"#N/A"}},"",{"$f":"IF(Indtastning!AA48=\"\",\"\",Indtastning!AA48)","v":""},{"$f":"IF(Indtastning!AB48=\"\",\"\",Indtastning!AB48)","v":""},{"$f":"IF(OR(AH36=\"\",AH36=0,Skjulte_Indstillinger!$B$8=FALSE()),#N/A,AG36/AH36)","v":{"$error":"#N/A"}},"",{"$f":"IF(Indtastning!AD48=\"\",\"\",Indtastning!AD48)","v":""},{"$f":"IF(Indtastning!AE48=\"\",\"\",Indtastning!AE48)","v":""},{"$f":"IF(OR(AL36=\"\",AL36=0,Skjulte_Indstillinger!$B$9=FALSE()),#N/A,AK36/AL36)","v":{"$error":"#N/A"}},"",{"$f":"IF(Indtastning!AG48=\"\",\"\",Indtastning!AG48)","v":""},{"$f":"IF(Indtastning!AH48=\"\",\"\",Indtastning!AH48)","v":""},{"$f":"IF(OR(AP36=\"\",AP36=0,Skjulte_Indstillinger!$B$10=FALSE()),#N/A,AO36/AP36)","v":{"$error":"#N/A"}},"",{"$f":"IF(Indtastning!G48=\"\",#N/A,Indtastning!G48)","v":{"$error":"#N/A"}},{"$error":"#N/A"},{"$f":"LOG(_xlfn.AGGREGATE(3,3,$AS$6:$AS36),10)","v":{"$error":"#NUM!"}},0,0,0,0,0,0,0,"","",{"$error":"#N/A"},{"$error":"#N/A"},{"$error":"#N/A"},{"$error":"#N/A"},0,"","","","",0,0,0,"",{"$error":"#N/A"},{"$error":"#N/A"},{"$f":"IF(AND(H36<>\"\",H37=\"\",OR(Skjulte_Indstillinger!$B$2,Skjulte_Indstillinger!$B$3,Skjulte_Indstillinger!$B$4,Skjulte_Indstillinger!$B$5,Skjulte_Indstillinger!$B$6,Skjulte_Indstillinger!$B$7,Skjulte_Indstillinger!$B$8,Skjulte_Indstillinger!$B$9,Skjulte_Indstillinger!$B$10)),H36,NA())","v":{"$error":"#N/A"}},{"$f":"IF(AND(L36<>\"\",L37=\"\",Skjulte_Indstillinger!$B$2),L36,NA())","v":{"$error":"#N/A"}},{"$f":"IF(AND(P36<>\"\",P37=\"\",Skjulte_Indstillinger!$B$3),P36,NA())","v":{"$error":"#N/A"}},{"$f":"IF(AND(T36<>\"\",T37=\"\",Skjulte_Indstillinger!$B$4),T36,NA())","v":{"$error":"#N/A"}},{"$f":"IF(AND(X36<>\"\",X37=\"\",Skjulte_Indstillinger!$B$5),X36,NA())","v":{"$error":"#N/A"}},{"$f":"IF(AND(AB36<>\"\",AB37=\"\",Skjulte_Indstillinger!$B$6),AB36,NA())","v":{"$error":"#N/A"}},{"$f":"IF(AND(AF36<>\"\",AF37=\"\",Skjulte_Indstillinger!$B$7),AF36,NA())","v":{"$error":"#N/A"}},{"$f":"IF(AND(AJ36<>\"\",AJ37=\"\",Skjulte_Indstillinger!$B$8),AJ36,NA())","v":{"$error":"#N/A"}},{"$f":"IF(AND(AN36<>\"\",AN37=\"\",Skjulte_Indstillinger!$B$9),AN36,NA())","v":{"$error":"#N/A"}},{"$f":"IF(AND(AR36<>\"\",AR37=\"\",Skjulte_Indstillinger!$B$10),AR36,NA())","v":{"$error":"#N/A"}}]
["",{"$f":"IF(Indtastning!B49=\"\",\"\",Indtastning!B49)","v":""},{"$f":"CELL(\"format\",Indtastning!B49)","v":"G"},"",{"$f":"IF(Indtastning!D49=\"\",\"\",Indtastning!D49)","v":""},{"$f":"IF(Indtastning!E49=\"\",\"\",Indtastning!E49)","v":""},{"$error":"#N/A"},"",{"$f":"IF(Indtastning!I49=\"\",\"\",Indtastning!I49)","v":""},{"$f":"IF(Indtastning!J49=\"\",\"\",Indtastning!J49)","v":""},{"$f":"IF(OR(J37=\"\",J37=0,Skjulte_Indstillinger!$B$2=FALSE()),#N/A,I37/J37)","v":{"$error":"#N/A"}},"",{"$f":"IF(Indtastning!L49=\"\",\"\",Indtastning!L49)","v":""},{"$f":"IF(Indtastning!M49=\"\",\"\",Indtastning!M49)","v":""},{"$f":"IF(OR(N37=\"\",N37=0,Skjulte_Indstillinger!$B$3=FALSE()),#N/A,M37/N37)","v":{"$error":"#N/A"}},"",{"$f":"IF(Indtastning!O49=\"\",\"\",Indtastning!O49)","v":""},{"$f":"IF(Indtastning!P49=\"\",\"\",Indtastning!P49)","v":""},{"$f":"IF(OR(R37=\"\",R37=0,Skjulte_Indstillinger!$B$4=FALSE()),#N/A,Q37/R37)","v":{"$error":"#N/A"}},"",{"$f":"IF(Indtastning!R49=\"\",\"\",Indtastning!R49)","v":""},{"$f":"IF(Indtastning!S49=\"\",\"\",Indtastning!S49)","v":""},{"$f":"IF(OR(V37=\"\",V37=0,Skjulte_Indstillinger!$B$5=FALSE()),#N/A,U37/V37)","v":{"$error":"#N/A"}},"",{"$f":"IF(Indtastning!U49=\"\",\"\",Indtastning!U49)","v":""},{"$f":"IF(Indtastning!V49=\"\",\"\",Indtastning!V49)","v":""},{"$f":"IF(OR(Z37=\"\",Z37=0,Skjulte_Indstillinger!$B$6=FALSE()),#N/A,Y37/Z37)","v":{"$error":"#N/A"}},"",{"$f":"IF(Indtastning!X49=\"\",\"\",Indtastning!X49)","v":""},{"$f":"IF(Indtastning!Y49=\"\",\"\",Indtastning!Y49)","v":""},{"$f":"IF(OR(AD37=\"\",AD37=0,Skjulte_Indstillinger!$B$7=FALSE()),#N/A,AC37/AD37)","v":{"$error":"#N/A"}},"",{"$f":"IF(Indtastning!AA49=\"\",\"\",Indtastning!AA49)","v":""},{"$f":"IF(Indtastning!AB49=\"\",\"\",Indtastning!AB49)","v":""},{"$f":"IF(OR(AH37=\"\",AH37=0,Skjulte_Indstillinger!$B$8=FALSE()),#N/A,AG37/AH37)","v":{"$error":"#N/A"}},"",{"$f":"IF(Indtastning!AD49=\"\",\"\",Indtastning!AD49)","v":""},{"$f":"IF(Indtastning!AE49=\"\",\"\",Indtastning!AE49)","v":""},{"$f":"IF(OR(AL37=\"\",AL37=0,Skjulte_Indstillinger!$B$9=FALSE()),#N/A,AK37/AL37)","v":{"$error":"#N/A"}},"",{"$f":"IF(Indtastning!AG49=\"\",\"\",Indtastning!AG49)","v":""},{"$f":"IF(Indtastning!AH49=\"\",\"\",Indtastning!AH49)","v":""},{"$f":"IF(OR(AP37=\"\",AP37=0,Skjulte_Indstillinger!$B$10=FALSE()),#N/A,AO37/AP37)","v":{"$error":"#N/A"}},"",{"$f":"IF(Indtastning!G49=\"\",#N/A,Indtastning!G49)","v":{"$error":"#N/A"}},{"$error":"#N/A"},{"$f":"LOG(_xlfn.AGGREGATE(3,3,$AS$6:$AS37),10)","v":{"$error":"#NUM!"}},0,0,0,0,0,0,0,"","",{"$error":"#N/A"},{"$error":"#N/A"},{"$error":"#N/A"},{"$error":"#N/A"},0,"","","","",0,0,0,"",{"$error":"#N/A"},{"$error":"#N/A"},{"$f":"IF(AND(H37<>\"\",H38=\"\",OR(Skjulte_Indstillinger!$B$2,Skjulte_Indstillinger!$B$3,Skjulte_Indstillinger!$B$4,Skjulte_Indstillinger!$B$5,Skjulte_Indstillinger!$B$6,Skjulte_Indstillinger!$B$7,Skjulte_Indstillinger!$B$8,Skjulte_Indstillinger!$B$9,Skjulte_Indstillinger!$B$10)),H37,NA())","v":{"$error":"#N/A"}},{"$f":"IF(AND(L37<>\"\",L38=\"\",Skjulte_Indstillinger!$B$2),L37,NA())","v":{"$error":"#N/A"}},{"$f":"IF(AND(P37<>\"\",P38=\"\",Skjulte_Indstillinger!$B$3),P37,NA())","v":{"$error":"#N/A"}},{"$f":"IF(AND(T37<>\"\",T38=\"\",Skjulte_Indstillinger!$B$4),T37,NA())","v":{"$error":"#N/A"}},{"$f":"IF(AND(X37<>\"\",X38=\"\",Skjulte_Indstillinger!$B$5),X37,NA())","v":{"$error":"#N/A"}},{"$f":"IF(AND(AB37<>\"\",AB38=\"\",Skjulte_Indstillinger!$B$6),AB37,NA())","v":{"$error":"#N/A"}},{"$f":"IF(AND(AF37<>\"\",AF38=\"\",Skjulte_Indstillinger!$B$7),AF37,NA())","v":{"$error":"#N/A"}},{"$f":"IF(AND(AJ37<>\"\",AJ38=\"\",Skjulte_Indstillinger!$B$8),AJ37,NA())","v":{"$error":"#N/A"}},{"$f":"IF(AND(AN37<>\"\",AN38=\"\",Skjulte_Indstillinger!$B$9),AN37,NA())","v":{"$error":"#N/A"}},{"$f":"IF(AND(AR37<>\"\",AR38=\"\",Skjulte_Indstillinger!$B$10),AR37,NA())","v":{"$error":"#N/A"}}]
["",{"$f":"IF(Indtastning!B50=\"\",\"\",Indtastning!B50)","v":""},{"$f":"CELL(\"format\",Indtastning!B50)","v":"G"},"",{"$f":"IF(Indtastning!D50=\"\",\"\",Indtastning!D50)","v":""},{"$f":"IF(Indtastning!E50=\"\",\"\",Indtastning!E50)","v":""},{"$error":"#N/A"},"",{"$f":"IF(Indtastning!I50=\"\",\"\",Indtastning!I50)","v":""},{"$f":"IF(Indtastning!J50=\"\",\"\",Indtastning!J50)","v":""},{"$f":"IF(OR(J38=\"\",J38=0,Skjulte_Indstillinger!$B$2=FALSE()),#N/A,I38/J38)","v":{"$error":"#N/A"}},"",{"$f":"IF(Indtastning!L50=\"\",\"\",Indtastning!L50)","v":""},{"$f":"IF(Indtastning!M50=\"\",\"\",Indtastning!M50)","v":""},{"$f":"IF(OR(N38=\"\",N38=0,Skjulte_Indstillinger!$B$3=FALSE()),#N/A,M38/N38)","v":{"$error":"#N/A"}},"",{"$f":"IF(Indtastning!O50=\"\",\"\",Indtastning!O50)","v":""},{"$f":"IF(Indtastning!P50=\"\",\"\",Indtastning!P50)","v":""},{"$f":"IF(OR(R38=\"\",R38=0,Skjulte_Indstillinger!$B$4=FALSE()),#N/A,Q38/R38)","v":{"$error":"#N/A"}},"",{"$f":"IF(Indtastning!R50=\"\",\"\",Indtastning!R50)","v":""},{"$f":"IF(Indtastning!S50=\"\",\"\",Indtastning!S50)","v":""},{"$f":"IF(OR(V38=\"\",V38=0,Skjulte_Indstillinger!$B$5=FALSE()),#N/A,U38/V38)","v":{"$error":"#N/A"}},"",{"$f":"IF(Indtastning!U50=\"\",\"\",Indtastning!U50)","v":""},{"$f":"IF(Indtastning!V50=\"\",\"\",Indtastning!V50)","v":""},{"$f":"IF(OR(Z38=\"\",Z38=0,Skjulte_Indstillinger!$B$6=FALSE()),#N/A,Y38/Z38)","v":{"$error":"#N/A"}},"",{"$f":"IF(Indtastning!X50=\"\",\"\",Indtastning!X50)","v":""},{"$f":"IF(Indtastning!Y50=\"\",\"\",Indtastning!Y50)","v":""},{"$f":"IF(OR(AD38=\"\",AD38=0,Skjulte_Indstillinger!$B$7=FALSE()),#N/A,AC38/AD38)","v":{"$error":"#N/A"}},"",{"$f":"IF(Indtastning!AA50=\"\",\"\",Indtastning!AA50)","v":""},{"$f":"IF(Indtastning!AB50=\"\",\"\",Indtastning!AB50)","v":""},{"$f":"IF(OR(AH38=\"\",AH38=0,Skjulte_Indstillinger!$B$8=FALSE()),#N/A,AG38/AH38)","v":{"$error":"#N/A"}},"",{"$f":"IF(Indtastning!AD50=\"\",\"\",Indtastning!AD50)","v":""},{"$f":"IF(Indtastning!AE50=\"\",\"\",Indtastning!AE50)","v":""},{"$f":"IF(OR(AL38=\"\",AL38=0,Skjulte_Indstillinger!$B$9=FALSE()),#N/A,AK38/AL38)","v":{"$error":"#N/A"}},"",{"$f":"IF(Indtastning!AG50=\"\",\"\",Indtastning!AG50)","v":""},{"$f":"IF(Indtastning!AH50=\"\",\"\",Indtastning!AH50)","v":""},{"$f":"IF(OR(AP38=\"\",AP38=0,Skjulte_Indstillinger!$B$10=FALSE()),#N/A,AO38/AP38)","v":{"$error":"#N/A"}},"",{"$f":"IF(Indtastning!G50=\"\",#N/A,Indtastning!G50)","v":{"$error":"#N/A"}},{"$error":"#N/A"},{"$f":"LOG(_xlfn.AGGREGATE(3,3,$AS$6:$AS38),10)","v":{"$error":"#NUM!"}},0,0,0,0,0,0,{"$f":"IF(OR(A38=$C$101,BB37=1),1,0)","v":0},{"$f":"IF(BB38=0,H38,\"\")","v":""},{"$f":"IF(BB38=1,H38,\"\")","v":""},{"$error":"#N/A"},{"$error":"#N/A"},{"$error":"#N/A"},{"$f":"IF(ISERROR(BG38),#N/A,IF(BG38=G38,G38,NA()))","v":{"$error":"#N/A"}},0,{"$f":"IF((H38=\"\"),\"\",IF((H38=BG38),\"\",H38-BG38))","v":""},{"$f":"IF(ISERROR(G38),\"\",IF((BJ38=\"\"),0,SIGN(BJ38)))","v":""},"",{"$f":"IF(ISERROR(G38),\"\",IF(OR(BL38=BL37,BL37=0),0,1))","v":""},0,0,0,"",{"$error":"#N/A"},{"$error":"#N/A"},{"$f":"IF(AND(H38<>\"\",H39=\"\",OR(Skjulte_Indstillinger!$B$2,Skjulte_Indstillinger!$B$3,Skjulte_Indstillinger!$B$4,Skjulte_Indstillinger!$B$5,Skjulte_Indstillinger!$B$6,Skjulte_Indstillinger!$B$7,Skjulte_Indstillinger!$B$8,Skjulte_Indstillinger!$B$9,Skjulte_Indstillinger!$B$10)),H38,NA())","v":{"$error":"#N/A"}},{"$f":"IF(AND(L38<>\"\",L39=\"\",Skjulte_Indstillinger!$B$2),L38,NA())","v":{"$error":"#N/A"}},{"$f":"IF(AND(P38<>\"\",P39=\"\",Skjulte_Indstillinger!$B$3),P38,NA())","v":{"$error":"#N/A"}},{"$f":"IF(AND(T38<>\"\",T39=\"\",Skjulte_Indstillinger!$B$4),T38,NA())","v":{"$error":"#N/A"}},{"$f":"IF(AND(X38<>\"\",X39=\"\",Skjulte_Indstillinger!$B$5),X38,NA())","v":{"$error":"#N/A"}},{"$f":"IF(AND(AB38<>\"\",AB39=\"\",Skjulte_Indstillinger!$B$6),AB38,NA())","v":{"$error":"#N/A"}},{"$f":"IF(AND(AF38<>\"\",AF39=\"\",Skjulte_Indstillinger!$B$7),AF38,NA())","v":{"$error":"#N/A"}},{"$f":"IF(AND(AJ38<>\"\",AJ39=\"\",Skjulte_Indstillinger!$B$8),AJ38,NA())","v":{"$error":"#N/A"}},{"$f":"IF(AND(AN38<>\"\",AN39=\"\",Skjulte_Indstillinger!$B$9),AN38,NA())","v":{"$error":"#N/A"}},{"$f":"IF(AND(AR38<>\"\",AR39=\"\",Skjulte_Indstillinger!$B$10),AR38,NA())","v":{"$error":"#N/A"}}]
["",{"$f":"IF(Indtastning!B51=\"\",\"\",Indtastning!B51)","v":""},{"$f":"CELL(\"format\",Indtastning!B51)","v":"G"},"",{"$f":"IF(Indtastning!D51=\"\",\"\",Indtastning!D51)","v":""},{"$f":"IF(Indtastning!E51=\"\",\"\",Indtastning!E51)","v":""},{"$error":"#N/A"},"",{"$f":"IF(Indtastning!I51=\"\",\"\",Indtastning!I51)","v":""},{"$f":"IF(Indtastning!J51=\"\",\"\",Indtastning!J51)","v":""},{"$f":"IF(OR(J39=\"\",J39=0,Skjulte_Indstillinger!$B$2=FALSE()),#N/A,I39/J39)","v":{"$error":"#N/A"}},"",{"$f":"IF(Indtastning!L51=\"\",\"\",Indtastning!L51)","v":""},{"$f":"IF(Indtastning!M51=\"\",\"\",Indtastning!M51)","v":""},{"$f":"IF(OR(N39=\"\",N39=0,Skjulte_Indstillinger!$B$3=FALSE()),#N/A,M39/N39)","v":{"$error":"#N/A"}},"",{"$f":"IF(Indtastning!O51=\"\",\"\",Indtastning!O51)","v":""},{"$f":"IF(Indtastning!P51=\"\",\"\",Indtastning!P51)","v":""},{"$f":"IF(OR(R39=\"\",R39=0,Skjulte_Indstillinger!$B$4=FALSE()),#N/A,Q39/R39)","v":{"$error":"#N/A"}},"",{"$f":"IF(Indtastning!R51=\"\",\"\",Indtastning!R51)","v":""},{"$f":"IF(Indtastning!S51=\"\",\"\",Indtastning!S51)","v":""},{"$f":"IF(OR(V39=\"\",V39=0,Skjulte_Indstillinger!$B$5=FALSE()),#N/A,U39/V39)","v":{"$error":"#N/A"}},"",{"$f":"IF(Indtastning!U51=\"\",\"\",Indtastning!U51)","v":""},{"$f":"IF(Indtastning!V51=\"\",\"\",Indtastning!V51)","v":""},{"$f":"IF(OR(Z39=\"\",Z39=0,Skjulte_Indstillinger!$B$6=FALSE()),#N/A,Y39/Z39)","v":{"$error":"#N/A"}},"",{"$f":"IF(Indtastning!X51=\"\",\"\",Indtastning!X51)","v":""},{"$f":"IF(Indtastning!Y51=\"\",\"\",Indtastning!Y51)","v":""},{"$f":"IF(OR(AD39=\"\",AD39=0,Skjulte_Indstillinger!$B$7=FALSE()),#N/A,AC39/AD39)","v":{"$error":"#N/A"}},"",{"$f":"IF(Indtastning!AA51=\"\",\"\",Indtastning!AA51)","v":""},{"$f":"IF(Indtastning!AB51=\"\",\"\",Indtastning!AB51)","v":""},{"$f":"IF(OR(AH39=\"\",AH39=0,Skjulte_Indstillinger!$B$8=FALSE()),#N/A,AG39/AH39)","v":{"$error":"#N/A"}},"",{"$f":"IF(Indtastning!AD51=\"\",\"\",Indtastning!AD51)","v":""},{"$f":"IF(Indtastning!AE51=\"\",\"\",Indtastning!AE51)","v":""},{"$f":"IF(OR(AL39=\"\",AL39=0,Skjulte_Indstillinger!$B$9=FALSE()),#N/A,AK39/AL39)","v":{"$error":"#N/A"}},"",{"$f":"IF(Indtastning!AG51=\"\",\"\",Indtastning!AG51)","v":""},{"$f":"IF(Indtastning!AH51=\"\",\"\",Indtastning!AH51)","v":""},{"$f":"IF(OR(AP39=\"\",AP39=0,Skjulte_Indstillinger!$B$10=FALSE()),#N/A,AO39/AP39)","v":{"$error":"#N/A"}},"",{"$f":"IF(Indtastning!G51=\"\",#N/A,Indtastning!G51)","v":{"$error":"#N/A"}},{"$error":"#N/A"},{"$f":"LOG(_xlfn.AGGREGATE(3,3,$AS$6:$AS39),10)","v":{"$error":"#NUM!"}},0,0,0,0,0,0,0,"","",{"$error":"#N/A"},{"$error":"#N/A"},{"$error":"#N/A"},{"$error":"#N/A"},0,"","","","",0,0,0,"",{"$error":"#N/A"},{"$error":"#N/A"},{"$f":"IF(AND(H39<>\"\",H40=\"\",OR(Skjulte_Indstillinger!$B$2,Skjulte_Indstillinger!$B$3,Skjulte_Indstillinger!$B$4,Skjulte_Indstillinger!$B$5,Skjulte_Indstillinger!$B$6,Skjulte_Indstillinger!$B$7,Skjulte_Indstillinger!$B$8,Skjulte_Indstillinger!$B$9,Skjulte_Indstillinger!$B$10)),H39,NA())","v":{"$error":"#N/A"}},{"$f":"IF(AND(L39<>\"\",L40=\"\",Skjulte_Indstillinger!$B$2),L39,NA())","v":{"$error":"#N/A"}},{"$f":"IF(AND(P39<>\"\",P40=\"\",Skjulte_Indstillinger!$B$3),P39,NA())","v":{"$error":"#N/A"}},{"$f":"IF(AND(T39<>\"\",T40=\"\",Skjulte_Indstillinger!$B$4),T39,NA())","v":{"$error":"#N/A"}},{"$f":"IF(AND(X39<>\"\",X40=\"\",Skjulte_Indstillinger!$B$5),X39,NA())","v":{"$error":"#N/A"}},{"$f":"IF(AND(AB39<>\"\",AB40=\"\",Skjulte_Indstillinger!$B$6),AB39,NA())","v":{"$error":"#N/A"}},{"$f":"IF(AND(AF39<>\"\",AF40=\"\",Skjulte_Indstillinger!$B$7),AF39,NA())","v":{"$error":"#N/A"}},{"$f":"IF(AND(AJ39<>\"\",AJ40=\"\",Skjulte_Indstillinger!$B$8),AJ39,NA())","v":{"$error":"#N/A"}},{"$f":"IF(AND(AN39<>\"\",AN40=\"\",Skjulte_Indstillinger!$B$9),AN39,NA())","v":{"$error":"#N/A"}},{"$f":"IF(AND(AR39<>\"\",AR40=\"\",Skjulte_Indstillinger!$B$10),AR39,NA())","v":{"$error":"#N/A"}}]
["",{"$f":"IF(Indtastning!B52=\"\",\"\",Indtastning!B52)","v":""},{"$f":"CELL(\"format\",Indtastning!B52)","v":"G"},"",{"$f":"IF(Indtastning!D52=\"\",\"\",Indtastning!D52)","v":""},{"$f":"IF(Indtastning!E52=\"\",\"\",Indtastning!E52)","v":""},{"$error":"#N/A"},"",{"$f":"IF(Indtastning!I52=\"\",\"\",Indtastning!I52)","v":""},{"$f":"IF(Indtastning!J52=\"\",\"\",Indtastning!J52)","v":""},{"$f":"IF(OR(J40=\"\",J40=0,Skjulte_Indstillinger!$B$2=FALSE()),#N/A,I40/J40)","v":{"$error":"#N/A"}},"",{"$f":"IF(Indtastning!L52=\"\",\"\",Indtastning!L52)","v":""},{"$f":"IF(Indtastning!M52=\"\",\"\",Indtastning!M52)","v":""},{"$f":"IF(OR(N40=\"\",N40=0,Skjulte_Indstillinger!$B$3=FALSE()),#N/A,M40/N40)","v":{"$error":"#N/A"}},"",{"$f":"IF(Indtastning!O52=\"\",\"\",Indtastning!O52)","v":""},{"$f":"IF(Indtastning!P52=\"\",\"\",Indtastning!P52)","v":""},{"$f":"IF(OR(R40=\"\",R40=0,Skjulte_Indstillinger!$B$4=FALSE()),#N/A,Q40/R40)","v":{"$error":"#N/A"}},"",{"$f":"IF(Indtastning!R52=\"\",\"\",Indtastning!R52)","v":""},{"$f":"IF(Indtastning!S52=\"\",\"\",Indtastning!S52)","v":""},{"$f":"IF(OR(V40=\"\",V40=0,Skjulte_Indstillinger!$B$5=FALSE()),#N/A,U40/V40)","v":{"$error":"#N/A"}},"",{"$f":"IF(Indtastning!U52=\"\",\"\",Indtastning!U52)","v":""},{"$f":"IF(Indtastning!V52=\"\",\"\",Indtastning!V52)","v":""},{"$f":"IF(OR(Z40=\"\",Z40=0,Skjulte_Indstillinger!$B$6=FALSE()),#N/A,Y40/Z40)","v":{"$error":"#N/A"}},"",{"$f":"IF(Indtastning!X52=\"\",\"\",Indtastning!X52)","v":""},{"$f":"IF(Indtastning!Y52=\"\",\"\",Indtastning!Y52)","v":""},{"$f":"IF(OR(AD40=\"\",AD40=0,Skjulte_Indstillinger!$B$7=FALSE()),#N/A,AC40/AD40)","v":{"$error":"#N/A"}},"",{"$f":"IF(Indtastning!AA52=\"\",\"\",Indtastning!AA52)","v":""},{"$f":"IF(Indtastning!AB52=\"\",\"\",Indtastning!AB52)","v":""},{"$f":"IF(OR(AH40=\"\",AH40=0,Skjulte_Indstillinger!$B$8=FALSE()),#N/A,AG40/AH40)","v":{"$error":"#N/A"}},"",{"$f":"IF(Indtastning!AD52=\"\",\"\",Indtastning!AD52)","v":""},{"$f":"IF(Indtastning!AE52=\"\",\"\",Indtastning!AE52)","v":""},{"$f":"IF(OR(AL40=\"\",AL40=0,Skjulte_Indstillinger!$B$9=FALSE()),#N/A,AK40/AL40)","v":{"$error":"#N/A"}},"",{"$f":"IF(Indtastning!AG52=\"\",\"\",Indtastning!AG52)","v":""},{"$f":"IF(Indtastning!AH52=\"\",\"\",Indtastning!AH52)","v":""},{"$f":"IF(OR(AP40=\"\",AP40=0,Skjulte_Indstillinger!$B$10=FALSE()),#N/A,AO40/AP40)","v":{"$error":"#N/A"}},"",{"$f":"IF(Indtastning!G52=\"\",#N/A,Indtastning!G52)","v":{"$error":"#N/A"}},{"$error":"#N/A"},{"$f":"LOG(_xlfn.AGGREGATE(3,3,$AS$6:$AS40),10)","v":{"$error":"#NUM!"}},0,0,0,0,0,0,0,"","",{"$error":"#N/A"},{"$error":"#N/A"},{"$error":"#N/A"},{"$error":"#N/A"},0,"","","","",0,0,0,"",{"$error":"#N/A"},{"$error":"#N/A"},{"$f":"IF(AND(H40<>\"\",H41=\"\",OR(Skjulte_Indstillinger!$B$2,Skjulte_Indstillinger!$B$3,Skjulte_Indstillinger!$B$4,Skjulte_Indstillinger!$B$5,Skjulte_Indstillinger!$B$6,Skjulte_Indstillinger!$B$7,Skjulte_Indstillinger!$B$8,Skjulte_Indstillinger!$B$9,Skjulte_Indstillinger!$B$10)),H40,NA())","v":{"$error":"#N/A"}},{"$f":"IF(AND(L40<>\"\",L41=\"\",Skjulte_Indstillinger!$B$2),L40,NA())","v":{"$error":"#N/A"}},{"$f":"IF(AND(P40<>\"\",P41=\"\",Skjulte_Indstillinger!$B$3),P40,NA())","v":{"$error":"#N/A"}},{"$f":"IF(AND(T40<>\"\",T41=\"\",Skjulte_Indstillinger!$B$4),T40,NA())","v":{"$error":"#N/A"}},{"$f":"IF(AND(X40<>\"\",X41=\"\",Skjulte_Indstillinger!$B$5),X40,NA())","v":{"$error":"#N/A"}},{"$f":"IF(AND(AB40<>\"\",AB41=\"\",Skjulte_Indstillinger!$B$6),AB40,NA())","v":{"$error":"#N/A"}},{"$f":"IF(AND(AF40<>\"\",AF41=\"\",Skjulte_Indstillinger!$B$7),AF40,NA())","v":{"$error":"#N/A"}},{"$f":"IF(AND(AJ40<>\"\",AJ41=\"\",Skjulte_Indstillinger!$B$8),AJ40,NA())","v":{"$error":"#N/A"}},{"$f":"IF(AND(AN40<>\"\",AN41=\"\",Skjulte_Indstillinger!$B$9),AN40,NA())","v":{"$error":"#N/A"}},{"$f":"IF(AND(AR40<>\"\",AR41=\"\",Skjulte_Indstillinger!$B$10),AR40,NA())","v":{"$error":"#N/A"}}]
["",{"$f":"IF(Indtastning!B53=\"\",\"\",Indtastning!B53)","v":""},{"$f":"CELL(\"format\",Indtastning!B53)","v":"G"},"",{"$f":"IF(Indtastning!D53=\"\",\"\",Indtastning!D53)","v":""},{"$f":"IF(Indtastning!E53=\"\",\"\",Indtastning!E53)","v":""},{"$error":"#N/A"},"",{"$f":"IF(Indtastning!I53=\"\",\"\",Indtastning!I53)","v":""},{"$f":"IF(Indtastning!J53=\"\",\"\",Indtastning!J53)","v":""},{"$f":"IF(OR(J41=\"\",J41=0,Skjulte_Indstillinger!$B$2=FALSE()),#N/A,I41/J41)","v":{"$error":"#N/A"}},"",{"$f":"IF(Indtastning!L53=\"\",\"\",Indtastning!L53)","v":""},{"$f":"IF(Indtastning!M53=\"\",\"\",Indtastning!M53)","v":""},{"$f":"IF(OR(N41=\"\",N41=0,Skjulte_Indstillinger!$B$3=FALSE()),#N/A,M41/N41)","v":{"$error":"#N/A"}},"",{"$f":"IF(Indtastning!O53=\"\",\"\",Indtastning!O53)","v":""},{"$f":"IF(Indtastning!P53=\"\",\"\",Indtastning!P53)","v":""},{"$f":"IF(OR(R41=\"\",R41=0,Skjulte_Indstillinger!$B$4=FALSE()),#N/A,Q41/R41)","v":{"$error":"#N/A"}},"",{"$f":"IF(Indtastning!R53=\"\",\"\",Indtastning!R53)","v":""},{"$f":"IF(Indtastning!S53=\"\",\"\",Indtastning!S53)","v":""},{"$f":"IF(OR(V41=\"\",V41=0,Skjulte_Indstillinger!$B$5=FALSE()),#N/A,U41/V41)","v":{"$error":"#N/A"}},"",{"$f":"IF(Indtastning!U53=\"\",\"\",Indtastning!U53)","v":""},{"$f":"IF(Indtastning!V53=\"\",\"\",Indtastning!V53)","v":""},{"$f":"IF(OR(Z41=\"\",Z41=0,Skjulte_Indstillinger!$B$6=FALSE()),#N/A,Y41/Z41)","v":{"$error":"#N/A"}},"",{"$f":"IF(Indtastning!X53=\"\",\"\",Indtastning!X53)","v":""},{"$f":"IF(Indtastning!Y53=\"\",\"\",Indtastning!Y53)","v":""},{"$f":"IF(OR(AD41=\"\",AD41=0,Skjulte_Indstillinger!$B$7=FALSE()),#N/A,AC41/AD41)","v":{"$error":"#N/A"}},"",{"$f":"IF(Indtastning!AA53=\"\",\"\",Indtastning!AA53)","v":""},{"$f":"IF(Indtastning!AB53=\"\",\"\",Indtastning!AB53)","v":""},{"$f":"IF(OR(AH41=\"\",AH41=0,Skjulte_Indstillinger!$B$8=FALSE()),#N/A,AG41/AH41)","v":{"$error":"#N/A"}},"",{"$f":"IF(Indtastning!AD53=\"\",\"\",Indtastning!AD53)","v":""},{"$f":"IF(Indtastning!AE53=\"\",\"\",Indtastning!AE53)","v":""},{"$f":"IF(OR(AL41=\"\",AL41=0,Skjulte_Indstillinger!$B$9=FALSE()),#N/A,AK41/AL41)","v":{"$error":"#N/A"}},"",{"$f":"IF(Indtastning!AG53=\"\",\"\",Indtastning!AG53)","v":""},{"$f":"IF(Indtastning!AH53=\"\",\"\",Indtastning!AH53)","v":""},{"$f":"IF(OR(AP41=\"\",AP41=0,Skjulte_Indstillinger!$B$10=FALSE()),#N/A,AO41/AP41)","v":{"$error":"#N/A"}},"",{"$f":"IF(Indtastning!G53=\"\",#N/A,Indtastning!G53)","v":{"$error":"#N/A"}},{"$error":"#N/A"},{"$f":"LOG(_xlfn.AGGREGATE(3,3,$AS$6:$AS41),10)","v":{"$error":"#NUM!"}},0,0,0,0,0,0,0,"","",{"$error":"#N/A"},{"$error":"#N/A"},{"$error":"#N/A"},{"$error":"#N/A"},0,"","","","",0,0,0,"",{"$error":"#N/A"},{"$error":"#N/A"},{"$f":"IF(AND(H41<>\"\",H42=\"\",OR(Skjulte_Indstillinger!$B$2,Skjulte_Indstillinger!$B$3,Skjulte_Indstillinger!$B$4,Skjulte_Indstillinger!$B$5,Skjulte_Indstillinger!$B$6,Skjulte_Indstillinger!$B$7,Skjulte_Indstillinger!$B$8,Skjulte_Indstillinger!$B$9,Skjulte_Indstillinger!$B$10)),H41,NA())","v":{"$error":"#N/A"}},{"$f":"IF(AND(L41<>\"\",L42=\"\",Skjulte_Indstillinger!$B$2),L41,NA())","v":{"$error":"#N/A"}},{"$f":"IF(AND(P41<>\"\",P42=\"\",Skjulte_Indstillinger!$B$3),P41,NA())","v":{"$error":"#N/A"}},{"$f":"IF(AND(T41<>\"\",T42=\"\",Skjulte_Indstillinger!$B$4),T41,NA())","v":{"$error":"#N/A"}},{"$f":"IF(AND(X41<>\"\",X42=\"\",Skjulte_Indstillinger!$B$5),X41,NA())","v":{"$error":"#N/A"}},{"$f":"IF(AND(AB41<>\"\",AB42=\"\",Skjulte_Indstillinger!$B$6),AB41,NA())","v":{"$error":"#N/A"}},{"$f":"IF(AND(AF41<>\"\",AF42=\"\",Skjulte_Indstillinger!$B$7),AF41,NA())","v":{"$error":"#N/A"}},{"$f":"IF(AND(AJ41<>\"\",AJ42=\"\",Skjulte_Indstillinger!$B$8),AJ41,NA())","v":{"$error":"#N/A"}},{"$f":"IF(AND(AN41<>\"\",AN42=\"\",Skjulte_Indstillinger!$B$9),AN41,NA())","v":{"$error":"#N/A"}},{"$f":"IF(AND(AR41<>\"\",AR42=\"\",Skjulte_Indstillinger!$B$10),AR41,NA())","v":{"$error":"#N/A"}}]
["",{"$f":"IF(Indtastning!B54=\"\",\"\",Indtastning!B54)","v":""},{"$f":"CELL(\"format\",Indtastning!B54)","v":"G"},"",{"$f":"IF(Indtastning!D54=\"\",\"\",Indtastning!D54)","v":""},{"$f":"IF(Indtastning!E54=\"\",\"\",Indtastning!E54)","v":""},{"$error":"#N/A"},"",{"$f":"IF(Indtastning!I54=\"\",\"\",Indtastning!I54)","v":""},{"$f":"IF(Indtastning!J54=\"\",\"\",Indtastning!J54)","v":""},{"$f":"IF(OR(J42=\"\",J42=0,Skjulte_Indstillinger!$B$2=FALSE()),#N/A,I42/J42)","v":{"$error":"#N/A"}},"",{"$f":"IF(Indtastning!L54=\"\",\"\",Indtastning!L54)","v":""},{"$f":"IF(Indtastning!M54=\"\",\"\",Indtastning!M54)","v":""},{"$f":"IF(OR(N42=\"\",N42=0,Skjulte_Indstillinger!$B$3=FALSE()),#N/A,M42/N42)","v":{"$error":"#N/A"}},"",{"$f":"IF(Indtastning!O54=\"\",\"\",Indtastning!O54)","v":""},{"$f":"IF(Indtastning!P54=\"\",\"\",Indtastning!P54)","v":""},{"$f":"IF(OR(R42=\"\",R42=0,Skjulte_Indstillinger!$B$4=FALSE()),#N/A,Q42/R42)","v":{"$error":"#N/A"}},"",{"$f":"IF(Indtastning!R54=\"\",\"\",Indtastning!R54)","v":""},{"$f":"IF(Indtastning!S54=\"\",\"\",Indtastning!S54)","v":""},{"$f":"IF(OR(V42=\"\",V42=0,Skjulte_Indstillinger!$B$5=FALSE()),#N/A,U42/V42)","v":{"$error":"#N/A"}},"",{"$f":"IF(Indtastning!U54=\"\",\"\",Indtastning!U54)","v":""},{"$f":"IF(Indtastning!V54=\"\",\"\",Indtastning!V54)","v":""},{"$f":"IF(OR(Z42=\"\",Z42=0,Skjulte_Indstillinger!$B$6=FALSE()),#N/A,Y42/Z42)","v":{"$error":"#N/A"}},"",{"$f":"IF(Indtastning!X54=\"\",\"\",Indtastning!X54)","v":""},{"$f":"IF(Indtastning!Y54=\"\",\"\",Indtastning!Y54)","v":""},{"$f":"IF(OR(AD42=\"\",AD42=0,Skjulte_Indstillinger!$B$7=FALSE()),#N/A,AC42/AD42)","v":{"$error":"#N/A"}},"",{"$f":"IF(Indtastning!AA54=\"\",\"\",Indtastning!AA54)","v":""},{"$f":"IF(Indtastning!AB54=\"\",\"\",Indtastning!AB54)","v":""},{"$f":"IF(OR(AH42=\"\",AH42=0,Skjulte_Indstillinger!$B$8=FALSE()),#N/A,AG42/AH42)","v":{"$error":"#N/A"}},"",{"$f":"IF(Indtastning!AD54=\"\",\"\",Indtastning!AD54)","v":""},{"$f":"IF(Indtastning!AE54=\"\",\"\",Indtastning!AE54)","v":""},{"$f":"IF(OR(AL42=\"\",AL42=0,Skjulte_Indstillinger!$B$9=FALSE()),#N/A,AK42/AL42)","v":{"$error":"#N/A"}},"",{"$f":"IF(Indtastning!AG54=\"\",\"\",Indtastning!AG54)","v":""},{"$f":"IF(Indtastning!AH54=\"\",\"\",Indtastning!AH54)","v":""},{"$f":"IF(OR(AP42=\"\",AP42=0,Skjulte_Indstillinger!$B$10=FALSE()),#N/A,AO42/AP42)","v":{"$error":"#N/A"}},"",{"$f":"IF(Indtastning!G54=\"\",#N/A,Indtastning!G54)","v":{"$error":"#N/A"}},{"$error":"#N/A"},{"$f":"LOG(_xlfn.AGGREGATE(3,3,$AS$6:$AS42),10)","v":{"$error":"#NUM!"}},0,0,0,0,0,0,0,"","",{"$error":"#N/A"},{"$error":"#N/A"},{"$error":"#N/A"},{"$error":"#N/A"},0,"","","","",0,0,0,"",{"$error":"#N/A"},{"$error":"#N/A"},{"$f":"IF(AND(H42<>\"\",H43=\"\",OR(Skjulte_Indstillinger!$B$2,Skjulte_Indstillinger!$B$3,Skjulte_Indstillinger!$B$4,Skjulte_Indstillinger!$B$5,Skjulte_Indstillinger!$B$6,Skjulte_Indstillinger!$B$7,Skjulte_Indstillinger!$B$8,Skjulte_Indstillinger!$B$9,Skjulte_Indstillinger!$B$10)),H42,NA())","v":{"$error":"#N/A"}},{"$f":"IF(AND(L42<>\"\",L43=\"\",Skjulte_Indstillinger!$B$2),L42,NA())","v":{"$error":"#N/A"}},{"$f":"IF(AND(P42<>\"\",P43=\"\",Skjulte_Indstillinger!$B$3),P42,NA())","v":{"$error":"#N/A"}},{"$f":"IF(AND(T42<>\"\",T43=\"\",Skjulte_Indstillinger!$B$4),T42,NA())","v":{"$error":"#N/A"}},{"$f":"IF(AND(X42<>\"\",X43=\"\",Skjulte_Indstillinger!$B$5),X42,NA())","v":{"$error":"#N/A"}},{"$f":"IF(AND(AB42<>\"\",AB43=\"\",Skjulte_Indstillinger!$B$6),AB42,NA())","v":{"$error":"#N/A"}},{"$f":"IF(AND(AF42<>\"\",AF43=\"\",Skjulte_Indstillinger!$B$7),AF42,NA())","v":{"$error":"#N/A"}},{"$f":"IF(AND(AJ42<>\"\",AJ43=\"\",Skjulte_Indstillinger!$B$8),AJ42,NA())","v":{"$error":"#N/A"}},{"$f":"IF(AND(AN42<>\"\",AN43=\"\",Skjulte_Indstillinger!$B$9),AN42,NA())","v":{"$error":"#N/A"}},{"$f":"IF(AND(AR42<>\"\",AR43=\"\",Skjulte_Indstillinger!$B$10),AR42,NA())","v":{"$error":"#N/A"}}]
["",{"$f":"IF(Indtastning!B55=\"\",\"\",Indtastning!B55)","v":""},{"$f":"CELL(\"format\",Indtastning!B55)","v":"G"},"",{"$f":"IF(Indtastning!D55=\"\",\"\",Indtastning!D55)","v":""},{"$f":"IF(Indtastning!E55=\"\",\"\",Indtastning!E55)","v":""},{"$error":"#N/A"},"",{"$f":"IF(Indtastning!I55=\"\",\"\",Indtastning!I55)","v":""},{"$f":"IF(Indtastning!J55=\"\",\"\",Indtastning!J55)","v":""},{"$f":"IF(OR(J43=\"\",J43=0,Skjulte_Indstillinger!$B$2=FALSE()),#N/A,I43/J43)","v":{"$error":"#N/A"}},"",{"$f":"IF(Indtastning!L55=\"\",\"\",Indtastning!L55)","v":""},{"$f":"IF(Indtastning!M55=\"\",\"\",Indtastning!M55)","v":""},{"$f":"IF(OR(N43=\"\",N43=0,Skjulte_Indstillinger!$B$3=FALSE()),#N/A,M43/N43)","v":{"$error":"#N/A"}},"",{"$f":"IF(Indtastning!O55=\"\",\"\",Indtastning!O55)","v":""},{"$f":"IF(Indtastning!P55=\"\",\"\",Indtastning!P55)","v":""},{"$f":"IF(OR(R43=\"\",R43=0,Skjulte_Indstillinger!$B$4=FALSE()),#N/A,Q43/R43)","v":{"$error":"#N/A"}},"",{"$f":"IF(Indtastning!R55=\"\",\"\",Indtastning!R55)","v":""},{"$f":"IF(Indtastning!S55=\"\",\"\",Indtastning!S55)","v":""},{"$f":"IF(OR(V43=\"\",V43=0,Skjulte_Indstillinger!$B$5=FALSE()),#N/A,U43/V43)","v":{"$error":"#N/A"}},"",{"$f":"IF(Indtastning!U55=\"\",\"\",Indtastning!U55)","v":""},{"$f":"IF(Indtastning!V55=\"\",\"\",Indtastning!V55)","v":""},{"$f":"IF(OR(Z43=\"\",Z43=0,Skjulte_Indstillinger!$B$6=FALSE()),#N/A,Y43/Z43)","v":{"$error":"#N/A"}},"",{"$f":"IF(Indtastning!X55=\"\",\"\",Indtastning!X55)","v":""},{"$f":"IF(Indtastning!Y55=\"\",\"\",Indtastning!Y55)","v":""},{"$f":"IF(OR(AD43=\"\",AD43=0,Skjulte_Indstillinger!$B$7=FALSE()),#N/A,AC43/AD43)","v":{"$error":"#N/A"}},"",{"$f":"IF(Indtastning!AA55=\"\",\"\",Indtastning!AA55)","v":""},{"$f":"IF(Indtastning!AB55=\"\",\"\",Indtastning!AB55)","v":""},{"$f":"IF(OR(AH43=\"\",AH43=0,Skjulte_Indstillinger!$B$8=FALSE()),#N/A,AG43/AH43)","v":{"$error":"#N/A"}},"",{"$f":"IF(Indtastning!AD55=\"\",\"\",Indtastning!AD55)","v":""},{"$f":"IF(Indtastning!AE55=\"\",\"\",Indtastning!AE55)","v":""},{"$f":"IF(OR(AL43=\"\",AL43=0,Skjulte_Indstillinger!$B$9=FALSE()),#N/A,AK43/AL43)","v":{"$error":"#N/A"}},"",{"$f":"IF(Indtastning!AG55=\"\",\"\",Indtastning!AG55)","v":""},{"$f":"IF(Indtastning!AH55=\"\",\"\",Indtastning!AH55)","v":""},{"$f":"IF(OR(AP43=\"\",AP43=0,Skjulte_Indstillinger!$B$10=FALSE()),#N/A,AO43/AP43)","v":{"$error":"#N/A"}},"",{"$f":"IF(Indtastning!G55=\"\",#N/A,Indtastning!G55)","v":{"$error":"#N/A"}},{"$error":"#N/A"},{"$f":"LOG(_xlfn.AGGREGATE(3,3,$AS$6:$AS43),10)","v":{"$error":"#NUM!"}},0,0,0,0,0,0,0,"","",{"$error":"#N/A"},{"$error":"#N/A"},{"$error":"#N/A"},{"$error":"#N/A"},0,"","","","",0,0,0,"",{"$error":"#N/A"},{"$error":"#N/A"},{"$f":"IF(AND(H43<>\"\",H44=\"\",OR(Skjulte_Indstillinger!$B$2,Skjulte_Indstillinger!$B$3,Skjulte_Indstillinger!$B$4,Skjulte_Indstillinger!$B$5,Skjulte_Indstillinger!$B$6,Skjulte_Indstillinger!$B$7,Skjulte_Indstillinger!$B$8,Skjulte_Indstillinger!$B$9,Skjulte_Indstillinger!$B$10)),H43,NA())","v":{"$error":"#N/A"}},{"$f":"IF(AND(L43<>\"\",L44=\"\",Skjulte_Indstillinger!$B$2),L43,NA())","v":{"$error":"#N/A"}},{"$f":"IF(AND(P43<>\"\",P44=\"\",Skjulte_Indstillinger!$B$3),P43,NA())","v":{"$error":"#N/A"}},{"$f":"IF(AND(T43<>\"\",T44=\"\",Skjulte_Indstillinger!$B$4),T43,NA())","v":{"$error":"#N/A"}},{"$f":"IF(AND(X43<>\"\",X44=\"\",Skjulte_Indstillinger!$B$5),X43,NA())","v":{"$error":"#N/A"}},{"$f":"IF(AND(AB43<>\"\",AB44=\"\",Skjulte_Indstillinger!$B$6),AB43,NA())","v":{"$error":"#N/A"}},{"$f":"IF(AND(AF43<>\"\",AF44=\"\",Skjulte_Indstillinger!$B$7),AF43,NA())","v":{"$error":"#N/A"}},{"$f":"IF(AND(AJ43<>\"\",AJ44=\"\",Skjulte_Indstillinger!$B$8),AJ43,NA())","v":{"$error":"#N/A"}},{"$f":"IF(AND(AN43<>\"\",AN44=\"\",Skjulte_Indstillinger!$B$9),AN43,NA())","v":{"$error":"#N/A"}},{"$f":"IF(AND(AR43<>\"\",AR44=\"\",Skjulte_Indstillinger!$B$10),AR43,NA())","v":{"$error":"#N/A"}}]
["",{"$f":"IF(Indtastning!B56=\"\",\"\",Indtastning!B56)","v":""},{"$f":"CELL(\"format\",Indtastning!B56)","v":"G"},"",{"$f":"IF(Indtastning!D56=\"\",\"\",Indtastning!D56)","v":""},{"$f":"IF(Indtastning!E56=\"\",\"\",Indtastning!E56)","v":""},{"$error":"#N/A"},"",{"$f":"IF(Indtastning!I56=\"\",\"\",Indtastning!I56)","v":""},{"$f":"IF(Indtastning!J56=\"\",\"\",Indtastning!J56)","v":""},{"$f":"IF(OR(J44=\"\",J44=0,Skjulte_Indstillinger!$B$2=FALSE()),#N/A,I44/J44)","v":{"$error":"#N/A"}},"",{"$f":"IF(Indtastning!L56=\"\",\"\",Indtastning!L56)","v":""},{"$f":"IF(Indtastning!M56=\"\",\"\",Indtastning!M56)","v":""},{"$f":"IF(OR(N44=\"\",N44=0,Skjulte_Indstillinger!$B$3=FALSE()),#N/A,M44/N44)","v":{"$error":"#N/A"}},"",{"$f":"IF(Indtastning!O56=\"\",\"\",Indtastning!O56)","v":""},{"$f":"IF(Indtastning!P56=\"\",\"\",Indtastning!P56)","v":""},{"$f":"IF(OR(R44=\"\",R44=0,Skjulte_Indstillinger!$B$4=FALSE()),#N/A,Q44/R44)","v":{"$error":"#N/A"}},"",{"$f":"IF(Indtastning!R56=\"\",\"\",Indtastning!R56)","v":""},{"$f":"IF(Indtastning!S56=\"\",\"\",Indtastning!S56)","v":""},{"$f":"IF(OR(V44=\"\",V44=0,Skjulte_Indstillinger!$B$5=FALSE()),#N/A,U44/V44)","v":{"$error":"#N/A"}},"",{"$f":"IF(Indtastning!U56=\"\",\"\",Indtastning!U56)","v":""},{"$f":"IF(Indtastning!V56=\"\",\"\",Indtastning!V56)","v":""},{"$f":"IF(OR(Z44=\"\",Z44=0,Skjulte_Indstillinger!$B$6=FALSE()),#N/A,Y44/Z44)","v":{"$error":"#N/A"}},"",{"$f":"IF(Indtastning!X56=\"\",\"\",Indtastning!X56)","v":""},{"$f":"IF(Indtastning!Y56=\"\",\"\",Indtastning!Y56)","v":""},{"$f":"IF(OR(AD44=\"\",AD44=0,Skjulte_Indstillinger!$B$7=FALSE()),#N/A,AC44/AD44)","v":{"$error":"#N/A"}},"",{"$f":"IF(Indtastning!AA56=\"\",\"\",Indtastning!AA56)","v":""},{"$f":"IF(Indtastning!AB56=\"\",\"\",Indtastning!AB56)","v":""},{"$f":"IF(OR(AH44=\"\",AH44=0,Skjulte_Indstillinger!$B$8=FALSE()),#N/A,AG44/AH44)","v":{"$error":"#N/A"}},"",{"$f":"IF(Indtastning!AD56=\"\",\"\",Indtastning!AD56)","v":""},{"$f":"IF(Indtastning!AE56=\"\",\"\",Indtastning!AE56)","v":""},{"$f":"IF(OR(AL44=\"\",AL44=0,Skjulte_Indstillinger!$B$9=FALSE()),#N/A,AK44/AL44)","v":{"$error":"#N/A"}},"",{"$f":"IF(Indtastning!AG56=\"\",\"\",Indtastning!AG56)","v":""},{"$f":"IF(Indtastning!AH56=\"\",\"\",Indtastning!AH56)","v":""},{"$f":"IF(OR(AP44=\"\",AP44=0,Skjulte_Indstillinger!$B$10=FALSE()),#N/A,AO44/AP44)","v":{"$error":"#N/A"}},"",{"$f":"IF(Indtastning!G56=\"\",#N/A,Indtastning!G56)","v":{"$error":"#N/A"}},{"$error":"#N/A"},{"$f":"LOG(_xlfn.AGGREGATE(3,3,$AS$6:$AS44),10)","v":{"$error":"#NUM!"}},0,0,0,0,0,0,0,"","",{"$error":"#N/A"},{"$error":"#N/A"},{"$error":"#N/A"},{"$error":"#N/A"},0,"","","","",0,0,0,"",{"$error":"#N/A"},{"$error":"#N/A"},{"$f":"IF(AND(H44<>\"\",H45=\"\",OR(Skjulte_Indstillinger!$B$2,Skjulte_Indstillinger!$B$3,Skjulte_Indstillinger!$B$4,Skjulte_Indstillinger!$B$5,Skjulte_Indstillinger!$B$6,Skjulte_Indstillinger!$B$7,Skjulte_Indstillinger!$B$8,Skjulte_Indstillinger!$B$9,Skjulte_Indstillinger!$B$10)),H44,NA())","v":{"$error":"#N/A"}},{"$f":"IF(AND(L44<>\"\",L45=\"\",Skjulte_Indstillinger!$B$2),L44,NA())","v":{"$error":"#N/A"}},{"$f":"IF(AND(P44<>\"\",P45=\"\",Skjulte_Indstillinger!$B$3),P44,NA())","v":{"$error":"#N/A"}},{"$f":"IF(AND(T44<>\"\",T45=\"\",Skjulte_Indstillinger!$B$4),T44,NA())","v":{"$error":"#N/A"}},{"$f":"IF(AND(X44<>\"\",X45=\"\",Skjulte_Indstillinger!$B$5),X44,NA())","v":{"$error":"#N/A"}},{"$f":"IF(AND(AB44<>\"\",AB45=\"\",Skjulte_Indstillinger!$B$6),AB44,NA())","v":{"$error":"#N/A"}},{"$f":"IF(AND(AF44<>\"\",AF45=\"\",Skjulte_Indstillinger!$B$7),AF44,NA())","v":{"$error":"#N/A"}},{"$f":"IF(AND(AJ44<>\"\",AJ45=\"\",Skjulte_Indstillinger!$B$8),AJ44,NA())","v":{"$error":"#N/A"}},{"$f":"IF(AND(AN44<>\"\",AN45=\"\",Skjulte_Indstillinger!$B$9),AN44,NA())","v":{"$error":"#N/A"}},{"$f":"IF(AND(AR44<>\"\",AR45=\"\",Skjulte_Indstillinger!$B$10),AR44,NA())","v":{"$error":"#N/A"}}]
["",{"$f":"IF(Indtastning!B57=\"\",\"\",Indtastning!B57)","v":""},{"$f":"CELL(\"format\",Indtastning!B57)","v":"G"},"",{"$f":"IF(Indtastning!D57=\"\",\"\",Indtastning!D57)","v":""},{"$f":"IF(Indtastning!E57=\"\",\"\",Indtastning!E57)","v":""},{"$error":"#N/A"},"",{"$f":"IF(Indtastning!I57=\"\",\"\",Indtastning!I57)","v":""},{"$f":"IF(Indtastning!J57=\"\",\"\",Indtastning!J57)","v":""},{"$f":"IF(OR(J45=\"\",J45=0,Skjulte_Indstillinger!$B$2=FALSE()),#N/A,I45/J45)","v":{"$error":"#N/A"}},"",{"$f":"IF(Indtastning!L57=\"\",\"\",Indtastning!L57)","v":""},{"$f":"IF(Indtastning!M57=\"\",\"\",Indtastning!M57)","v":""},{"$f":"IF(OR(N45=\"\",N45=0,Skjulte_Indstillinger!$B$3=FALSE()),#N/A,M45/N45)","v":{"$error":"#N/A"}},"",{"$f":"IF(Indtastning!O57=\"\",\"\",Indtastning!O57)","v":""},{"$f":"IF(Indtastning!P57=\"\",\"\",Indtastning!P57)","v":""},{"$f":"IF(OR(R45=\"\",R45=0,Skjulte_Indstillinger!$B$4=FALSE()),#N/A,Q45/R45)","v":{"$error":"#N/A"}},"",{"$f":"IF(Indtastning!R57=\"\",\"\",Indtastning!R57)","v":""},{"$f":"IF(Indtastning!S57=\"\",\"\",Indtastning!S57)","v":""},{"$f":"IF(OR(V45=\"\",V45=0,Skjulte_Indstillinger!$B$5=FALSE()),#N/A,U45/V45)","v":{"$error":"#N/A"}},"",{"$f":"IF(Indtastning!U57=\"\",\"\",Indtastning!U57)","v":""},{"$f":"IF(Indtastning!V57=\"\",\"\",Indtastning!V57)","v":""},{"$f":"IF(OR(Z45=\"\",Z45=0,Skjulte_Indstillinger!$B$6=FALSE()),#N/A,Y45/Z45)","v":{"$error":"#N/A"}},"",{"$f":"IF(Indtastning!X57=\"\",\"\",Indtastning!X57)","v":""},{"$f":"IF(Indtastning!Y57=\"\",\"\",Indtastning!Y57)","v":""},{"$f":"IF(OR(AD45=\"\",AD45=0,Skjulte_Indstillinger!$B$7=FALSE()),#N/A,AC45/AD45)","v":{"$error":"#N/A"}},"",{"$f":"IF(Indtastning!AA57=\"\",\"\",Indtastning!AA57)","v":""},{"$f":"IF(Indtastning!AB57=\"\",\"\",Indtastning!AB57)","v":""},{"$f":"IF(OR(AH45=\"\",AH45=0,Skjulte_Indstillinger!$B$8=FALSE()),#N/A,AG45/AH45)","v":{"$error":"#N/A"}},"",{"$f":"IF(Indtastning!AD57=\"\",\"\",Indtastning!AD57)","v":""},{"$f":"IF(Indtastning!AE57=\"\",\"\",Indtastning!AE57)","v":""},{"$f":"IF(OR(AL45=\"\",AL45=0,Skjulte_Indstillinger!$B$9=FALSE()),#N/A,AK45/AL45)","v":{"$error":"#N/A"}},"",{"$f":"IF(Indtastning!AG57=\"\",\"\",Indtastning!AG57)","v":""},{"$f":"IF(Indtastning!AH57=\"\",\"\",Indtastning!AH57)","v":""},{"$f":"IF(OR(AP45=\"\",AP45=0,Skjulte_Indstillinger!$B$10=FALSE()),#N/A,AO45/AP45)","v":{"$error":"#N/A"}},"",{"$f":"IF(Indtastning!G57=\"\",#N/A,Indtastning!G57)","v":{"$error":"#N/A"}},{"$error":"#N/A"},{"$f":"LOG(_xlfn.AGGREGATE(3,3,$AS$6:$AS45),10)","v":{"$error":"#NUM!"}},0,0,0,0,0,0,0,"","",{"$error":"#N/A"},{"$error":"#N/A"},{"$error":"#N/A"},{"$error":"#N/A"},0,"","","","",0,0,0,"",{"$error":"#N/A"},{"$error":"#N/A"},{"$f":"IF(AND(H45<>\"\",H46=\"\",OR(Skjulte_Indstillinger!$B$2,Skjulte_Indstillinger!$B$3,Skjulte_Indstillinger!$B$4,Skjulte_Indstillinger!$B$5,Skjulte_Indstillinger!$B$6,Skjulte_Indstillinger!$B$7,Skjulte_Indstillinger!$B$8,Skjulte_Indstillinger!$B$9,Skjulte_Indstillinger!$B$10)),H45,NA())","v":{"$error":"#N/A"}},{"$f":"IF(AND(L45<>\"\",L46=\"\",Skjulte_Indstillinger!$B$2),L45,NA())","v":{"$error":"#N/A"}},{"$f":"IF(AND(P45<>\"\",P46=\"\",Skjulte_Indstillinger!$B$3),P45,NA())","v":{"$error":"#N/A"}},{"$f":"IF(AND(T45<>\"\",T46=\"\",Skjulte_Indstillinger!$B$4),T45,NA())","v":{"$error":"#N/A"}},{"$f":"IF(AND(X45<>\"\",X46=\"\",Skjulte_Indstillinger!$B$5),X45,NA())","v":{"$error":"#N/A"}},{"$f":"IF(AND(AB45<>\"\",AB46=\"\",Skjulte_Indstillinger!$B$6),AB45,NA())","v":{"$error":"#N/A"}},{"$f":"IF(AND(AF45<>\"\",AF46=\"\",Skjulte_Indstillinger!$B$7),AF45,NA())","v":{"$error":"#N/A"}},{"$f":"IF(AND(AJ45<>\"\",AJ46=\"\",Skjulte_Indstillinger!$B$8),AJ45,NA())","v":{"$error":"#N/A"}},{"$f":"IF(AND(AN45<>\"\",AN46=\"\",Skjulte_Indstillinger!$B$9),AN45,NA())","v":{"$error":"#N/A"}},{"$f":"IF(AND(AR45<>\"\",AR46=\"\",Skjulte_Indstillinger!$B$10),AR45,NA())","v":{"$error":"#N/A"}}]
["",{"$f":"IF(Indtastning!B58=\"\",\"\",Indtastning!B58)","v":""},{"$f":"CELL(\"format\",Indtastning!B58)","v":"G"},"",{"$f":"IF(Indtastning!D58=\"\",\"\",Indtastning!D58)","v":""},{"$f":"IF(Indtastning!E58=\"\",\"\",Indtastning!E58)","v":""},{"$error":"#N/A"},"",{"$f":"IF(Indtastning!I58=\"\",\"\",Indtastning!I58)","v":""},{"$f":"IF(Indtastning!J58=\"\",\"\",Indtastning!J58)","v":""},{"$f":"IF(OR(J46=\"\",J46=0,Skjulte_Indstillinger!$B$2=FALSE()),#N/A,I46/J46)","v":{"$error":"#N/A"}},"",{"$f":"IF(Indtastning!L58=\"\",\"\",Indtastning!L58)","v":""},{"$f":"IF(Indtastning!M58=\"\",\"\",Indtastning!M58)","v":""},{"$f":"IF(OR(N46=\"\",N46=0,Skjulte_Indstillinger!$B$3=FALSE()),#N/A,M46/N46)","v":{"$error":"#N/A"}},"",{"$f":"IF(Indtastning!O58=\"\",\"\",Indtastning!O58)","v":""},{"$f":"IF(Indtastning!P58=\"\",\"\",Indtastning!P58)","v":""},{"$f":"IF(OR(R46=\"\",R46=0,Skjulte_Indstillinger!$B$4=FALSE()),#N/A,Q46/R46)","v":{"$error":"#N/A"}},"",{"$f":"IF(Indtastning!R58=\"\",\"\",Indtastning!R58)","v":""},{"$f":"IF(Indtastning!S58=\"\",\"\",Indtastning!S58)","v":""},{"$f":"IF(OR(V46=\"\",V46=0,Skjulte_Indstillinger!$B$5=FALSE()),#N/A,U46/V46)","v":{"$error":"#N/A"}},"",{"$f":"IF(Indtastning!U58=\"\",\"\",Indtastning!U58)","v":""},{"$f":"IF(Indtastning!V58=\"\",\"\",Indtastning!V58)","v":""},{"$f":"IF(OR(Z46=\"\",Z46=0,Skjulte_Indstillinger!$B$6=FALSE()),#N/A,Y46/Z46)","v":{"$error":"#N/A"}},"",{"$f":"IF(Indtastning!X58=\"\",\"\",Indtastning!X58)","v":""},{"$f":"IF(Indtastning!Y58=\"\",\"\",Indtastning!Y58)","v":""},{"$f":"IF(OR(AD46=\"\",AD46=0,Skjulte_Indstillinger!$B$7=FALSE()),#N/A,AC46/AD46)","v":{"$error":"#N/A"}},"",{"$f":"IF(Indtastning!AA58=\"\",\"\",Indtastning!AA58)","v":""},{"$f":"IF(Indtastning!AB58=\"\",\"\",Indtastning!AB58)","v":""},{"$f":"IF(OR(AH46=\"\",AH46=0,Skjulte_Indstillinger!$B$8=FALSE()),#N/A,AG46/AH46)","v":{"$error":"#N/A"}},"",{"$f":"IF(Indtastning!AD58=\"\",\"\",Indtastning!AD58)","v":""},{"$f":"IF(Indtastning!AE58=\"\",\"\",Indtastning!AE58)","v":""},{"$f":"IF(OR(AL46=\"\",AL46=0,Skjulte_Indstillinger!$B$9=FALSE()),#N/A,AK46/AL46)","v":{"$error":"#N/A"}},"",{"$f":"IF(Indtastning!AG58=\"\",\"\",Indtastning!AG58)","v":""},{"$f":"IF(Indtastning!AH58=\"\",\"\",Indtastning!AH58)","v":""},{"$f":"IF(OR(AP46=\"\",AP46=0,Skjulte_Indstillinger!$B$10=FALSE()),#N/A,AO46/AP46)","v":{"$error":"#N/A"}},"",{"$f":"IF(Indtastning!G58=\"\",#N/A,Indtastning!G58)","v":{"$error":"#N/A"}},{"$error":"#N/A"},{"$f":"LOG(_xlfn.AGGREGATE(3,3,$AS$6:$AS46),10)","v":{"$error":"#NUM!"}},0,0,0,0,0,0,0,"","",{"$error":"#N/A"},{"$error":"#N/A"},{"$error":"#N/A"},{"$error":"#N/A"},0,"","","","",0,0,0,"",{"$error":"#N/A"},{"$error":"#N/A"},{"$f":"IF(AND(H46<>\"\",H47=\"\",OR(Skjulte_Indstillinger!$B$2,Skjulte_Indstillinger!$B$3,Skjulte_Indstillinger!$B$4,Skjulte_Indstillinger!$B$5,Skjulte_Indstillinger!$B$6,Skjulte_Indstillinger!$B$7,Skjulte_Indstillinger!$B$8,Skjulte_Indstillinger!$B$9,Skjulte_Indstillinger!$B$10)),H46,NA())","v":{"$error":"#N/A"}},{"$f":"IF(AND(L46<>\"\",L47=\"\",Skjulte_Indstillinger!$B$2),L46,NA())","v":{"$error":"#N/A"}},{"$f":"IF(AND(P46<>\"\",P47=\"\",Skjulte_Indstillinger!$B$3),P46,NA())","v":{"$error":"#N/A"}},{"$f":"IF(AND(T46<>\"\",T47=\"\",Skjulte_Indstillinger!$B$4),T46,NA())","v":{"$error":"#N/A"}},{"$f":"IF(AND(X46<>\"\",X47=\"\",Skjulte_Indstillinger!$B$5),X46,NA())","v":{"$error":"#N/A"}},{"$f":"IF(AND(AB46<>\"\",AB47=\"\",Skjulte_Indstillinger!$B$6),AB46,NA())","v":{"$error":"#N/A"}},{"$f":"IF(AND(AF46<>\"\",AF47=\"\",Skjulte_Indstillinger!$B$7),AF46,NA())","v":{"$error":"#N/A"}},{"$f":"IF(AND(AJ46<>\"\",AJ47=\"\",Skjulte_Indstillinger!$B$8),AJ46,NA())","v":{"$error":"#N/A"}},{"$f":"IF(AND(AN46<>\"\",AN47=\"\",Skjulte_Indstillinger!$B$9),AN46,NA())","v":{"$error":"#N/A"}},{"$f":"IF(AND(AR46<>\"\",AR47=\"\",Skjulte_Indstillinger!$B$10),AR46,NA())","v":{"$error":"#N/A"}}]
["",{"$f":"IF(Indtastning!B59=\"\",\"\",Indtastning!B59)","v":""},{"$f":"CELL(\"format\",Indtastning!B59)","v":"G"},"",{"$f":"IF(Indtastning!D59=\"\",\"\",Indtastning!D59)","v":""},{"$f":"IF(Indtastning!E59=\"\",\"\",Indtastning!E59)","v":""},{"$error":"#N/A"},"",{"$f":"IF(Indtastning!I59=\"\",\"\",Indtastning!I59)","v":""},{"$f":"IF(Indtastning!J59=\"\",\"\",Indtastning!J59)","v":""},{"$f":"IF(OR(J47=\"\",J47=0,Skjulte_Indstillinger!$B$2=FALSE()),#N/A,I47/J47)","v":{"$error":"#N/A"}},"",{"$f":"IF(Indtastning!L59=\"\",\"\",Indtastning!L59)","v":""},{"$f":"IF(Indtastning!M59=\"\",\"\",Indtastning!M59)","v":""},{"$f":"IF(OR(N47=\"\",N47=0,Skjulte_Indstillinger!$B$3=FALSE()),#N/A,M47/N47)","v":{"$error":"#N/A"}},"",{"$f":"IF(Indtastning!O59=\"\",\"\",Indtastning!O59)","v":""},{"$f":"IF(Indtastning!P59=\"\",\"\",Indtastning!P59)","v":""},{"$f":"IF(OR(R47=\"\",R47=0,Skjulte_Indstillinger!$B$4=FALSE()),#N/A,Q47/R47)","v":{"$error":"#N/A"}},"",{"$f":"IF(Indtastning!R59=\"\",\"\",Indtastning!R59)","v":""},{"$f":"IF(Indtastning!S59=\"\",\"\",Indtastning!S59)","v":""},{"$f":"IF(OR(V47=\"\",V47=0,Skjulte_Indstillinger!$B$5=FALSE()),#N/A,U47/V47)","v":{"$error":"#N/A"}},"",{"$f":"IF(Indtastning!U59=\"\",\"\",Indtastning!U59)","v":""},{"$f":"IF(Indtastning!V59=\"\",\"\",Indtastning!V59)","v":""},{"$f":"IF(OR(Z47=\"\",Z47=0,Skjulte_Indstillinger!$B$6=FALSE()),#N/A,Y47/Z47)","v":{"$error":"#N/A"}},"",{"$f":"IF(Indtastning!X59=\"\",\"\",Indtastning!X59)","v":""},{"$f":"IF(Indtastning!Y59=\"\",\"\",Indtastning!Y59)","v":""},{"$f":"IF(OR(AD47=\"\",AD47=0,Skjulte_Indstillinger!$B$7=FALSE()),#N/A,AC47/AD47)","v":{"$error":"#N/A"}},"",{"$f":"IF(Indtastning!AA59=\"\",\"\",Indtastning!AA59)","v":""},{"$f":"IF(Indtastning!AB59=\"\",\"\",Indtastning!AB59)","v":""},{"$f":"IF(OR(AH47=\"\",AH47=0,Skjulte_Indstillinger!$B$8=FALSE()),#N/A,AG47/AH47)","v":{"$error":"#N/A"}},"",{"$f":"IF(Indtastning!AD59=\"\",\"\",Indtastning!AD59)","v":""},{"$f":"IF(Indtastning!AE59=\"\",\"\",Indtastning!AE59)","v":""},{"$f":"IF(OR(AL47=\"\",AL47=0,Skjulte_Indstillinger!$B$9=FALSE()),#N/A,AK47/AL47)","v":{"$error":"#N/A"}},"",{"$f":"IF(Indtastning!AG59=\"\",\"\",Indtastning!AG59)","v":""},{"$f":"IF(Indtastning!AH59=\"\",\"\",Indtastning!AH59)","v":""},{"$f":"IF(OR(AP47=\"\",AP47=0,Skjulte_Indstillinger!$B$10=FALSE()),#N/A,AO47/AP47)","v":{"$error":"#N/A"}},"",{"$f":"IF(Indtastning!G59=\"\",#N/A,Indtastning!G59)","v":{"$error":"#N/A"}},{"$error":"#N/A"},{"$f":"LOG(_xlfn.AGGREGATE(3,3,$AS$6:$AS47),10)","v":{"$error":"#NUM!"}},0,0,0,0,0,0,0,"","",{"$error":"#N/A"},{"$error":"#N/A"},{"$error":"#N/A"},{"$error":"#N/A"},0,"","","","",0,0,0,"",{"$error":"#N/A"},{"$error":"#N/A"},{"$f":"IF(AND(H47<>\"\",H48=\"\",OR(Skjulte_Indstillinger!$B$2,Skjulte_Indstillinger!$B$3,Skjulte_Indstillinger!$B$4,Skjulte_Indstillinger!$B$5,Skjulte_Indstillinger!$B$6,Skjulte_Indstillinger!$B$7,Skjulte_Indstillinger!$B$8,Skjulte_Indstillinger!$B$9,Skjulte_Indstillinger!$B$10)),H47,NA())","v":{"$error":"#N/A"}},{"$f":"IF(AND(L47<>\"\",L48=\"\",Skjulte_Indstillinger!$B$2),L47,NA())","v":{"$error":"#N/A"}},{"$f":"IF(AND(P47<>\"\",P48=\"\",Skjulte_Indstillinger!$B$3),P47,NA())","v":{"$error":"#N/A"}},{"$f":"IF(AND(T47<>\"\",T48=\"\",Skjulte_Indstillinger!$B$4),T47,NA())","v":{"$error":"#N/A"}},{"$f":"IF(AND(X47<>\"\",X48=\"\",Skjulte_Indstillinger!$B$5),X47,NA())","v":{"$error":"#N/A"}},{"$f":"IF(AND(AB47<>\"\",AB48=\"\",Skjulte_Indstillinger!$B$6),AB47,NA())","v":{"$error":"#N/A"}},{"$f":"IF(AND(AF47<>\"\",AF48=\"\",Skjulte_Indstillinger!$B$7),AF47,NA())","v":{"$error":"#N/A"}},{"$f":"IF(AND(AJ47<>\"\",AJ48=\"\",Skjulte_Indstillinger!$B$8),AJ47,NA())","v":{"$error":"#N/A"}},{"$f":"IF(AND(AN47<>\"\",AN48=\"\",Skjulte_Indstillinger!$B$9),AN47,NA())","v":{"$error":"#N/A"}},{"$f":"IF(AND(AR47<>\"\",AR48=\"\",Skjulte_Indstillinger!$B$10),AR47,NA())","v":{"$error":"#N/A"}}]
["",{"$f":"IF(Indtastning!B60=\"\",\"\",Indtastning!B60)","v":""},{"$f":"CELL(\"format\",Indtastning!B60)","v":"G"},"",{"$f":"IF(Indtastning!D60=\"\",\"\",Indtastning!D60)","v":""},{"$f":"IF(Indtastning!E60=\"\",\"\",Indtastning!E60)","v":""},{"$error":"#N/A"},"",{"$f":"IF(Indtastning!I60=\"\",\"\",Indtastning!I60)","v":""},{"$f":"IF(Indtastning!J60=\"\",\"\",Indtastning!J60)","v":""},{"$f":"IF(OR(J48=\"\",J48=0,Skjulte_Indstillinger!$B$2=FALSE()),#N/A,I48/J48)","v":{"$error":"#N/A"}},"",{"$f":"IF(Indtastning!L60=\"\",\"\",Indtastning!L60)","v":""},{"$f":"IF(Indtastning!M60=\"\",\"\",Indtastning!M60)","v":""},{"$f":"IF(OR(N48=\"\",N48=0,Skjulte_Indstillinger!$B$3=FALSE()),#N/A,M48/N48)","v":{"$error":"#N/A"}},"",{"$f":"IF(Indtastning!O60=\"\",\"\",Indtastning!O60)","v":""},{"$f":"IF(Indtastning!P60=\"\",\"\",Indtastning!P60)","v":""},{"$f":"IF(OR(R48=\"\",R48=0,Skjulte_Indstillinger!$B$4=FALSE()),#N/A,Q48/R48)","v":{"$error":"#N/A"}},"",{"$f":"IF(Indtastning!R60=\"\",\"\",Indtastning!R60)","v":""},{"$f":"IF(Indtastning!S60=\"\",\"\",Indtastning!S60)","v":""},{"$f":"IF(OR(V48=\"\",V48=0,Skjulte_Indstillinger!$B$5=FALSE()),#N/A,U48/V48)","v":{"$error":"#N/A"}},"",{"$f":"IF(Indtastning!U60=\"\",\"\",Indtastning!U60)","v":""},{"$f":"IF(Indtastning!V60=\"\",\"\",Indtastning!V60)","v":""},{"$f":"IF(OR(Z48=\"\",Z48=0,Skjulte_Indstillinger!$B$6=FALSE()),#N/A,Y48/Z48)","v":{"$error":"#N/A"}},"",{"$f":"IF(Indtastning!X60=\"\",\"\",Indtastning!X60)","v":""},{"$f":"IF(Indtastning!Y60=\"\",\"\",Indtastning!Y60)","v":""},{"$f":"IF(OR(AD48=\"\",AD48=0,Skjulte_Indstillinger!$B$7=FALSE()),#N/A,AC48/AD48)","v":{"$error":"#N/A"}},"",{"$f":"IF(Indtastning!AA60=\"\",\"\",Indtastning!AA60)","v":""},{"$f":"IF(Indtastning!AB60=\"\",\"\",Indtastning!AB60)","v":""},{"$f":"IF(OR(AH48=\"\",AH48=0,Skjulte_Indstillinger!$B$8=FALSE()),#N/A,AG48/AH48)","v":{"$error":"#N/A"}},"",{"$f":"IF(Indtastning!AD60=\"\",\"\",Indtastning!AD60)","v":""},{"$f":"IF(Indtastning!AE60=\"\",\"\",Indtastning!AE60)","v":""},{"$f":"IF(OR(AL48=\"\",AL48=0,Skjulte_Indstillinger!$B$9=FALSE()),#N/A,AK48/AL48)","v":{"$error":"#N/A"}},"",{"$f":"IF(Indtastning!AG60=\"\",\"\",Indtastning!AG60)","v":""},{"$f":"IF(Indtastning!AH60=\"\",\"\",Indtastning!AH60)","v":""},{"$f":"IF(OR(AP48=\"\",AP48=0,Skjulte_Indstillinger!$B$10=FALSE()),#N/A,AO48/AP48)","v":{"$error":"#N/A"}},"",{"$f":"IF(Indtastning!G60=\"\",#N/A,Indtastning!G60)","v":{"$error":"#N/A"}},{"$error":"#N/A"},{"$f":"LOG(_xlfn.AGGREGATE(3,3,$AS$6:$AS48),10)","v":{"$error":"#NUM!"}},0,0,0,0,0,0,0,"","",{"$error":"#N/A"},{"$error":"#N/A"},{"$error":"#N/A"},{"$error":"#N/A"},0,"","","","",0,0,0,"",{"$error":"#N/A"},{"$error":"#N/A"},{"$f":"IF(AND(H48<>\"\",H49=\"\",OR(Skjulte_Indstillinger!$B$2,Skjulte_Indstillinger!$B$3,Skjulte_Indstillinger!$B$4,Skjulte_Indstillinger!$B$5,Skjulte_Indstillinger!$B$6,Skjulte_Indstillinger!$B$7,Skjulte_Indstillinger!$B$8,Skjulte_Indstillinger!$B$9,Skjulte_Indstillinger!$B$10)),H48,NA())","v":{"$error":"#N/A"}},{"$f":"IF(AND(L48<>\"\",L49=\"\",Skjulte_Indstillinger!$B$2),L48,NA())","v":{"$error":"#N/A"}},{"$f":"IF(AND(P48<>\"\",P49=\"\",Skjulte_Indstillinger!$B$3),P48,NA())","v":{"$error":"#N/A"}},{"$f":"IF(AND(T48<>\"\",T49=\"\",Skjulte_Indstillinger!$B$4),T48,NA())","v":{"$error":"#N/A"}},{"$f":"IF(AND(X48<>\"\",X49=\"\",Skjulte_Indstillinger!$B$5),X48,NA())","v":{"$error":"#N/A"}},{"$f":"IF(AND(AB48<>\"\",AB49=\"\",Skjulte_Indstillinger!$B$6),AB48,NA())","v":{"$error":"#N/A"}},{"$f":"IF(AND(AF48<>\"\",AF49=\"\",Skjulte_Indstillinger!$B$7),AF48,NA())","v":{"$error":"#N/A"}},{"$f":"IF(AND(AJ48<>\"\",AJ49=\"\",Skjulte_Indstillinger!$B$8),AJ48,NA())","v":{"$error":"#N/A"}},{"$f":"IF(AND(AN48<>\"\",AN49=\"\",Skjulte_Indstillinger!$B$9),AN48,NA())","v":{"$error":"#N/A"}},{"$f":"IF(AND(AR48<>\"\",AR49=\"\",Skjulte_Indstillinger!$B$10),AR48,NA())","v":{"$error":"#N/A"}}]
["",{"$f":"IF(Indtastning!B61=\"\",\"\",Indtastning!B61)","v":""},{"$f":"CELL(\"format\",Indtastning!B61)","v":"G"},"",{"$f":"IF(Indtastning!D61=\"\",\"\",Indtastning!D61)","v":""},{"$f":"IF(Indtastning!E61=\"\",\"\",Indtastning!E61)","v":""},{"$error":"#N/A"},"",{"$f":"IF(Indtastning!I61=\"\",\"\",Indtastning!I61)","v":""},{"$f":"IF(Indtastning!J61=\"\",\"\",Indtastning!J61)","v":""},{"$f":"IF(OR(J49=\"\",J49=0,Skjulte_Indstillinger!$B$2=FALSE()),#N/A,I49/J49)","v":{"$error":"#N/A"}},"",{"$f":"IF(Indtastning!L61=\"\",\"\",Indtastning!L61)","v":""},{"$f":"IF(Indtastning!M61=\"\",\"\",Indtastning!M61)","v":""},{"$f":"IF(OR(N49=\"\",N49=0,Skjulte_Indstillinger!$B$3=FALSE()),#N/A,M49/N49)","v":{"$error":"#N/A"}},"",{"$f":"IF(Indtastning!O61=\"\",\"\",Indtastning!O61)","v":""},{"$f":"IF(Indtastning!P61=\"\",\"\",Indtastning!P61)","v":""},{"$f":"IF(OR(R49=\"\",R49=0,Skjulte_Indstillinger!$B$4=FALSE()),#N/A,Q49/R49)","v":{"$error":"#N/A"}},"",{"$f":"IF(Indtastning!R61=\"\",\"\",Indtastning!R61)","v":""},{"$f":"IF(Indtastning!S61=\"\",\"\",Indtastning!S61)","v":""},{"$f":"IF(OR(V49=\"\",V49=0,Skjulte_Indstillinger!$B$5=FALSE()),#N/A,U49/V49)","v":{"$error":"#N/A"}},"",{"$f":"IF(Indtastning!U61=\"\",\"\",Indtastning!U61)","v":""},{"$f":"IF(Indtastning!V61=\"\",\"\",Indtastning!V61)","v":""},{"$f":"IF(OR(Z49=\"\",Z49=0,Skjulte_Indstillinger!$B$6=FALSE()),#N/A,Y49/Z49)","v":{"$error":"#N/A"}},"",{"$f":"IF(Indtastning!X61=\"\",\"\",Indtastning!X61)","v":""},{"$f":"IF(Indtastning!Y61=\"\",\"\",Indtastning!Y61)","v":""},{"$f":"IF(OR(AD49=\"\",AD49=0,Skjulte_Indstillinger!$B$7=FALSE()),#N/A,AC49/AD49)","v":{"$error":"#N/A"}},"",{"$f":"IF(Indtastning!AA61=\"\",\"\",Indtastning!AA61)","v":""},{"$f":"IF(Indtastning!AB61=\"\",\"\",Indtastning!AB61)","v":""},{"$f":"IF(OR(AH49=\"\",AH49=0,Skjulte_Indstillinger!$B$8=FALSE()),#N/A,AG49/AH49)","v":{"$error":"#N/A"}},"",{"$f":"IF(Indtastning!AD61=\"\",\"\",Indtastning!AD61)","v":""},{"$f":"IF(Indtastning!AE61=\"\",\"\",Indtastning!AE61)","v":""},{"$f":"IF(OR(AL49=\"\",AL49=0,Skjulte_Indstillinger!$B$9=FALSE()),#N/A,AK49/AL49)","v":{"$error":"#N/A"}},"",{"$f":"IF(Indtastning!AG61=\"\",\"\",Indtastning!AG61)","v":""},{"$f":"IF(Indtastning!AH61=\"\",\"\",Indtastning!AH61)","v":""},{"$f":"IF(OR(AP49=\"\",AP49=0,Skjulte_Indstillinger!$B$10=FALSE()),#N/A,AO49/AP49)","v":{"$error":"#N/A"}},"",{"$f":"IF(Indtastning!G61=\"\",#N/A,Indtastning!G61)","v":{"$error":"#N/A"}},{"$error":"#N/A"},{"$f":"LOG(_xlfn.AGGREGATE(3,3,$AS$6:$AS49),10)","v":{"$error":"#NUM!"}},0,0,0,0,0,0,0,"","",{"$error":"#N/A"},{"$error":"#N/A"},{"$error":"#N/A"},{"$error":"#N/A"},0,"","","","",0,0,0,"",{"$error":"#N/A"},{"$error":"#N/A"},{"$f":"IF(AND(H49<>\"\",H50=\"\",OR(Skjulte_Indstillinger!$B$2,Skjulte_Indstillinger!$B$3,Skjulte_Indstillinger!$B$4,Skjulte_Indstillinger!$B$5,Skjulte_Indstillinger!$B$6,Skjulte_Indstillinger!$B$7,Skjulte_Indstillinger!$B$8,Skjulte_Indstillinger!$B$9,Skjulte_Indstillinger!$B$10)),H49,NA())","v":{"$error":"#N/A"}},{"$f":"IF(AND(L49<>\"\",L50=\"\",Skjulte_Indstillinger!$B$2),L49,NA())","v":{"$error":"#N/A"}},{"$f":"IF(AND(P49<>\"\",P50=\"\",Skjulte_Indstillinger!$B$3),P49,NA())","v":{"$error":"#N/A"}},{"$f":"IF(AND(T49<>\"\",T50=\"\",Skjulte_Indstillinger!$B$4),T49,NA())","v":{"$error":"#N/A"}},{"$f":"IF(AND(X49<>\"\",X50=\"\",Skjulte_Indstillinger!$B$5),X49,NA())","v":{"$error":"#N/A"}},{"$f":"IF(AND(AB49<>\"\",AB50=\"\",Skjulte_Indstillinger!$B$6),AB49,NA())","v":{"$error":"#N/A"}},{"$f":"IF(AND(AF49<>\"\",AF50=\"\",Skjulte_Indstillinger!$B$7),AF49,NA())","v":{"$error":"#N/A"}},{"$f":"IF(AND(AJ49<>\"\",AJ50=\"\",Skjulte_Indstillinger!$B$8),AJ49,NA())","v":{"$error":"#N/A"}},{"$f":"IF(AND(AN49<>\"\",AN50=\"\",Skjulte_Indstillinger!$B$9),AN49,NA())","v":{"$error":"#N/A"}},{"$f":"IF(AND(AR49<>\"\",AR50=\"\",Skjulte_Indstillinger!$B$10),AR49,NA())","v":{"$error":"#N/A"}}]
["",{"$f":"IF(Indtastning!B62=\"\",\"\",Indtastning!B62)","v":""},{"$f":"CELL(\"format\",Indtastning!B62)","v":"G"},"",{"$f":"IF(Indtastning!D62=\"\",\"\",Indtastning!D62)","v":""},{"$f":"IF(Indtastning!E62=\"\",\"\",Indtastning!E62)","v":""},{"$error":"#N/A"},"",{"$f":"IF(Indtastning!I62=\"\",\"\",Indtastning!I62)","v":""},{"$f":"IF(Indtastning!J62=\"\",\"\",Indtastning!J62)","v":""},{"$f":"IF(OR(J50=\"\",J50=0,Skjulte_Indstillinger!$B$2=FALSE()),#N/A,I50/J50)","v":{"$error":"#N/A"}},"",{"$f":"IF(Indtastning!L62=\"\",\"\",Indtastning!L62)","v":""},{"$f":"IF(Indtastning!M62=\"\",\"\",Indtastning!M62)","v":""},{"$f":"IF(OR(N50=\"\",N50=0,Skjulte_Indstillinger!$B$3=FALSE()),#N/A,M50/N50)","v":{"$error":"#N/A"}},"",{"$f":"IF(Indtastning!O62=\"\",\"\",Indtastning!O62)","v":""},{"$f":"IF(Indtastning!P62=\"\",\"\",Indtastning!P62)","v":""},{"$f":"IF(OR(R50=\"\",R50=0,Skjulte_Indstillinger!$B$4=FALSE()),#N/A,Q50/R50)","v":{"$error":"#N/A"}},"",{"$f":"IF(Indtastning!R62=\"\",\"\",Indtastning!R62)","v":""},{"$f":"IF(Indtastning!S62=\"\",\"\",Indtastning!S62)","v":""},{"$f":"IF(OR(V50=\"\",V50=0,Skjulte_Indstillinger!$B$5=FALSE()),#N/A,U50/V50)","v":{"$error":"#N/A"}},"",{"$f":"IF(Indtastning!U62=\"\",\"\",Indtastning!U62)","v":""},{"$f":"IF(Indtastning!V62=\"\",\"\",Indtastning!V62)","v":""},{"$f":"IF(OR(Z50=\"\",Z50=0,Skjulte_Indstillinger!$B$6=FALSE()),#N/A,Y50/Z50)","v":{"$error":"#N/A"}},"",{"$f":"IF(Indtastning!X62=\"\",\"\",Indtastning!X62)","v":""},{"$f":"IF(Indtastning!Y62=\"\",\"\",Indtastning!Y62)","v":""},{"$f":"IF(OR(AD50=\"\",AD50=0,Skjulte_Indstillinger!$B$7=FALSE()),#N/A,AC50/AD50)","v":{"$error":"#N/A"}},"",{"$f":"IF(Indtastning!AA62=\"\",\"\",Indtastning!AA62)","v":""},{"$f":"IF(Indtastning!AB62=\"\",\"\",Indtastning!AB62)","v":""},{"$f":"IF(OR(AH50=\"\",AH50=0,Skjulte_Indstillinger!$B$8=FALSE()),#N/A,AG50/AH50)","v":{"$error":"#N/A"}},"",{"$f":"IF(Indtastning!AD62=\"\",\"\",Indtastning!AD62)","v":""},{"$f":"IF(Indtastning!AE62=\"\",\"\",Indtastning!AE62)","v":""},{"$f":"IF(OR(AL50=\"\",AL50=0,Skjulte_Indstillinger!$B$9=FALSE()),#N/A,AK50/AL50)","v":{"$error":"#N/A"}},"",{"$f":"IF(Indtastning!AG62=\"\",\"\",Indtastning!AG62)","v":""},{"$f":"IF(Indtastning!AH62=\"\",\"\",Indtastning!AH62)","v":""},{"$f":"IF(OR(AP50=\"\",AP50=0,Skjulte_Indstillinger!$B$10=FALSE()),#N/A,AO50/AP50)","v":{"$error":"#N/A"}},"",{"$f":"IF(Indtastning!G62=\"\",#N/A,Indtastning!G62)","v":{"$error":"#N/A"}},{"$error":"#N/A"},{"$f":"LOG(_xlfn.AGGREGATE(3,3,$AS$6:$AS50),10)","v":{"$error":"#NUM!"}},0,0,0,0,0,0,0,"","",{"$error":"#N/A"},{"$error":"#N/A"},{"$error":"#N/A"},{"$error":"#N/A"},0,"","","","",0,0,0,"",{"$error":"#N/A"},{"$error":"#N/A"},{"$f":"IF(AND(H50<>\"\",H51=\"\",OR(Skjulte_Indstillinger!$B$2,Skjulte_Indstillinger!$B$3,Skjulte_Indstillinger!$B$4,Skjulte_Indstillinger!$B$5,Skjulte_Indstillinger!$B$6,Skjulte_Indstillinger!$B$7,Skjulte_Indstillinger!$B$8,Skjulte_Indstillinger!$B$9,Skjulte_Indstillinger!$B$10)),H50,NA())","v":{"$error":"#N/A"}},{"$f":"IF(AND(L50<>\"\",L51=\"\",Skjulte_Indstillinger!$B$2),L50,NA())","v":{"$error":"#N/A"}},{"$f":"IF(AND(P50<>\"\",P51=\"\",Skjulte_Indstillinger!$B$3),P50,NA())","v":{"$error":"#N/A"}},{"$f":"IF(AND(T50<>\"\",T51=\"\",Skjulte_Indstillinger!$B$4),T50,NA())","v":{"$error":"#N/A"}},{"$f":"IF(AND(X50<>\"\",X51=\"\",Skjulte_Indstillinger!$B$5),X50,NA())","v":{"$error":"#N/A"}},{"$f":"IF(AND(AB50<>\"\",AB51=\"\",Skjulte_Indstillinger!$B$6),AB50,NA())","v":{"$error":"#N/A"}},{"$f":"IF(AND(AF50<>\"\",AF51=\"\",Skjulte_Indstillinger!$B$7),AF50,NA())","v":{"$error":"#N/A"}},{"$f":"IF(AND(AJ50<>\"\",AJ51=\"\",Skjulte_Indstillinger!$B$8),AJ50,NA())","v":{"$error":"#N/A"}},{"$f":"IF(AND(AN50<>\"\",AN51=\"\",Skjulte_Indstillinger!$B$9),AN50,NA())","v":{"$error":"#N/A"}},{"$f":"IF(AND(AR50<>\"\",AR51=\"\",Skjulte_Indstillinger!$B$10),AR50,NA())","v":{"$error":"#N/A"}}]
["",{"$f":"IF(Indtastning!B63=\"\",\"\",Indtastning!B63)","v":""},{"$f":"CELL(\"format\",Indtastning!B63)","v":"G"},"",{"$f":"IF(Indtastning!D63=\"\",\"\",Indtastning!D63)","v":""},{"$f":"IF(Indtastning!E63=\"\",\"\",Indtastning!E63)","v":""},{"$error":"#N/A"},"",{"$f":"IF(Indtastning!I63=\"\",\"\",Indtastning!I63)","v":""},{"$f":"IF(Indtastning!J63=\"\",\"\",Indtastning!J63)","v":""},{"$f":"IF(OR(J51=\"\",J51=0,Skjulte_Indstillinger!$B$2=FALSE()),#N/A,I51/J51)","v":{"$error":"#N/A"}},"",{"$f":"IF(Indtastning!L63=\"\",\"\",Indtastning!L63)","v":""},{"$f":"IF(Indtastning!M63=\"\",\"\",Indtastning!M63)","v":""},{"$f":"IF(OR(N51=\"\",N51=0,Skjulte_Indstillinger!$B$3=FALSE()),#N/A,M51/N51)","v":{"$error":"#N/A"}},"",{"$f":"IF(Indtastning!O63=\"\",\"\",Indtastning!O63)","v":""},{"$f":"IF(Indtastning!P63=\"\",\"\",Indtastning!P63)","v":""},{"$f":"IF(OR(R51=\"\",R51=0,Skjulte_Indstillinger!$B$4=FALSE()),#N/A,Q51/R51)","v":{"$error":"#N/A"}},"",{"$f":"IF(Indtastning!R63=\"\",\"\",Indtastning!R63)","v":""},{"$f":"IF(Indtastning!S63=\"\",\"\",Indtastning!S63)","v":""},{"$f":"IF(OR(V51=\"\",V51=0,Skjulte_Indstillinger!$B$5=FALSE()),#N/A,U51/V51)","v":{"$error":"#N/A"}},"",{"$f":"IF(Indtastning!U63=\"\",\"\",Indtastning!U63)","v":""},{"$f":"IF(Indtastning!V63=\"\",\"\",Indtastning!V63)","v":""},{"$f":"IF(OR(Z51=\"\",Z51=0,Skjulte_Indstillinger!$B$6=FALSE()),#N/A,Y51/Z51)","v":{"$error":"#N/A"}},"",{"$f":"IF(Indtastning!X63=\"\",\"\",Indtastning!X63)","v":""},{"$f":"IF(Indtastning!Y63=\"\",\"\",Indtastning!Y63)","v":""},{"$f":"IF(OR(AD51=\"\",AD51=0,Skjulte_Indstillinger!$B$7=FALSE()),#N/A,AC51/AD51)","v":{"$error":"#N/A"}},"",{"$f":"IF(Indtastning!AA63=\"\",\"\",Indtastning!AA63)","v":""},{"$f":"IF(Indtastning!AB63=\"\",\"\",Indtastning!AB63)","v":""},{"$f":"IF(OR(AH51=\"\",AH51=0,Skjulte_Indstillinger!$B$8=FALSE()),#N/A,AG51/AH51)","v":{"$error":"#N/A"}},"",{"$f":"IF(Indtastning!AD63=\"\",\"\",Indtastning!AD63)","v":""},{"$f":"IF(Indtastning!AE63=\"\",\"\",Indtastning!AE63)","v":""},{"$f":"IF(OR(AL51=\"\",AL51=0,Skjulte_Indstillinger!$B$9=FALSE()),#N/A,AK51/AL51)","v":{"$error":"#N/A"}},"",{"$f":"IF(Indtastning!AG63=\"\",\"\",Indtastning!AG63)","v":""},{"$f":"IF(Indtastning!AH63=\"\",\"\",Indtastning!AH63)","v":""},{"$f":"IF(OR(AP51=\"\",AP51=0,Skjulte_Indstillinger!$B$10=FALSE()),#N/A,AO51/AP51)","v":{"$error":"#N/A"}},"",{"$f":"IF(Indtastning!G63=\"\",#N/A,Indtastning!G63)","v":{"$error":"#N/A"}},{"$error":"#N/A"},{"$f":"LOG(_xlfn.AGGREGATE(3,3,$AS$6:$AS51),10)","v":{"$error":"#NUM!"}},0,0,0,0,0,0,0,"","",{"$error":"#N/A"},{"$error":"#N/A"},{"$error":"#N/A"},{"$error":"#N/A"},0,"","","","",0,0,0,"",{"$error":"#N/A"},{"$error":"#N/A"},{"$f":"IF(AND(H51<>\"\",H52=\"\",OR(Skjulte_Indstillinger!$B$2,Skjulte_Indstillinger!$B$3,Skjulte_Indstillinger!$B$4,Skjulte_Indstillinger!$B$5,Skjulte_Indstillinger!$B$6,Skjulte_Indstillinger!$B$7,Skjulte_Indstillinger!$B$8,Skjulte_Indstillinger!$B$9,Skjulte_Indstillinger!$B$10)),H51,NA())","v":{"$error":"#N/A"}},{"$f":"IF(AND(L51<>\"\",L52=\"\",Skjulte_Indstillinger!$B$2),L51,NA())","v":{"$error":"#N/A"}},{"$f":"IF(AND(P51<>\"\",P52=\"\",Skjulte_Indstillinger!$B$3),P51,NA())","v":{"$error":"#N/A"}},{"$f":"IF(AND(T51<>\"\",T52=\"\",Skjulte_Indstillinger!$B$4),T51,NA())","v":{"$error":"#N/A"}},{"$f":"IF(AND(X51<>\"\",X52=\"\",Skjulte_Indstillinger!$B$5),X51,NA())","v":{"$error":"#N/A"}},{"$f":"IF(AND(AB51<>\"\",AB52=\"\",Skjulte_Indstillinger!$B$6),AB51,NA())","v":{"$error":"#N/A"}},{"$f":"IF(AND(AF51<>\"\",AF52=\"\",Skjulte_Indstillinger!$B$7),AF51,NA())","v":{"$error":"#N/A"}},{"$f":"IF(AND(AJ51<>\"\",AJ52=\"\",Skjulte_Indstillinger!$B$8),AJ51,NA())","v":{"$error":"#N/A"}},{"$f":"IF(AND(AN51<>\"\",AN52=\"\",Skjulte_Indstillinger!$B$9),AN51,NA())","v":{"$error":"#N/A"}},{"$f":"IF(AND(AR51<>\"\",AR52=\"\",Skjulte_Indstillinger!$B$10),AR51,NA())","v":{"$error":"#N/A"}}]
["",{"$f":"IF(Indtastning!B64=\"\",\"\",Indtastning!B64)","v":""},{"$f":"CELL(\"format\",Indtastning!B64)","v":"G"},"",{"$f":"IF(Indtastning!D64=\"\",\"\",Indtastning!D64)","v":""},{"$f":"IF(Indtastning!E64=\"\",\"\",Indtastning!E64)","v":""},{"$error":"#N/A"},"",{"$f":"IF(Indtastning!I64=\"\",\"\",Indtastning!I64)","v":""},{"$f":"IF(Indtastning!J64=\"\",\"\",Indtastning!J64)","v":""},{"$f":"IF(OR(J52=\"\",J52=0,Skjulte_Indstillinger!$B$2=FALSE()),#N/A,I52/J52)","v":{"$error":"#N/A"}},"",{"$f":"IF(Indtastning!L64=\"\",\"\",Indtastning!L64)","v":""},{"$f":"IF(Indtastning!M64=\"\",\"\",Indtastning!M64)","v":""},{"$f":"IF(OR(N52=\"\",N52=0,Skjulte_Indstillinger!$B$3=FALSE()),#N/A,M52/N52)","v":{"$error":"#N/A"}},"",{"$f":"IF(Indtastning!O64=\"\",\"\",Indtastning!O64)","v":""},{"$f":"IF(Indtastning!P64=\"\",\"\",Indtastning!P64)","v":""},{"$f":"IF(OR(R52=\"\",R52=0,Skjulte_Indstillinger!$B$4=FALSE()),#N/A,Q52/R52)","v":{"$error":"#N/A"}},"",{"$f":"IF(Indtastning!R64=\"\",\"\",Indtastning!R64)","v":""},{"$f":"IF(Indtastning!S64=\"\",\"\",Indtastning!S64)","v":""},{"$f":"IF(OR(V52=\"\",V52=0,Skjulte_Indstillinger!$B$5=FALSE()),#N/A,U52/V52)","v":{"$error":"#N/A"}},"",{"$f":"IF(Indtastning!U64=\"\",\"\",Indtastning!U64)","v":""},{"$f":"IF(Indtastning!V64=\"\",\"\",Indtastning!V64)","v":""},{"$f":"IF(OR(Z52=\"\",Z52=0,Skjulte_Indstillinger!$B$6=FALSE()),#N/A,Y52/Z52)","v":{"$error":"#N/A"}},"",{"$f":"IF(Indtastning!X64=\"\",\"\",Indtastning!X64)","v":""},{"$f":"IF(Indtastning!Y64=\"\",\"\",Indtastning!Y64)","v":""},{"$f":"IF(OR(AD52=\"\",AD52=0,Skjulte_Indstillinger!$B$7=FALSE()),#N/A,AC52/AD52)","v":{"$error":"#N/A"}},"",{"$f":"IF(Indtastning!AA64=\"\",\"\",Indtastning!AA64)","v":""},{"$f":"IF(Indtastning!AB64=\"\",\"\",Indtastning!AB64)","v":""},{"$f":"IF(OR(AH52=\"\",AH52=0,Skjulte_Indstillinger!$B$8=FALSE()),#N/A,AG52/AH52)","v":{"$error":"#N/A"}},"",{"$f":"IF(Indtastning!AD64=\"\",\"\",Indtastning!AD64)","v":""},{"$f":"IF(Indtastning!AE64=\"\",\"\",Indtastning!AE64)","v":""},{"$f":"IF(OR(AL52=\"\",AL52=0,Skjulte_Indstillinger!$B$9=FALSE()),#N/A,AK52/AL52)","v":{"$error":"#N/A"}},"",{"$f":"IF(Indtastning!AG64=\"\",\"\",Indtastning!AG64)","v":""},{"$f":"IF(Indtastning!AH64=\"\",\"\",Indtastning!AH64)","v":""},{"$f":"IF(OR(AP52=\"\",AP52=0,Skjulte_Indstillinger!$B$10=FALSE()),#N/A,AO52/AP52)","v":{"$error":"#N/A"}},"",{"$f":"IF(Indtastning!G64=\"\",#N/A,Indtastning!G64)","v":{"$error":"#N/A"}},{"$error":"#N/A"},{"$f":"LOG(_xlfn.AGGREGATE(3,3,$AS$6:$AS52),10)","v":{"$error":"#NUM!"}},0,0,0,0,0,0,0,"","",{"$error":"#N/A"},{"$error":"#N/A"},{"$error":"#N/A"},{"$error":"#N/A"},0,"","","","",0,0,0,"",{"$error":"#N/A"},{"$error":"#N/A"},{"$f":"IF(AND(H52<>\"\",H53=\"\",OR(Skjulte_Indstillinger!$B$2,Skjulte_Indstillinger!$B$3,Skjulte_Indstillinger!$B$4,Skjulte_Indstillinger!$B$5,Skjulte_Indstillinger!$B$6,Skjulte_Indstillinger!$B$7,Skjulte_Indstillinger!$B$8,Skjulte_Indstillinger!$B$9,Skjulte_Indstillinger!$B$10)),H52,NA())","v":{"$error":"#N/A"}},{"$f":"IF(AND(L52<>\"\",L53=\"\",Skjulte_Indstillinger!$B$2),L52,NA())","v":{"$error":"#N/A"}},{"$f":"IF(AND(P52<>\"\",P53=\"\",Skjulte_Indstillinger!$B$3),P52,NA())","v":{"$error":"#N/A"}},{"$f":"IF(AND(T52<>\"\",T53=\"\",Skjulte_Indstillinger!$B$4),T52,NA())","v":{"$error":"#N/A"}},{"$f":"IF(AND(X52<>\"\",X53=\"\",Skjulte_Indstillinger!$B$5),X52,NA())","v":{"$error":"#N/A"}},{"$f":"IF(AND(AB52<>\"\",AB53=\"\",Skjulte_Indstillinger!$B$6),AB52,NA())","v":{"$error":"#N/A"}},{"$f":"IF(AND(AF52<>\"\",AF53=\"\",Skjulte_Indstillinger!$B$7),AF52,NA())","v":{"$error":"#N/A"}},{"$f":"IF(AND(AJ52<>\"\",AJ53=\"\",Skjulte_Indstillinger!$B$8),AJ52,NA())","v":{"$error":"#N/A"}},{"$f":"IF(AND(AN52<>\"\",AN53=\"\",Skjulte_Indstillinger!$B$9),AN52,NA())","v":{"$error":"#N/A"}},{"$f":"IF(AND(AR52<>\"\",AR53=\"\",Skjulte_Indstillinger!$B$10),AR52,NA())","v":{"$error":"#N/A"}}]
["",{"$f":"IF(Indtastning!B65=\"\",\"\",Indtastning!B65)","v":""},{"$f":"CELL(\"format\",Indtastning!B65)","v":"G"},"",{"$f":"IF(Indtastning!D65=\"\",\"\",Indtastning!D65)","v":""},{"$f":"IF(Indtastning!E65=\"\",\"\",Indtastning!E65)","v":""},{"$error":"#N/A"},"",{"$f":"IF(Indtastning!I65=\"\",\"\",Indtastning!I65)","v":""},{"$f":"IF(Indtastning!J65=\"\",\"\",Indtastning!J65)","v":""},{"$f":"IF(OR(J53=\"\",J53=0,Skjulte_Indstillinger!$B$2=FALSE()),#N/A,I53/J53)","v":{"$error":"#N/A"}},"",{"$f":"IF(Indtastning!L65=\"\",\"\",Indtastning!L65)","v":""},{"$f":"IF(Indtastning!M65=\"\",\"\",Indtastning!M65)","v":""},{"$f":"IF(OR(N53=\"\",N53=0,Skjulte_Indstillinger!$B$3=FALSE()),#N/A,M53/N53)","v":{"$error":"#N/A"}},"",{"$f":"IF(Indtastning!O65=\"\",\"\",Indtastning!O65)","v":""},{"$f":"IF(Indtastning!P65=\"\",\"\",Indtastning!P65)","v":""},{"$f":"IF(OR(R53=\"\",R53=0,Skjulte_Indstillinger!$B$4=FALSE()),#N/A,Q53/R53)","v":{"$error":"#N/A"}},"",{"$f":"IF(Indtastning!R65=\"\",\"\",Indtastning!R65)","v":""},{"$f":"IF(Indtastning!S65=\"\",\"\",Indtastning!S65)","v":""},{"$f":"IF(OR(V53=\"\",V53=0,Skjulte_Indstillinger!$B$5=FALSE()),#N/A,U53/V53)","v":{"$error":"#N/A"}},"",{"$f":"IF(Indtastning!U65=\"\",\"\",Indtastning!U65)","v":""},{"$f":"IF(Indtastning!V65=\"\",\"\",Indtastning!V65)","v":""},{"$f":"IF(OR(Z53=\"\",Z53=0,Skjulte_Indstillinger!$B$6=FALSE()),#N/A,Y53/Z53)","v":{"$error":"#N/A"}},"",{"$f":"IF(Indtastning!X65=\"\",\"\",Indtastning!X65)","v":""},{"$f":"IF(Indtastning!Y65=\"\",\"\",Indtastning!Y65)","v":""},{"$f":"IF(OR(AD53=\"\",AD53=0,Skjulte_Indstillinger!$B$7=FALSE()),#N/A,AC53/AD53)","v":{"$error":"#N/A"}},"",{"$f":"IF(Indtastning!AA65=\"\",\"\",Indtastning!AA65)","v":""},{"$f":"IF(Indtastning!AB65=\"\",\"\",Indtastning!AB65)","v":""},{"$f":"IF(OR(AH53=\"\",AH53=0,Skjulte_Indstillinger!$B$8=FALSE()),#N/A,AG53/AH53)","v":{"$error":"#N/A"}},"",{"$f":"IF(Indtastning!AD65=\"\",\"\",Indtastning!AD65)","v":""},{"$f":"IF(Indtastning!AE65=\"\",\"\",Indtastning!AE65)","v":""},{"$f":"IF(OR(AL53=\"\",AL53=0,Skjulte_Indstillinger!$B$9=FALSE()),#N/A,AK53/AL53)","v":{"$error":"#N/A"}},"",{"$f":"IF(Indtastning!AG65=\"\",\"\",Indtastning!AG65)","v":""},{"$f":"IF(Indtastning!AH65=\"\",\"\",Indtastning!AH65)","v":""},{"$f":"IF(OR(AP53=\"\",AP53=0,Skjulte_Indstillinger!$B$10=FALSE()),#N/A,AO53/AP53)","v":{"$error":"#N/A"}},"",{"$f":"IF(Indtastning!G65=\"\",#N/A,Indtastning!G65)","v":{"$error":"#N/A"}},{"$error":"#N/A"},{"$f":"LOG(_xlfn.AGGREGATE(3,3,$AS$6:$AS53),10)","v":{"$error":"#NUM!"}},0,0,0,0,0,0,0,"","",{"$error":"#N/A"},{"$error":"#N/A"},{"$error":"#N/A"},{"$error":"#N/A"},0,"","","","",0,0,0,"",{"$error":"#N/A"},{"$error":"#N/A"},{"$f":"IF(AND(H53<>\"\",H54=\"\",OR(Skjulte_Indstillinger!$B$2,Skjulte_Indstillinger!$B$3,Skjulte_Indstillinger!$B$4,Skjulte_Indstillinger!$B$5,Skjulte_Indstillinger!$B$6,Skjulte_Indstillinger!$B$7,Skjulte_Indstillinger!$B$8,Skjulte_Indstillinger!$B$9,Skjulte_Indstillinger!$B$10)),H53,NA())","v":{"$error":"#N/A"}},{"$f":"IF(AND(L53<>\"\",L54=\"\",Skjulte_Indstillinger!$B$2),L53,NA())","v":{"$error":"#N/A"}},{"$f":"IF(AND(P53<>\"\",P54=\"\",Skjulte_Indstillinger!$B$3),P53,NA())","v":{"$error":"#N/A"}},{"$f":"IF(AND(T53<>\"\",T54=\"\",Skjulte_Indstillinger!$B$4),T53,NA())","v":{"$error":"#N/A"}},{"$f":"IF(AND(X53<>\"\",X54=\"\",Skjulte_Indstillinger!$B$5),X53,NA())","v":{"$error":"#N/A"}},{"$f":"IF(AND(AB53<>\"\",AB54=\"\",Skjulte_Indstillinger!$B$6),AB53,NA())","v":{"$error":"#N/A"}},{"$f":"IF(AND(AF53<>\"\",AF54=\"\",Skjulte_Indstillinger!$B$7),AF53,NA())","v":{"$error":"#N/A"}},{"$f":"IF(AND(AJ53<>\"\",AJ54=\"\",Skjulte_Indstillinger!$B$8),AJ53,NA())","v":{"$error":"#N/A"}},{"$f":"IF(AND(AN53<>\"\",AN54=\"\",Skjulte_Indstillinger!$B$9),AN53,NA())","v":{"$error":"#N/A"}},{"$f":"IF(AND(AR53<>\"\",AR54=\"\",Skjulte_Indstillinger!$B$10),AR53,NA())","v":{"$error":"#N/A"}}]
["",{"$f":"IF(Indtastning!B66=\"\",\"\",Indtastning!B66)","v":""},{"$f":"CELL(\"format\",Indtastning!B66)","v":"G"},"",{"$f":"IF(Indtastning!D66=\"\",\"\",Indtastning!D66)","v":""},{"$f":"IF(Indtastning!E66=\"\",\"\",Indtastning!E66)","v":""},{"$error":"#N/A"},"",{"$f":"IF(Indtastning!I66=\"\",\"\",Indtastning!I66)","v":""},{"$f":"IF(Indtastning!J66=\"\",\"\",Indtastning!J66)","v":""},{"$f":"IF(OR(J54=\"\",J54=0,Skjulte_Indstillinger!$B$2=FALSE()),#N/A,I54/J54)","v":{"$error":"#N/A"}},"",{"$f":"IF(Indtastning!L66=\"\",\"\",Indtastning!L66)","v":""},{"$f":"IF(Indtastning!M66=\"\",\"\",Indtastning!M66)","v":""},{"$f":"IF(OR(N54=\"\",N54=0,Skjulte_Indstillinger!$B$3=FALSE()),#N/A,M54/N54)","v":{"$error":"#N/A"}},"",{"$f":"IF(Indtastning!O66=\"\",\"\",Indtastning!O66)","v":""},{"$f":"IF(Indtastning!P66=\"\",\"\",Indtastning!P66)","v":""},{"$f":"IF(OR(R54=\"\",R54=0,Skjulte_Indstillinger!$B$4=FALSE()),#N/A,Q54/R54)","v":{"$error":"#N/A"}},"",{"$f":"IF(Indtastning!R66=\"\",\"\",Indtastning!R66)","v":""},{"$f":"IF(Indtastning!S66=\"\",\"\",Indtastning!S66)","v":""},{"$f":"IF(OR(V54=\"\",V54=0,Skjulte_Indstillinger!$B$5=FALSE()),#N/A,U54/V54)","v":{"$error":"#N/A"}},"",{"$f":"IF(Indtastning!U66=\"\",\"\",Indtastning!U66)","v":""},{"$f":"IF(Indtastning!V66=\"\",\"\",Indtastning!V66)","v":""},{"$f":"IF(OR(Z54=\"\",Z54=0,Skjulte_Indstillinger!$B$6=FALSE()),#N/A,Y54/Z54)","v":{"$error":"#N/A"}},"",{"$f":"IF(Indtastning!X66=\"\",\"\",Indtastning!X66)","v":""},{"$f":"IF(Indtastning!Y66=\"\",\"\",Indtastning!Y66)","v":""},{"$f":"IF(OR(AD54=\"\",AD54=0,Skjulte_Indstillinger!$B$7=FALSE()),#N/A,AC54/AD54)","v":{"$error":"#N/A"}},"",{"$f":"IF(Indtastning!AA66=\"\",\"\",Indtastning!AA66)","v":""},{"$f":"IF(Indtastning!AB66=\"\",\"\",Indtastning!AB66)","v":""},{"$f":"IF(OR(AH54=\"\",AH54=0,Skjulte_Indstillinger!$B$8=FALSE()),#N/A,AG54/AH54)","v":{"$error":"#N/A"}},"",{"$f":"IF(Indtastning!AD66=\"\",\"\",Indtastning!AD66)","v":""},{"$f":"IF(Indtastning!AE66=\"\",\"\",Indtastning!AE66)","v":""},{"$f":"IF(OR(AL54=\"\",AL54=0,Skjulte_Indstillinger!$B$9=FALSE()),#N/A,AK54/AL54)","v":{"$error":"#N/A"}},"",{"$f":"IF(Indtastning!AG66=\"\",\"\",Indtastning!AG66)","v":""},{"$f":"IF(Indtastning!AH66=\"\",\"\",Indtastning!AH66)","v":""},{"$f":"IF(OR(AP54=\"\",AP54=0,Skjulte_Indstillinger!$B$10=FALSE()),#N/A,AO54/AP54)","v":{"$error":"#N/A"}},"",{"$f":"IF(Indtastning!G66=\"\",#N/A,Indtastning!G66)","v":{"$error":"#N/A"}},{"$error":"#N/A"},{"$f":"LOG(_xlfn.AGGREGATE(3,3,$AS$6:$AS54),10)","v":{"$error":"#NUM!"}},0,0,0,0,0,0,0,"","",{"$error":"#N/A"},{"$error":"#N/A"},{"$error":"#N/A"},{"$error":"#N/A"},0,"","","","",0,0,0,"",{"$error":"#N/A"},{"$error":"#N/A"},{"$f":"IF(AND(H54<>\"\",H55=\"\",OR(Skjulte_Indstillinger!$B$2,Skjulte_Indstillinger!$B$3,Skjulte_Indstillinger!$B$4,Skjulte_Indstillinger!$B$5,Skjulte_Indstillinger!$B$6,Skjulte_Indstillinger!$B$7,Skjulte_Indstillinger!$B$8,Skjulte_Indstillinger!$B$9,Skjulte_Indstillinger!$B$10)),H54,NA())","v":{"$error":"#N/A"}},{"$f":"IF(AND(L54<>\"\",L55=\"\",Skjulte_Indstillinger!$B$2),L54,NA())","v":{"$error":"#N/A"}},{"$f":"IF(AND(P54<>\"\",P55=\"\",Skjulte_Indstillinger!$B$3),P54,NA())","v":{"$error":"#N/A"}},{"$f":"IF(AND(T54<>\"\",T55=\"\",Skjulte_Indstillinger!$B$4),T54,NA())","v":{"$error":"#N/A"}},{"$f":"IF(AND(X54<>\"\",X55=\"\",Skjulte_Indstillinger!$B$5),X54,NA())","v":{"$error":"#N/A"}},{"$f":"IF(AND(AB54<>\"\",AB55=\"\",Skjulte_Indstillinger!$B$6),AB54,NA())","v":{"$error":"#N/A"}},{"$f":"IF(AND(AF54<>\"\",AF55=\"\",Skjulte_Indstillinger!$B$7),AF54,NA())","v":{"$error":"#N/A"}},{"$f":"IF(AND(AJ54<>\"\",AJ55=\"\",Skjulte_Indstillinger!$B$8),AJ54,NA())","v":{"$error":"#N/A"}},{"$f":"IF(AND(AN54<>\"\",AN55=\"\",Skjulte_Indstillinger!$B$9),AN54,NA())","v":{"$error":"#N/A"}},{"$f":"IF(AND(AR54<>\"\",AR55=\"\",Skjulte_Indstillinger!$B$10),AR54,NA())","v":{"$error":"#N/A"}}]
["",{"$f":"IF(Indtastning!B67=\"\",\"\",Indtastning!B67)","v":""},{"$f":"CELL(\"format\",Indtastning!B67)","v":"G"},"",{"$f":"IF(Indtastning!D67=\"\",\"\",Indtastning!D67)","v":""},{"$f":"IF(Indtastning!E67=\"\",\"\",Indtastning!E67)","v":""},{"$error":"#N/A"},"",{"$f":"IF(Indtastning!I67=\"\",\"\",Indtastning!I67)","v":""},{"$f":"IF(Indtastning!J67=\"\",\"\",Indtastning!J67)","v":""},{"$f":"IF(OR(J55=\"\",J55=0,Skjulte_Indstillinger!$B$2=FALSE()),#N/A,I55/J55)","v":{"$error":"#N/A"}},"",{"$f":"IF(Indtastning!L67=\"\",\"\",Indtastning!L67)","v":""},{"$f":"IF(Indtastning!M67=\"\",\"\",Indtastning!M67)","v":""},{"$f":"IF(OR(N55=\"\",N55=0,Skjulte_Indstillinger!$B$3=FALSE()),#N/A,M55/N55)","v":{"$error":"#N/A"}},"",{"$f":"IF(Indtastning!O67=\"\",\"\",Indtastning!O67)","v":""},{"$f":"IF(Indtastning!P67=\"\",\"\",Indtastning!P67)","v":""},{"$f":"IF(OR(R55=\"\",R55=0,Skjulte_Indstillinger!$B$4=FALSE()),#N/A,Q55/R55)","v":{"$error":"#N/A"}},"",{"$f":"IF(Indtastning!R67=\"\",\"\",Indtastning!R67)","v":""},{"$f":"IF(Indtastning!S67=\"\",\"\",Indtastning!S67)","v":""},{"$f":"IF(OR(V55=\"\",V55=0,Skjulte_Indstillinger!$B$5=FALSE()),#N/A,U55/V55)","v":{"$error":"#N/A"}},"",{"$f":"IF(Indtastning!U67=\"\",\"\",Indtastning!U67)","v":""},{"$f":"IF(Indtastning!V67=\"\",\"\",Indtastning!V67)","v":""},{"$f":"IF(OR(Z55=\"\",Z55=0,Skjulte_Indstillinger!$B$6=FALSE()),#N/A,Y55/Z55)","v":{"$error":"#N/A"}},"",{"$f":"IF(Indtastning!X67=\"\",\"\",Indtastning!X67)","v":""},{"$f":"IF(Indtastning!Y67=\"\",\"\",Indtastning!Y67)","v":""},{"$f":"IF(OR(AD55=\"\",AD55=0,Skjulte_Indstillinger!$B$7=FALSE()),#N/A,AC55/AD55)","v":{"$error":"#N/A"}},"",{"$f":"IF(Indtastning!AA67=\"\",\"\",Indtastning!AA67)","v":""},{"$f":"IF(Indtastning!AB67=\"\",\"\",Indtastning!AB67)","v":""},{"$f":"IF(OR(AH55=\"\",AH55=0,Skjulte_Indstillinger!$B$8=FALSE()),#N/A,AG55/AH55)","v":{"$error":"#N/A"}},"",{"$f":"IF(Indtastning!AD67=\"\",\"\",Indtastning!AD67)","v":""},{"$f":"IF(Indtastning!AE67=\"\",\"\",Indtastning!AE67)","v":""},{"$f":"IF(OR(AL55=\"\",AL55=0,Skjulte_Indstillinger!$B$9=FALSE()),#N/A,AK55/AL55)","v":{"$error":"#N/A"}},"",{"$f":"IF(Indtastning!AG67=\"\",\"\",Indtastning!AG67)","v":""},{"$f":"IF(Indtastning!AH67=\"\",\"\",Indtastning!AH67)","v":""},{"$f":"IF(OR(AP55=\"\",AP55=0,Skjulte_Indstillinger!$B$10=FALSE()),#N/A,AO55/AP55)","v":{"$error":"#N/A"}},"",{"$f":"IF(Indtastning!G67=\"\",#N/A,Indtastning!G67)","v":{"$error":"#N/A"}},{"$error":"#N/A"},{"$f":"LOG(_xlfn.AGGREGATE(3,3,$AS$6:$AS55),10)","v":{"$error":"#NUM!"}},0,0,0,0,0,0,0,"","",{"$error":"#N/A"},{"$error":"#N/A"},{"$error":"#N/A"},{"$error":"#N/A"},0,"","","","",0,0,0,"",{"$error":"#N/A"},{"$error":"#N/A"},{"$f":"IF(AND(H55<>\"\",H56=\"\",OR(Skjulte_Indstillinger!$B$2,Skjulte_Indstillinger!$B$3,Skjulte_Indstillinger!$B$4,Skjulte_Indstillinger!$B$5,Skjulte_Indstillinger!$B$6,Skjulte_Indstillinger!$B$7,Skjulte_Indstillinger!$B$8,Skjulte_Indstillinger!$B$9,Skjulte_Indstillinger!$B$10)),H55,NA())","v":{"$error":"#N/A"}},{"$f":"IF(AND(L55<>\"\",L56=\"\",Skjulte_Indstillinger!$B$2),L55,NA())","v":{"$error":"#N/A"}},{"$f":"IF(AND(P55<>\"\",P56=\"\",Skjulte_Indstillinger!$B$3),P55,NA())","v":{"$error":"#N/A"}},{"$f":"IF(AND(T55<>\"\",T56=\"\",Skjulte_Indstillinger!$B$4),T55,NA())","v":{"$error":"#N/A"}},{"$f":"IF(AND(X55<>\"\",X56=\"\",Skjulte_Indstillinger!$B$5),X55,NA())","v":{"$error":"#N/A"}},{"$f":"IF(AND(AB55<>\"\",AB56=\"\",Skjulte_Indstillinger!$B$6),AB55,NA())","v":{"$error":"#N/A"}},{"$f":"IF(AND(AF55<>\"\",AF56=\"\",Skjulte_Indstillinger!$B$7),AF55,NA())","v":{"$error":"#N/A"}},{"$f":"IF(AND(AJ55<>\"\",AJ56=\"\",Skjulte_Indstillinger!$B$8),AJ55,NA())","v":{"$error":"#N/A"}},{"$f":"IF(AND(AN55<>\"\",AN56=\"\",Skjulte_Indstillinger!$B$9),AN55,NA())","v":{"$error":"#N/A"}},{"$f":"IF(AND(AR55<>\"\",AR56=\"\",Skjulte_Indstillinger!$B$10),AR55,NA())","v":{"$error":"#N/A"}}]
["",{"$f":"IF(Indtastning!B68=\"\",\"\",Indtastning!B68)","v":""},{"$f":"CELL(\"format\",Indtastning!B68)","v":"G"},"",{"$f":"IF(Indtastning!D68=\"\",\"\",Indtastning!D68)","v":""},{"$f":"IF(Indtastning!E68=\"\",\"\",Indtastning!E68)","v":""},{"$error":"#N/A"},"",{"$f":"IF(Indtastning!I68=\"\",\"\",Indtastning!I68)","v":""},{"$f":"IF(Indtastning!J68=\"\",\"\",Indtastning!J68)","v":""},{"$f":"IF(OR(J56=\"\",J56=0,Skjulte_Indstillinger!$B$2=FALSE()),#N/A,I56/J56)","v":{"$error":"#N/A"}},"",{"$f":"IF(Indtastning!L68=\"\",\"\",Indtastning!L68)","v":""},{"$f":"IF(Indtastning!M68=\"\",\"\",Indtastning!M68)","v":""},{"$f":"IF(OR(N56=\"\",N56=0,Skjulte_Indstillinger!$B$3=FALSE()),#N/A,M56/N56)","v":{"$error":"#N/A"}},"",{"$f":"IF(Indtastning!O68=\"\",\"\",Indtastning!O68)","v":""},{"$f":"IF(Indtastning!P68=\"\",\"\",Indtastning!P68)","v":""},{"$f":"IF(OR(R56=\"\",R56=0,Skjulte_Indstillinger!$B$4=FALSE()),#N/A,Q56/R56)","v":{"$error":"#N/A"}},"",{"$f":"IF(Indtastning!R68=\"\",\"\",Indtastning!R68)","v":""},{"$f":"IF(Indtastning!S68=\"\",\"\",Indtastning!S68)","v":""},{"$f":"IF(OR(V56=\"\",V56=0,Skjulte_Indstillinger!$B$5=FALSE()),#N/A,U56/V56)","v":{"$error":"#N/A"}},"",{"$f":"IF(Indtastning!U68=\"\",\"\",Indtastning!U68)","v":""},{"$f":"IF(Indtastning!V68=\"\",\"\",Indtastning!V68)","v":""},{"$f":"IF(OR(Z56=\"\",Z56=0,Skjulte_Indstillinger!$B$6=FALSE()),#N/A,Y56/Z56)","v":{"$error":"#N/A"}},"",{"$f":"IF(Indtastning!X68=\"\",\"\",Indtastning!X68)","v":""},{"$f":"IF(Indtastning!Y68=\"\",\"\",Indtastning!Y68)","v":""},{"$f":"IF(OR(AD56=\"\",AD56=0,Skjulte_Indstillinger!$B$7=FALSE()),#N/A,AC56/AD56)","v":{"$error":"#N/A"}},"",{"$f":"IF(Indtastning!AA68=\"\",\"\",Indtastning!AA68)","v":""},{"$f":"IF(Indtastning!AB68=\"\",\"\",Indtastning!AB68)","v":""},{"$f":"IF(OR(AH56=\"\",AH56=0,Skjulte_Indstillinger!$B$8=FALSE()),#N/A,AG56/AH56)","v":{"$error":"#N/A"}},"",{"$f":"IF(Indtastning!AD68=\"\",\"\",Indtastning!AD68)","v":""},{"$f":"IF(Indtastning!AE68=\"\",\"\",Indtastning!AE68)","v":""},{"$f":"IF(OR(AL56=\"\",AL56=0,Skjulte_Indstillinger!$B$9=FALSE()),#N/A,AK56/AL56)","v":{"$error":"#N/A"}},"",{"$f":"IF(Indtastning!AG68=\"\",\"\",Indtastning!AG68)","v":""},{"$f":"IF(Indtastning!AH68=\"\",\"\",Indtastning!AH68)","v":""},{"$f":"IF(OR(AP56=\"\",AP56=0,Skjulte_Indstillinger!$B$10=FALSE()),#N/A,AO56/AP56)","v":{"$error":"#N/A"}},"",{"$f":"IF(Indtastning!G68=\"\",#N/A,Indtastning!G68)","v":{"$error":"#N/A"}},{"$error":"#N/A"},{"$f":"LOG(_xlfn.AGGREGATE(3,3,$AS$6:$AS56),10)","v":{"$error":"#NUM!"}},0,0,0,0,0,0,0,"","",{"$error":"#N/A"},{"$error":"#N/A"},{"$error":"#N/A"},{"$error":"#N/A"},0,"","","","",0,0,0,"",{"$error":"#N/A"},{"$error":"#N/A"},{"$f":"IF(AND(H56<>\"\",H57=\"\",OR(Skjulte_Indstillinger!$B$2,Skjulte_Indstillinger!$B$3,Skjulte_Indstillinger!$B$4,Skjulte_Indstillinger!$B$5,Skjulte_Indstillinger!$B$6,Skjulte_Indstillinger!$B$7,Skjulte_Indstillinger!$B$8,Skjulte_Indstillinger!$B$9,Skjulte_Indstillinger!$B$10)),H56,NA())","v":{"$error":"#N/A"}},{"$f":"IF(AND(L56<>\"\",L57=\"\",Skjulte_Indstillinger!$B$2),L56,NA())","v":{"$error":"#N/A"}},{"$f":"IF(AND(P56<>\"\",P57=\"\",Skjulte_Indstillinger!$B$3),P56,NA())","v":{"$error":"#N/A"}},{"$f":"IF(AND(T56<>\"\",T57=\"\",Skjulte_Indstillinger!$B$4),T56,NA())","v":{"$error":"#N/A"}},{"$f":"IF(AND(X56<>\"\",X57=\"\",Skjulte_Indstillinger!$B$5),X56,NA())","v":{"$error":"#N/A"}},{"$f":"IF(AND(AB56<>\"\",AB57=\"\",Skjulte_Indstillinger!$B$6),AB56,NA())","v":{"$error":"#N/A"}},{"$f":"IF(AND(AF56<>\"\",AF57=\"\",Skjulte_Indstillinger!$B$7),AF56,NA())","v":{"$error":"#N/A"}},{"$f":"IF(AND(AJ56<>\"\",AJ57=\"\",Skjulte_Indstillinger!$B$8),AJ56,NA())","v":{"$error":"#N/A"}},{"$f":"IF(AND(AN56<>\"\",AN57=\"\",Skjulte_Indstillinger!$B$9),AN56,NA())","v":{"$error":"#N/A"}},{"$f":"IF(AND(AR56<>\"\",AR57=\"\",Skjulte_Indstillinger!$B$10),AR56,NA())","v":{"$error":"#N/A"}}]
["",{"$f":"IF(Indtastning!B69=\"\",\"\",Indtastning!B69)","v":""},{"$f":"CELL(\"format\",Indtastning!B69)","v":"G"},"",{"$f":"IF(Indtastning!D69=\"\",\"\",Indtastning!D69)","v":""},{"$f":"IF(Indtastning!E69=\"\",\"\",Indtastning!E69)","v":""},{"$error":"#N/A"},"",{"$f":"IF(Indtastning!I69=\"\",\"\",Indtastning!I69)","v":""},{"$f":"IF(Indtastning!J69=\"\",\"\",Indtastning!J69)","v":""},{"$f":"IF(OR(J57=\"\",J57=0,Skjulte_Indstillinger!$B$2=FALSE()),#N/A,I57/J57)","v":{"$error":"#N/A"}},"",{"$f":"IF(Indtastning!L69=\"\",\"\",Indtastning!L69)","v":""},{"$f":"IF(Indtastning!M69=\"\",\"\",Indtastning!M69)","v":""},{"$f":"IF(OR(N57=\"\",N57=0,Skjulte_Indstillinger!$B$3=FALSE()),#N/A,M57/N57)","v":{"$error":"#N/A"}},"",{"$f":"IF(Indtastning!O69=\"\",\"\",Indtastning!O69)","v":""},{"$f":"IF(Indtastning!P69=\"\",\"\",Indtastning!P69)","v":""},{"$f":"IF(OR(R57=\"\",R57=0,Skjulte_Indstillinger!$B$4=FALSE()),#N/A,Q57/R57)","v":{"$error":"#N/A"}},"",{"$f":"IF(Indtastning!R69=\"\",\"\",Indtastning!R69)","v":""},{"$f":"IF(Indtastning!S69=\"\",\"\",Indtastning!S69)","v":""},{"$f":"IF(OR(V57=\"\",V57=0,Skjulte_Indstillinger!$B$5=FALSE()),#N/A,U57/V57)","v":{"$error":"#N/A"}},"",{"$f":"IF(Indtastning!U69=\"\",\"\",Indtastning!U69)","v":""},{"$f":"IF(Indtastning!V69=\"\",\"\",Indtastning!V69)","v":""},{"$f":"IF(OR(Z57=\"\",Z57=0,Skjulte_Indstillinger!$B$6=FALSE()),#N/A,Y57/Z57)","v":{"$error":"#N/A"}},"",{"$f":"IF(Indtastning!X69=\"\",\"\",Indtastning!X69)","v":""},{"$f":"IF(Indtastning!Y69=\"\",\"\",Indtastning!Y69)","v":""},{"$f":"IF(OR(AD57=\"\",AD57=0,Skjulte_Indstillinger!$B$7=FALSE()),#N/A,AC57/AD57)","v":{"$error":"#N/A"}},"",{"$f":"IF(Indtastning!AA69=\"\",\"\",Indtastning!AA69)","v":""},{"$f":"IF(Indtastning!AB69=\"\",\"\",Indtastning!AB69)","v":""},{"$f":"IF(OR(AH57=\"\",AH57=0,Skjulte_Indstillinger!$B$8=FALSE()),#N/A,AG57/AH57)","v":{"$error":"#N/A"}},"",{"$f":"IF(Indtastning!AD69=\"\",\"\",Indtastning!AD69)","v":""},{"$f":"IF(Indtastning!AE69=\"\",\"\",Indtastning!AE69)","v":""},{"$f":"IF(OR(AL57=\"\",AL57=0,Skjulte_Indstillinger!$B$9=FALSE()),#N/A,AK57/AL57)","v":{"$error":"#N/A"}},"",{"$f":"IF(Indtastning!AG69=\"\",\"\",Indtastning!AG69)","v":""},{"$f":"IF(Indtastning!AH69=\"\",\"\",Indtastning!AH69)","v":""},{"$f":"IF(OR(AP57=\"\",AP57=0,Skjulte_Indstillinger!$B$10=FALSE()),#N/A,AO57/AP57)","v":{"$error":"#N/A"}},"",{"$f":"IF(Indtastning!G69=\"\",#N/A,Indtastning!G69)","v":{"$error":"#N/A"}},{"$error":"#N/A"},{"$f":"LOG(_xlfn.AGGREGATE(3,3,$AS$6:$AS57),10)","v":{"$error":"#NUM!"}},0,0,0,0,0,0,0,"","",{"$error":"#N/A"},{"$error":"#N/A"},{"$error":"#N/A"},{"$error":"#N/A"},0,"","","","",0,0,0,"",{"$error":"#N/A"},{"$error":"#N/A"},{"$f":"IF(AND(H57<>\"\",H58=\"\",OR(Skjulte_Indstillinger!$B$2,Skjulte_Indstillinger!$B$3,Skjulte_Indstillinger!$B$4,Skjulte_Indstillinger!$B$5,Skjulte_Indstillinger!$B$6,Skjulte_Indstillinger!$B$7,Skjulte_Indstillinger!$B$8,Skjulte_Indstillinger!$B$9,Skjulte_Indstillinger!$B$10)),H57,NA())","v":{"$error":"#N/A"}},{"$f":"IF(AND(L57<>\"\",L58=\"\",Skjulte_Indstillinger!$B$2),L57,NA())","v":{"$error":"#N/A"}},{"$f":"IF(AND(P57<>\"\",P58=\"\",Skjulte_Indstillinger!$B$3),P57,NA())","v":{"$error":"#N/A"}},{"$f":"IF(AND(T57<>\"\",T58=\"\",Skjulte_Indstillinger!$B$4),T57,NA())","v":{"$error":"#N/A"}},{"$f":"IF(AND(X57<>\"\",X58=\"\",Skjulte_Indstillinger!$B$5),X57,NA())","v":{"$error":"#N/A"}},{"$f":"IF(AND(AB57<>\"\",AB58=\"\",Skjulte_Indstillinger!$B$6),AB57,NA())","v":{"$error":"#N/A"}},{"$f":"IF(AND(AF57<>\"\",AF58=\"\",Skjulte_Indstillinger!$B$7),AF57,NA())","v":{"$error":"#N/A"}},{"$f":"IF(AND(AJ57<>\"\",AJ58=\"\",Skjulte_Indstillinger!$B$8),AJ57,NA())","v":{"$error":"#N/A"}},{"$f":"IF(AND(AN57<>\"\",AN58=\"\",Skjulte_Indstillinger!$B$9),AN57,NA())","v":{"$error":"#N/A"}},{"$f":"IF(AND(AR57<>\"\",AR58=\"\",Skjulte_Indstillinger!$B$10),AR57,NA())","v":{"$error":"#N/A"}}]
["",{"$f":"IF(Indtastning!B70=\"\",\"\",Indtastning!B70)","v":""},{"$f":"CELL(\"format\",Indtastning!B70)","v":"G"},"",{"$f":"IF(Indtastning!D70=\"\",\"\",Indtastning!D70)","v":""},{"$f":"IF(Indtastning!E70=\"\",\"\",Indtastning!E70)","v":""},{"$error":"#N/A"},"",{"$f":"IF(Indtastning!I70=\"\",\"\",Indtastning!I70)","v":""},{"$f":"IF(Indtastning!J70=\"\",\"\",Indtastning!J70)","v":""},{"$f":"IF(OR(J58=\"\",J58=0,Skjulte_Indstillinger!$B$2=FALSE()),#N/A,I58/J58)","v":{"$error":"#N/A"}},"",{"$f":"IF(Indtastning!L70=\"\",\"\",Indtastning!L70)","v":""},{"$f":"IF(Indtastning!M70=\"\",\"\",Indtastning!M70)","v":""},{"$f":"IF(OR(N58=\"\",N58=0,Skjulte_Indstillinger!$B$3=FALSE()),#N/A,M58/N58)","v":{"$error":"#N/A"}},"",{"$f":"IF(Indtastning!O70=\"\",\"\",Indtastning!O70)","v":""},{"$f":"IF(Indtastning!P70=\"\",\"\",Indtastning!P70)","v":""},{"$f":"IF(OR(R58=\"\",R58=0,Skjulte_Indstillinger!$B$4=FALSE()),#N/A,Q58/R58)","v":{"$error":"#N/A"}},"",{"$f":"IF(Indtastning!R70=\"\",\"\",Indtastning!R70)","v":""},{"$f":"IF(Indtastning!S70=\"\",\"\",Indtastning!S70)","v":""},{"$f":"IF(OR(V58=\"\",V58=0,Skjulte_Indstillinger!$B$5=FALSE()),#N/A,U58/V58)","v":{"$error":"#N/A"}},"",{"$f":"IF(Indtastning!U70=\"\",\"\",Indtastning!U70)","v":""},{"$f":"IF(Indtastning!V70=\"\",\"\",Indtastning!V70)","v":""},{"$f":"IF(OR(Z58=\"\",Z58=0,Skjulte_Indstillinger!$B$6=FALSE()),#N/A,Y58/Z58)","v":{"$error":"#N/A"}},"",{"$f":"IF(Indtastning!X70=\"\",\"\",Indtastning!X70)","v":""},{"$f":"IF(Indtastning!Y70=\"\",\"\",Indtastning!Y70)","v":""},{"$f":"IF(OR(AD58=\"\",AD58=0,Skjulte_Indstillinger!$B$7=FALSE()),#N/A,AC58/AD58)","v":{"$error":"#N/A"}},"",{"$f":"IF(Indtastning!AA70=\"\",\"\",Indtastning!AA70)","v":""},{"$f":"IF(Indtastning!AB70=\"\",\"\",Indtastning!AB70)","v":""},{"$f":"IF(OR(AH58=\"\",AH58=0,Skjulte_Indstillinger!$B$8=FALSE()),#N/A,AG58/AH58)","v":{"$error":"#N/A"}},"",{"$f":"IF(Indtastning!AD70=\"\",\"\",Indtastning!AD70)","v":""},{"$f":"IF(Indtastning!AE70=\"\",\"\",Indtastning!AE70)","v":""},{"$f":"IF(OR(AL58=\"\",AL58=0,Skjulte_Indstillinger!$B$9=FALSE()),#N/A,AK58/AL58)","v":{"$error":"#N/A"}},"",{"$f":"IF(Indtastning!AG70=\"\",\"\",Indtastning!AG70)","v":""},{"$f":"IF(Indtastning!AH70=\"\",\"\",Indtastning!AH70)","v":""},{"$f":"IF(OR(AP58=\"\",AP58=0,Skjulte_Indstillinger!$B$10=FALSE()),#N/A,AO58/AP58)","v":{"$error":"#N/A"}},"",{"$f":"IF(Indtastning!G70=\"\",#N/A,Indtastning!G70)","v":{"$error":"#N/A"}},{"$error":"#N/A"},{"$f":"LOG(_xlfn.AGGREGATE(3,3,$AS$6:$AS58),10)","v":{"$error":"#NUM!"}},0,0,0,0,0,0,0,"","",{"$error":"#N/A"},{"$error":"#N/A"},{"$error":"#N/A"},{"$error":"#N/A"},0,"","","","",0,0,0,"",{"$error":"#N/A"},{"$error":"#N/A"},{"$f":"IF(AND(H58<>\"\",H59=\"\",OR(Skjulte_Indstillinger!$B$2,Skjulte_Indstillinger!$B$3,Skjulte_Indstillinger!$B$4,Skjulte_Indstillinger!$B$5,Skjulte_Indstillinger!$B$6,Skjulte_Indstillinger!$B$7,Skjulte_Indstillinger!$B$8,Skjulte_Indstillinger!$B$9,Skjulte_Indstillinger!$B$10)),H58,NA())","v":{"$error":"#N/A"}},{"$f":"IF(AND(L58<>\"\",L59=\"\",Skjulte_Indstillinger!$B$2),L58,NA())","v":{"$error":"#N/A"}},{"$f":"IF(AND(P58<>\"\",P59=\"\",Skjulte_Indstillinger!$B$3),P58,NA())","v":{"$error":"#N/A"}},{"$f":"IF(AND(T58<>\"\",T59=\"\",Skjulte_Indstillinger!$B$4),T58,NA())","v":{"$error":"#N/A"}},{"$f":"IF(AND(X58<>\"\",X59=\"\",Skjulte_Indstillinger!$B$5),X58,NA())","v":{"$error":"#N/A"}},{"$f":"IF(AND(AB58<>\"\",AB59=\"\",Skjulte_Indstillinger!$B$6),AB58,NA())","v":{"$error":"#N/A"}},{"$f":"IF(AND(AF58<>\"\",AF59=\"\",Skjulte_Indstillinger!$B$7),AF58,NA())","v":{"$error":"#N/A"}},{"$f":"IF(AND(AJ58<>\"\",AJ59=\"\",Skjulte_Indstillinger!$B$8),AJ58,NA())","v":{"$error":"#N/A"}},{"$f":"IF(AND(AN58<>\"\",AN59=\"\",Skjulte_Indstillinger!$B$9),AN58,NA())","v":{"$error":"#N/A"}},{"$f":"IF(AND(AR58<>\"\",AR59=\"\",Skjulte_Indstillinger!$B$10),AR58,NA())","v":{"$error":"#N/A"}}]
["",{"$f":"IF(Indtastning!B71=\"\",\"\",Indtastning!B71)","v":""},{"$f":"CELL(\"format\",Indtastning!B71)","v":"G"},"",{"$f":"IF(Indtastning!D71=\"\",\"\",Indtastning!D71)","v":""},{"$f":"IF(Indtastning!E71=\"\",\"\",Indtastning!E71)","v":""},{"$error":"#N/A"},"",{"$f":"IF(Indtastning!I71=\"\",\"\",Indtastning!I71)","v":""},{"$f":"IF(Indtastning!J71=\"\",\"\",Indtastning!J71)","v":""},{"$f":"IF(OR(J59=\"\",J59=0,Skjulte_Indstillinger!$B$2=FALSE()),#N/A,I59/J59)","v":{"$error":"#N/A"}},"",{"$f":"IF(Indtastning!L71=\"\",\"\",Indtastning!L71)","v":""},{"$f":"IF(Indtastning!M71=\"\",\"\",Indtastning!M71)","v":""},{"$f":"IF(OR(N59=\"\",N59=0,Skjulte_Indstillinger!$B$3=FALSE()),#N/A,M59/N59)","v":{"$error":"#N/A"}},"",{"$f":"IF(Indtastning!O71=\"\",\"\",Indtastning!O71)","v":""},{"$f":"IF(Indtastning!P71=\"\",\"\",Indtastning!P71)","v":""},{"$f":"IF(OR(R59=\"\",R59=0,Skjulte_Indstillinger!$B$4=FALSE()),#N/A,Q59/R59)","v":{"$error":"#N/A"}},"",{"$f":"IF(Indtastning!R71=\"\",\"\",Indtastning!R71)","v":""},{"$f":"IF(Indtastning!S71=\"\",\"\",Indtastning!S71)","v":""},{"$f":"IF(OR(V59=\"\",V59=0,Skjulte_Indstillinger!$B$5=FALSE()),#N/A,U59/V59)","v":{"$error":"#N/A"}},"",{"$f":"IF(Indtastning!U71=\"\",\"\",Indtastning!U71)","v":""},{"$f":"IF(Indtastning!V71=\"\",\"\",Indtastning!V71)","v":""},{"$f":"IF(OR(Z59=\"\",Z59=0,Skjulte_Indstillinger!$B$6=FALSE()),#N/A,Y59/Z59)","v":{"$error":"#N/A"}},"",{"$f":"IF(Indtastning!X71=\"\",\"\",Indtastning!X71)","v":""},{"$f":"IF(Indtastning!Y71=\"\",\"\",Indtastning!Y71)","v":""},{"$f":"IF(OR(AD59=\"\",AD59=0,Skjulte_Indstillinger!$B$7=FALSE()),#N/A,AC59/AD59)","v":{"$error":"#N/A"}},"",{"$f":"IF(Indtastning!AA71=\"\",\"\",Indtastning!AA71)","v":""},{"$f":"IF(Indtastning!AB71=\"\",\"\",Indtastning!AB71)","v":""},{"$f":"IF(OR(AH59=\"\",AH59=0,Skjulte_Indstillinger!$B$8=FALSE()),#N/A,AG59/AH59)","v":{"$error":"#N/A"}},"",{"$f":"IF(Indtastning!AD71=\"\",\"\",Indtastning!AD71)","v":""},{"$f":"IF(Indtastning!AE71=\"\",\"\",Indtastning!AE71)","v":""},{"$f":"IF(OR(AL59=\"\",AL59=0,Skjulte_Indstillinger!$B$9=FALSE()),#N/A,AK59/AL59)","v":{"$error":"#N/A"}},"",{"$f":"IF(Indtastning!AG71=\"\",\"\",Indtastning!AG71)","v":""},{"$f":"IF(Indtastning!AH71=\"\",\"\",Indtastning!AH71)","v":""},{"$f":"IF(OR(AP59=\"\",AP59=0,Skjulte_Indstillinger!$B$10=FALSE()),#N/A,AO59/AP59)","v":{"$error":"#N/A"}},"",{"$f":"IF(Indtastning!G71=\"\",#N/A,Indtastning!G71)","v":{"$error":"#N/A"}},{"$error":"#N/A"},{"$f":"LOG(_xlfn.AGGREGATE(3,3,$AS$6:$AS59),10)","v":{"$error":"#NUM!"}},0,0,0,0,0,0,0,"","",{"$error":"#N/A"},{"$error":"#N/A"},{"$error":"#N/A"},{"$error":"#N/A"},0,"","","","",0,0,0,"",{"$error":"#N/A"},{"$error":"#N/A"},{"$f":"IF(AND(H59<>\"\",H60=\"\",OR(Skjulte_Indstillinger!$B$2,Skjulte_Indstillinger!$B$3,Skjulte_Indstillinger!$B$4,Skjulte_Indstillinger!$B$5,Skjulte_Indstillinger!$B$6,Skjulte_Indstillinger!$B$7,Skjulte_Indstillinger!$B$8,Skjulte_Indstillinger!$B$9,Skjulte_Indstillinger!$B$10)),H59,NA())","v":{"$error":"#N/A"}},{"$f":"IF(AND(L59<>\"\",L60=\"\",Skjulte_Indstillinger!$B$2),L59,NA())","v":{"$error":"#N/A"}},{"$f":"IF(AND(P59<>\"\",P60=\"\",Skjulte_Indstillinger!$B$3),P59,NA())","v":{"$error":"#N/A"}},{"$f":"IF(AND(T59<>\"\",T60=\"\",Skjulte_Indstillinger!$B$4),T59,NA())","v":{"$error":"#N/A"}},{"$f":"IF(AND(X59<>\"\",X60=\"\",Skjulte_Indstillinger!$B$5),X59,NA())","v":{"$error":"#N/A"}},{"$f":"IF(AND(AB59<>\"\",AB60=\"\",Skjulte_Indstillinger!$B$6),AB59,NA())","v":{"$error":"#N/A"}},{"$f":"IF(AND(AF59<>\"\",AF60=\"\",Skjulte_Indstillinger!$B$7),AF59,NA())","v":{"$error":"#N/A"}},{"$f":"IF(AND(AJ59<>\"\",AJ60=\"\",Skjulte_Indstillinger!$B$8),AJ59,NA())","v":{"$error":"#N/A"}},{"$f":"IF(AND(AN59<>\"\",AN60=\"\",Skjulte_Indstillinger!$B$9),AN59,NA())","v":{"$error":"#N/A"}},{"$f":"IF(AND(AR59<>\"\",AR60=\"\",Skjulte_Indstillinger!$B$10),AR59,NA())","v":{"$error":"#N/A"}}]
["",{"$f":"IF(Indtastning!B72=\"\",\"\",Indtastning!B72)","v":""},{"$f":"CELL(\"format\",Indtastning!B72)","v":"G"},"",{"$f":"IF(Indtastning!D72=\"\",\"\",Indtastning!D72)","v":""},{"$f":"IF(Indtastning!E72=\"\",\"\",Indtastning!E72)","v":""},{"$error":"#N/A"},"",{"$f":"IF(Indtastning!I72=\"\",\"\",Indtastning!I72)","v":""},{"$f":"IF(Indtastning!J72=\"\",\"\",Indtastning!J72)","v":""},{"$f":"IF(OR(J60=\"\",J60=0,Skjulte_Indstillinger!$B$2=FALSE()),#N/A,I60/J60)","v":{"$error":"#N/A"}},"",{"$f":"IF(Indtastning!L72=\"\",\"\",Indtastning!L72)","v":""},{"$f":"IF(Indtastning!M72=\"\",\"\",Indtastning!M72)","v":""},{"$f":"IF(OR(N60=\"\",N60=0,Skjulte_Indstillinger!$B$3=FALSE()),#N/A,M60/N60)","v":{"$error":"#N/A"}},"",{"$f":"IF(Indtastning!O72=\"\",\"\",Indtastning!O72)","v":""},{"$f":"IF(Indtastning!P72=\"\",\"\",Indtastning!P72)","v":""},{"$f":"IF(OR(R60=\"\",R60=0,Skjulte_Indstillinger!$B$4=FALSE()),#N/A,Q60/R60)","v":{"$error":"#N/A"}},"",{"$f":"IF(Indtastning!R72=\"\",\"\",Indtastning!R72)","v":""},{"$f":"IF(Indtastning!S72=\"\",\"\",Indtastning!S72)","v":""},{"$f":"IF(OR(V60=\"\",V60=0,Skjulte_Indstillinger!$B$5=FALSE()),#N/A,U60/V60)","v":{"$error":"#N/A"}},"",{"$f":"IF(Indtastning!U72=\"\",\"\",Indtastning!U72)","v":""},{"$f":"IF(Indtastning!V72=\"\",\"\",Indtastning!V72)","v":""},{"$f":"IF(OR(Z60=\"\",Z60=0,Skjulte_Indstillinger!$B$6=FALSE()),#N/A,Y60/Z60)","v":{"$error":"#N/A"}},"",{"$f":"IF(Indtastning!X72=\"\",\"\",Indtastning!X72)","v":""},{"$f":"IF(Indtastning!Y72=\"\",\"\",Indtastning!Y72)","v":""},{"$f":"IF(OR(AD60=\"\",AD60=0,Skjulte_Indstillinger!$B$7=FALSE()),#N/A,AC60/AD60)","v":{"$error":"#N/A"}},"",{"$f":"IF(Indtastning!AA72=\"\",\"\",Indtastning!AA72)","v":""},{"$f":"IF(Indtastning!AB72=\"\",\"\",Indtastning!AB72)","v":""},{"$f":"IF(OR(AH60=\"\",AH60=0,Skjulte_Indstillinger!$B$8=FALSE()),#N/A,AG60/AH60)","v":{"$error":"#N/A"}},"",{"$f":"IF(Indtastning!AD72=\"\",\"\",Indtastning!AD72)","v":""},{"$f":"IF(Indtastning!AE72=\"\",\"\",Indtastning!AE72)","v":""},{"$f":"IF(OR(AL60=\"\",AL60=0,Skjulte_Indstillinger!$B$9=FALSE()),#N/A,AK60/AL60)","v":{"$error":"#N/A"}},"",{"$f":"IF(Indtastning!AG72=\"\",\"\",Indtastning!AG72)","v":""},{"$f":"IF(Indtastning!AH72=\"\",\"\",Indtastning!AH72)","v":""},{"$f":"IF(OR(AP60=\"\",AP60=0,Skjulte_Indstillinger!$B$10=FALSE()),#N/A,AO60/AP60)","v":{"$error":"#N/A"}},"",{"$f":"IF(Indtastning!G72=\"\",#N/A,Indtastning!G72)","v":{"$error":"#N/A"}},{"$error":"#N/A"},{"$f":"LOG(_xlfn.AGGREGATE(3,3,$AS$6:$AS60),10)","v":{"$error":"#NUM!"}},0,0,0,0,0,0,0,"","",{"$error":"#N/A"},{"$error":"#N/A"},{"$error":"#N/A"},{"$error":"#N/A"},0,"","","","",0,0,0,"",{"$error":"#N/A"},{"$error":"#N/A"},{"$f":"IF(AND(H60<>\"\",H61=\"\",OR(Skjulte_Indstillinger!$B$2,Skjulte_Indstillinger!$B$3,Skjulte_Indstillinger!$B$4,Skjulte_Indstillinger!$B$5,Skjulte_Indstillinger!$B$6,Skjulte_Indstillinger!$B$7,Skjulte_Indstillinger!$B$8,Skjulte_Indstillinger!$B$9,Skjulte_Indstillinger!$B$10)),H60,NA())","v":{"$error":"#N/A"}},{"$f":"IF(AND(L60<>\"\",L61=\"\",Skjulte_Indstillinger!$B$2),L60,NA())","v":{"$error":"#N/A"}},{"$f":"IF(AND(P60<>\"\",P61=\"\",Skjulte_Indstillinger!$B$3),P60,NA())","v":{"$error":"#N/A"}},{"$f":"IF(AND(T60<>\"\",T61=\"\",Skjulte_Indstillinger!$B$4),T60,NA())","v":{"$error":"#N/A"}},{"$f":"IF(AND(X60<>\"\",X61=\"\",Skjulte_Indstillinger!$B$5),X60,NA())","v":{"$error":"#N/A"}},{"$f":"IF(AND(AB60<>\"\",AB61=\"\",Skjulte_Indstillinger!$B$6),AB60,NA())","v":{"$error":"#N/A"}},{"$f":"IF(AND(AF60<>\"\",AF61=\"\",Skjulte_Indstillinger!$B$7),AF60,NA())","v":{"$error":"#N/A"}},{"$f":"IF(AND(AJ60<>\"\",AJ61=\"\",Skjulte_Indstillinger!$B$8),AJ60,NA())","v":{"$error":"#N/A"}},{"$f":"IF(AND(AN60<>\"\",AN61=\"\",Skjulte_Indstillinger!$B$9),AN60,NA())","v":{"$error":"#N/A"}},{"$f":"IF(AND(AR60<>\"\",AR61=\"\",Skjulte_Indstillinger!$B$10),AR60,NA())","v":{"$error":"#N/A"}}]
["",{"$f":"IF(Indtastning!B73=\"\",\"\",Indtastning!B73)","v":""},{"$f":"CELL(\"format\",Indtastning!B73)","v":"G"},"",{"$f":"IF(Indtastning!D73=\"\",\"\",Indtastning!D73)","v":""},{"$f":"IF(Indtastning!E73=\"\",\"\",Indtastning!E73)","v":""},{"$error":"#N/A"},"",{"$f":"IF(Indtastning!I73=\"\",\"\",Indtastning!I73)","v":""},{"$f":"IF(Indtastning!J73=\"\",\"\",Indtastning!J73)","v":""},{"$f":"IF(OR(J61=\"\",J61=0,Skjulte_Indstillinger!$B$2=FALSE()),#N/A,I61/J61)","v":{"$error":"#N/A"}},"",{"$f":"IF(Indtastning!L73=\"\",\"\",Indtastning!L73)","v":""},{"$f":"IF(Indtastning!M73=\"\",\"\",Indtastning!M73)","v":""},{"$f":"IF(OR(N61=\"\",N61=0,Skjulte_Indstillinger!$B$3=FALSE()),#N/A,M61/N61)","v":{"$error":"#N/A"}},"",{"$f":"IF(Indtastning!O73=\"\",\"\",Indtastning!O73)","v":""},{"$f":"IF(Indtastning!P73=\"\",\"\",Indtastning!P73)","v":""},{"$f":"IF(OR(R61=\"\",R61=0,Skjulte_Indstillinger!$B$4=FALSE()),#N/A,Q61/R61)","v":{"$error":"#N/A"}},"",{"$f":"IF(Indtastning!R73=\"\",\"\",Indtastning!R73)","v":""},{"$f":"IF(Indtastning!S73=\"\",\"\",Indtastning!S73)","v":""},{"$f":"IF(OR(V61=\"\",V61=0,Skjulte_Indstillinger!$B$5=FALSE()),#N/A,U61/V61)","v":{"$error":"#N/A"}},"",{"$f":"IF(Indtastning!U73=\"\",\"\",Indtastning!U73)","v":""},{"$f":"IF(Indtastning!V73=\"\",\"\",Indtastning!V73)","v":""},{"$f":"IF(OR(Z61=\"\",Z61=0,Skjulte_Indstillinger!$B$6=FALSE()),#N/A,Y61/Z61)","v":{"$error":"#N/A"}},"",{"$f":"IF(Indtastning!X73=\"\",\"\",Indtastning!X73)","v":""},{"$f":"IF(Indtastning!Y73=\"\",\"\",Indtastning!Y73)","v":""},{"$f":"IF(OR(AD61=\"\",AD61=0,Skjulte_Indstillinger!$B$7=FALSE()),#N/A,AC61/AD61)","v":{"$error":"#N/A"}},"",{"$f":"IF(Indtastning!AA73=\"\",\"\",Indtastning!AA73)","v":""},{"$f":"IF(Indtastning!AB73=\"\",\"\",Indtastning!AB73)","v":""},{"$f":"IF(OR(AH61=\"\",AH61=0,Skjulte_Indstillinger!$B$8=FALSE()),#N/A,AG61/AH61)","v":{"$error":"#N/A"}},"",{"$f":"IF(Indtastning!AD73=\"\",\"\",Indtastning!AD73)","v":""},{"$f":"IF(Indtastning!AE73=\"\",\"\",Indtastning!AE73)","v":""},{"$f":"IF(OR(AL61=\"\",AL61=0,Skjulte_Indstillinger!$B$9=FALSE()),#N/A,AK61/AL61)","v":{"$error":"#N/A"}},"",{"$f":"IF(Indtastning!AG73=\"\",\"\",Indtastning!AG73)","v":""},{"$f":"IF(Indtastning!AH73=\"\",\"\",Indtastning!AH73)","v":""},{"$f":"IF(OR(AP61=\"\",AP61=0,Skjulte_Indstillinger!$B$10=FALSE()),#N/A,AO61/AP61)","v":{"$error":"#N/A"}},"",{"$f":"IF(Indtastning!G73=\"\",#N/A,Indtastning!G73)","v":{"$error":"#N/A"}},{"$error":"#N/A"},{"$f":"LOG(_xlfn.AGGREGATE(3,3,$AS$6:$AS61),10)","v":{"$error":"#NUM!"}},0,0,0,0,0,0,0,"","",{"$error":"#N/A"},{"$error":"#N/A"},{"$error":"#N/A"},{"$error":"#N/A"},0,"","","","",0,0,0,"",{"$error":"#N/A"},{"$error":"#N/A"},{"$f":"IF(AND(H61<>\"\",H62=\"\",OR(Skjulte_Indstillinger!$B$2,Skjulte_Indstillinger!$B$3,Skjulte_Indstillinger!$B$4,Skjulte_Indstillinger!$B$5,Skjulte_Indstillinger!$B$6,Skjulte_Indstillinger!$B$7,Skjulte_Indstillinger!$B$8,Skjulte_Indstillinger!$B$9,Skjulte_Indstillinger!$B$10)),H61,NA())","v":{"$error":"#N/A"}},{"$f":"IF(AND(L61<>\"\",L62=\"\",Skjulte_Indstillinger!$B$2),L61,NA())","v":{"$error":"#N/A"}},{"$f":"IF(AND(P61<>\"\",P62=\"\",Skjulte_Indstillinger!$B$3),P61,NA())","v":{"$error":"#N/A"}},{"$f":"IF(AND(T61<>\"\",T62=\"\",Skjulte_Indstillinger!$B$4),T61,NA())","v":{"$error":"#N/A"}},{"$f":"IF(AND(X61<>\"\",X62=\"\",Skjulte_Indstillinger!$B$5),X61,NA())","v":{"$error":"#N/A"}},{"$f":"IF(AND(AB61<>\"\",AB62=\"\",Skjulte_Indstillinger!$B$6),AB61,NA())","v":{"$error":"#N/A"}},{"$f":"IF(AND(AF61<>\"\",AF62=\"\",Skjulte_Indstillinger!$B$7),AF61,NA())","v":{"$error":"#N/A"}},{"$f":"IF(AND(AJ61<>\"\",AJ62=\"\",Skjulte_Indstillinger!$B$8),AJ61,NA())","v":{"$error":"#N/A"}},{"$f":"IF(AND(AN61<>\"\",AN62=\"\",Skjulte_Indstillinger!$B$9),AN61,NA())","v":{"$error":"#N/A"}},{"$f":"IF(AND(AR61<>\"\",AR62=\"\",Skjulte_Indstillinger!$B$10),AR61,NA())","v":{"$error":"#N/A"}}]
["",{"$f":"IF(Indtastning!B74=\"\",\"\",Indtastning!B74)","v":""},{"$f":"CELL(\"format\",Indtastning!B74)","v":"G"},"",{"$f":"IF(Indtastning!D74=\"\",\"\",Indtastning!D74)","v":""},{"$f":"IF(Indtastning!E74=\"\",\"\",Indtastning!E74)","v":""},{"$error":"#N/A"},"",{"$f":"IF(Indtastning!I74=\"\",\"\",Indtastning!I74)","v":""},{"$f":"IF(Indtastning!J74=\"\",\"\",Indtastning!J74)","v":""},{"$f":"IF(OR(J62=\"\",J62=0,Skjulte_Indstillinger!$B$2=FALSE()),#N/A,I62/J62)","v":{"$error":"#N/A"}},"",{"$f":"IF(Indtastning!L74=\"\",\"\",Indtastning!L74)","v":""},{"$f":"IF(Indtastning!M74=\"\",\"\",Indtastning!M74)","v":""},{"$f":"IF(OR(N62=\"\",N62=0,Skjulte_Indstillinger!$B$3=FALSE()),#N/A,M62/N62)","v":{"$error":"#N/A"}},"",{"$f":"IF(Indtastning!O74=\"\",\"\",Indtastning!O74)","v":""},{"$f":"IF(Indtastning!P74=\"\",\"\",Indtastning!P74)","v":""},{"$f":"IF(OR(R62=\"\",R62=0,Skjulte_Indstillinger!$B$4=FALSE()),#N/A,Q62/R62)","v":{"$error":"#N/A"}},"",{"$f":"IF(Indtastning!R74=\"\",\"\",Indtastning!R74)","v":""},{"$f":"IF(Indtastning!S74=\"\",\"\",Indtastning!S74)","v":""},{"$f":"IF(OR(V62=\"\",V62=0,Skjulte_Indstillinger!$B$5=FALSE()),#N/A,U62/V62)","v":{"$error":"#N/A"}},"",{"$f":"IF(Indtastning!U74=\"\",\"\",Indtastning!U74)","v":""},{"$f":"IF(Indtastning!V74=\"\",\"\",Indtastning!V74)","v":""},{"$f":"IF(OR(Z62=\"\",Z62=0,Skjulte_Indstillinger!$B$6=FALSE()),#N/A,Y62/Z62)","v":{"$error":"#N/A"}},"",{"$f":"IF(Indtastning!X74=\"\",\"\",Indtastning!X74)","v":""},{"$f":"IF(Indtastning!Y74=\"\",\"\",Indtastning!Y74)","v":""},{"$f":"IF(OR(AD62=\"\",AD62=0,Skjulte_Indstillinger!$B$7=FALSE()),#N/A,AC62/AD62)","v":{"$error":"#N/A"}},"",{"$f":"IF(Indtastning!AA74=\"\",\"\",Indtastning!AA74)","v":""},{"$f":"IF(Indtastning!AB74=\"\",\"\",Indtastning!AB74)","v":""},{"$f":"IF(OR(AH62=\"\",AH62=0,Skjulte_Indstillinger!$B$8=FALSE()),#N/A,AG62/AH62)","v":{"$error":"#N/A"}},"",{"$f":"IF(Indtastning!AD74=\"\",\"\",Indtastning!AD74)","v":""},{"$f":"IF(Indtastning!AE74=\"\",\"\",Indtastning!AE74)","v":""},{"$f":"IF(OR(AL62=\"\",AL62=0,Skjulte_Indstillinger!$B$9=FALSE()),#N/A,AK62/AL62)","v":{"$error":"#N/A"}},"",{"$f":"IF(Indtastning!AG74=\"\",\"\",Indtastning!AG74)","v":""},{"$f":"IF(Indtastning!AH74=\"\",\"\",Indtastning!AH74)","v":""},{"$f":"IF(OR(AP62=\"\",AP62=0,Skjulte_Indstillinger!$B$10=FALSE()),#N/A,AO62/AP62)","v":{"$error":"#N/A"}},"",{"$f":"IF(Indtastning!G74=\"\",#N/A,Indtastning!G74)","v":{"$error":"#N/A"}},{"$error":"#N/A"},{"$f":"LOG(_xlfn.AGGREGATE(3,3,$AS$6:$AS62),10)","v":{"$error":"#NUM!"}},0,0,0,0,0,0,0,"","",{"$error":"#N/A"},{"$error":"#N/A"},{"$error":"#N/A"},{"$error":"#N/A"},0,"","","","",0,0,0,"",{"$error":"#N/A"},{"$error":"#N/A"},{"$f":"IF(AND(H62<>\"\",H63=\"\",OR(Skjulte_Indstillinger!$B$2,Skjulte_Indstillinger!$B$3,Skjulte_Indstillinger!$B$4,Skjulte_Indstillinger!$B$5,Skjulte_Indstillinger!$B$6,Skjulte_Indstillinger!$B$7,Skjulte_Indstillinger!$B$8,Skjulte_Indstillinger!$B$9,Skjulte_Indstillinger!$B$10)),H62,NA())","v":{"$error":"#N/A"}},{"$f":"IF(AND(L62<>\"\",L63=\"\",Skjulte_Indstillinger!$B$2),L62,NA())","v":{"$error":"#N/A"}},{"$f":"IF(AND(P62<>\"\",P63=\"\",Skjulte_Indstillinger!$B$3),P62,NA())","v":{"$error":"#N/A"}},{"$f":"IF(AND(T62<>\"\",T63=\"\",Skjulte_Indstillinger!$B$4),T62,NA())","v":{"$error":"#N/A"}},{"$f":"IF(AND(X62<>\"\",X63=\"\",Skjulte_Indstillinger!$B$5),X62,NA())","v":{"$error":"#N/A"}},{"$f":"IF(AND(AB62<>\"\",AB63=\"\",Skjulte_Indstillinger!$B$6),AB62,NA())","v":{"$error":"#N/A"}},{"$f":"IF(AND(AF62<>\"\",AF63=\"\",Skjulte_Indstillinger!$B$7),AF62,NA())","v":{"$error":"#N/A"}},{"$f":"IF(AND(AJ62<>\"\",AJ63=\"\",Skjulte_Indstillinger!$B$8),AJ62,NA())","v":{"$error":"#N/A"}},{"$f":"IF(AND(AN62<>\"\",AN63=\"\",Skjulte_Indstillinger!$B$9),AN62,NA())","v":{"$error":"#N/A"}},{"$f":"IF(AND(AR62<>\"\",AR63=\"\",Skjulte_Indstillinger!$B$10),AR62,NA())","v":{"$error":"#N/A"}}]
["",{"$f":"IF(Indtastning!B75=\"\",\"\",Indtastning!B75)","v":""},{"$f":"CELL(\"format\",Indtastning!B75)","v":"G"},"",{"$f":"IF(Indtastning!D75=\"\",\"\",Indtastning!D75)","v":""},{"$f":"IF(Indtastning!E75=\"\",\"\",Indtastning!E75)","v":""},{"$error":"#N/A"},"",{"$f":"IF(Indtastning!I75=\"\",\"\",Indtastning!I75)","v":""},{"$f":"IF(Indtastning!J75=\"\",\"\",Indtastning!J75)","v":""},{"$f":"IF(OR(J63=\"\",J63=0,Skjulte_Indstillinger!$B$2=FALSE()),#N/A,I63/J63)","v":{"$error":"#N/A"}},"",{"$f":"IF(Indtastning!L75=\"\",\"\",Indtastning!L75)","v":""},{"$f":"IF(Indtastning!M75=\"\",\"\",Indtastning!M75)","v":""},{"$f":"IF(OR(N63=\"\",N63=0,Skjulte_Indstillinger!$B$3=FALSE()),#N/A,M63/N63)","v":{"$error":"#N/A"}},"",{"$f":"IF(Indtastning!O75=\"\",\"\",Indtastning!O75)","v":""},{"$f":"IF(Indtastning!P75=\"\",\"\",Indtastning!P75)","v":""},{"$f":"IF(OR(R63=\"\",R63=0,Skjulte_Indstillinger!$B$4=FALSE()),#N/A,Q63/R63)","v":{"$error":"#N/A"}},"",{"$f":"IF(Indtastning!R75=\"\",\"\",Indtastning!R75)","v":""},{"$f":"IF(Indtastning!S75=\"\",\"\",Indtastning!S75)","v":""},{"$f":"IF(OR(V63=\"\",V63=0,Skjulte_Indstillinger!$B$5=FALSE()),#N/A,U63/V63)","v":{"$error":"#N/A"}},"",{"$f":"IF(Indtastning!U75=\"\",\"\",Indtastning!U75)","v":""},{"$f":"IF(Indtastning!V75=\"\",\"\",Indtastning!V75)","v":""},{"$f":"IF(OR(Z63=\"\",Z63=0,Skjulte_Indstillinger!$B$6=FALSE()),#N/A,Y63/Z63)","v":{"$error":"#N/A"}},"",{"$f":"IF(Indtastning!X75=\"\",\"\",Indtastning!X75)","v":""},{"$f":"IF(Indtastning!Y75=\"\",\"\",Indtastning!Y75)","v":""},{"$f":"IF(OR(AD63=\"\",AD63=0,Skjulte_Indstillinger!$B$7=FALSE()),#N/A,AC63/AD63)","v":{"$error":"#N/A"}},"",{"$f":"IF(Indtastning!AA75=\"\",\"\",Indtastning!AA75)","v":""},{"$f":"IF(Indtastning!AB75=\"\",\"\",Indtastning!AB75)","v":""},{"$f":"IF(OR(AH63=\"\",AH63=0,Skjulte_Indstillinger!$B$8=FALSE()),#N/A,AG63/AH63)","v":{"$error":"#N/A"}},"",{"$f":"IF(Indtastning!AD75=\"\",\"\",Indtastning!AD75)","v":""},{"$f":"IF(Indtastning!AE75=\"\",\"\",Indtastning!AE75)","v":""},{"$f":"IF(OR(AL63=\"\",AL63=0,Skjulte_Indstillinger!$B$9=FALSE()),#N/A,AK63/AL63)","v":{"$error":"#N/A"}},"",{"$f":"IF(Indtastning!AG75=\"\",\"\",Indtastning!AG75)","v":""},{"$f":"IF(Indtastning!AH75=\"\",\"\",Indtastning!AH75)","v":""},{"$f":"IF(OR(AP63=\"\",AP63=0,Skjulte_Indstillinger!$B$10=FALSE()),#N/A,AO63/AP63)","v":{"$error":"#N/A"}},"",{"$f":"IF(Indtastning!G75=\"\",#N/A,Indtastning!G75)","v":{"$error":"#N/A"}},{"$error":"#N/A"},{"$f":"LOG(_xlfn.AGGREGATE(3,3,$AS$6:$AS63),10)","v":{"$error":"#NUM!"}},0,0,0,0,0,0,0,"","",{"$error":"#N/A"},{"$error":"#N/A"},{"$error":"#N/A"},{"$error":"#N/A"},0,"","","","",0,0,0,"",{"$error":"#N/A"},{"$error":"#N/A"},{"$f":"IF(AND(H63<>\"\",H64=\"\",OR(Skjulte_Indstillinger!$B$2,Skjulte_Indstillinger!$B$3,Skjulte_Indstillinger!$B$4,Skjulte_Indstillinger!$B$5,Skjulte_Indstillinger!$B$6,Skjulte_Indstillinger!$B$7,Skjulte_Indstillinger!$B$8,Skjulte_Indstillinger!$B$9,Skjulte_Indstillinger!$B$10)),H63,NA())","v":{"$error":"#N/A"}},{"$f":"IF(AND(L63<>\"\",L64=\"\",Skjulte_Indstillinger!$B$2),L63,NA())","v":{"$error":"#N/A"}},{"$f":"IF(AND(P63<>\"\",P64=\"\",Skjulte_Indstillinger!$B$3),P63,NA())","v":{"$error":"#N/A"}},{"$f":"IF(AND(T63<>\"\",T64=\"\",Skjulte_Indstillinger!$B$4),T63,NA())","v":{"$error":"#N/A"}},{"$f":"IF(AND(X63<>\"\",X64=\"\",Skjulte_Indstillinger!$B$5),X63,NA())","v":{"$error":"#N/A"}},{"$f":"IF(AND(AB63<>\"\",AB64=\"\",Skjulte_Indstillinger!$B$6),AB63,NA())","v":{"$error":"#N/A"}},{"$f":"IF(AND(AF63<>\"\",AF64=\"\",Skjulte_Indstillinger!$B$7),AF63,NA())","v":{"$error":"#N/A"}},{"$f":"IF(AND(AJ63<>\"\",AJ64=\"\",Skjulte_Indstillinger!$B$8),AJ63,NA())","v":{"$error":"#N/A"}},{"$f":"IF(AND(AN63<>\"\",AN64=\"\",Skjulte_Indstillinger!$B$9),AN63,NA())","v":{"$error":"#N/A"}},{"$f":"IF(AND(AR63<>\"\",AR64=\"\",Skjulte_Indstillinger!$B$10),AR63,NA())","v":{"$error":"#N/A"}}]
["",{"$f":"IF(Indtastning!B76=\"\",\"\",Indtastning!B76)","v":""},{"$f":"CELL(\"format\",Indtastning!B76)","v":"G"},"",{"$f":"IF(Indtastning!D76=\"\",\"\",Indtastning!D76)","v":""},{"$f":"IF(Indtastning!E76=\"\",\"\",Indtastning!E76)","v":""},{"$error":"#N/A"},"",{"$f":"IF(Indtastning!I76=\"\",\"\",Indtastning!I76)","v":""},{"$f":"IF(Indtastning!J76=\"\",\"\",Indtastning!J76)","v":""},{"$f":"IF(OR(J64=\"\",J64=0,Skjulte_Indstillinger!$B$2=FALSE()),#N/A,I64/J64)","v":{"$error":"#N/A"}},"",{"$f":"IF(Indtastning!L76=\"\",\"\",Indtastning!L76)","v":""},{"$f":"IF(Indtastning!M76=\"\",\"\",Indtastning!M76)","v":""},{"$f":"IF(OR(N64=\"\",N64=0,Skjulte_Indstillinger!$B$3=FALSE()),#N/A,M64/N64)","v":{"$error":"#N/A"}},"",{"$f":"IF(Indtastning!O76=\"\",\"\",Indtastning!O76)","v":""},{"$f":"IF(Indtastning!P76=\"\",\"\",Indtastning!P76)","v":""},{"$f":"IF(OR(R64=\"\",R64=0,Skjulte_Indstillinger!$B$4=FALSE()),#N/A,Q64/R64)","v":{"$error":"#N/A"}},"",{"$f":"IF(Indtastning!R76=\"\",\"\",Indtastning!R76)","v":""},{"$f":"IF(Indtastning!S76=\"\",\"\",Indtastning!S76)","v":""},{"$f":"IF(OR(V64=\"\",V64=0,Skjulte_Indstillinger!$B$5=FALSE()),#N/A,U64/V64)","v":{"$error":"#N/A"}},"",{"$f":"IF(Indtastning!U76=\"\",\"\",Indtastning!U76)","v":""},{"$f":"IF(Indtastning!V76=\"\",\"\",Indtastning!V76)","v":""},{"$f":"IF(OR(Z64=\"\",Z64=0,Skjulte_Indstillinger!$B$6=FALSE()),#N/A,Y64/Z64)","v":{"$error":"#N/A"}},"",{"$f":"IF(Indtastning!X76=\"\",\"\",Indtastning!X76)","v":""},{"$f":"IF(Indtastning!Y76=\"\",\"\",Indtastning!Y76)","v":""},{"$f":"IF(OR(AD64=\"\",AD64=0,Skjulte_Indstillinger!$B$7=FALSE()),#N/A,AC64/AD64)","v":{"$error":"#N/A"}},"",{"$f":"IF(Indtastning!AA76=\"\",\"\",Indtastning!AA76)","v":""},{"$f":"IF(Indtastning!AB76=\"\",\"\",Indtastning!AB76)","v":""},{"$f":"IF(OR(AH64=\"\",AH64=0,Skjulte_Indstillinger!$B$8=FALSE()),#N/A,AG64/AH64)","v":{"$error":"#N/A"}},"",{"$f":"IF(Indtastning!AD76=\"\",\"\",Indtastning!AD76)","v":""},{"$f":"IF(Indtastning!AE76=\"\",\"\",Indtastning!AE76)","v":""},{"$f":"IF(OR(AL64=\"\",AL64=0,Skjulte_Indstillinger!$B$9=FALSE()),#N/A,AK64/AL64)","v":{"$error":"#N/A"}},"",{"$f":"IF(Indtastning!AG76=\"\",\"\",Indtastning!AG76)","v":""},{"$f":"IF(Indtastning!AH76=\"\",\"\",Indtastning!AH76)","v":""},{"$f":"IF(OR(AP64=\"\",AP64=0,Skjulte_Indstillinger!$B$10=FALSE()),#N/A,AO64/AP64)","v":{"$error":"#N/A"}},"",{"$f":"IF(Indtastning!G76=\"\",#N/A,Indtastning!G76)","v":{"$error":"#N/A"}},{"$error":"#N/A"},{"$f":"LOG(_xlfn.AGGREGATE(3,3,$AS$6:$AS64),10)","v":{"$error":"#NUM!"}},0,0,0,0,0,0,0,"","",{"$error":"#N/A"},{"$error":"#N/A"},{"$error":"#N/A"},{"$error":"#N/A"},0,"","","","",0,0,0,"",{"$error":"#N/A"},{"$error":"#N/A"},{"$f":"IF(AND(H64<>\"\",H65=\"\",OR(Skjulte_Indstillinger!$B$2,Skjulte_Indstillinger!$B$3,Skjulte_Indstillinger!$B$4,Skjulte_Indstillinger!$B$5,Skjulte_Indstillinger!$B$6,Skjulte_Indstillinger!$B$7,Skjulte_Indstillinger!$B$8,Skjulte_Indstillinger!$B$9,Skjulte_Indstillinger!$B$10)),H64,NA())","v":{"$error":"#N/A"}},{"$f":"IF(AND(L64<>\"\",L65=\"\",Skjulte_Indstillinger!$B$2),L64,NA())","v":{"$error":"#N/A"}},{"$f":"IF(AND(P64<>\"\",P65=\"\",Skjulte_Indstillinger!$B$3),P64,NA())","v":{"$error":"#N/A"}},{"$f":"IF(AND(T64<>\"\",T65=\"\",Skjulte_Indstillinger!$B$4),T64,NA())","v":{"$error":"#N/A"}},{"$f":"IF(AND(X64<>\"\",X65=\"\",Skjulte_Indstillinger!$B$5),X64,NA())","v":{"$error":"#N/A"}},{"$f":"IF(AND(AB64<>\"\",AB65=\"\",Skjulte_Indstillinger!$B$6),AB64,NA())","v":{"$error":"#N/A"}},{"$f":"IF(AND(AF64<>\"\",AF65=\"\",Skjulte_Indstillinger!$B$7),AF64,NA())","v":{"$error":"#N/A"}},{"$f":"IF(AND(AJ64<>\"\",AJ65=\"\",Skjulte_Indstillinger!$B$8),AJ64,NA())","v":{"$error":"#N/A"}},{"$f":"IF(AND(AN64<>\"\",AN65=\"\",Skjulte_Indstillinger!$B$9),AN64,NA())","v":{"$error":"#N/A"}},{"$f":"IF(AND(AR64<>\"\",AR65=\"\",Skjulte_Indstillinger!$B$10),AR64,NA())","v":{"$error":"#N/A"}}]
["",{"$f":"IF(Indtastning!B77=\"\",\"\",Indtastning!B77)","v":""},{"$f":"CELL(\"format\",Indtastning!B77)","v":"G"},"",{"$f":"IF(Indtastning!D77=\"\",\"\",Indtastning!D77)","v":""},{"$f":"IF(Indtastning!E77=\"\",\"\",Indtastning!E77)","v":""},{"$error":"#N/A"},"",{"$f":"IF(Indtastning!I77=\"\",\"\",Indtastning!I77)","v":""},{"$f":"IF(Indtastning!J77=\"\",\"\",Indtastning!J77)","v":""},{"$f":"IF(OR(J65=\"\",J65=0,Skjulte_Indstillinger!$B$2=FALSE()),#N/A,I65/J65)","v":{"$error":"#N/A"}},"",{"$f":"IF(Indtastning!L77=\"\",\"\",Indtastning!L77)","v":""},{"$f":"IF(Indtastning!M77=\"\",\"\",Indtastning!M77)","v":""},{"$f":"IF(OR(N65=\"\",N65=0,Skjulte_Indstillinger!$B$3=FALSE()),#N/A,M65/N65)","v":{"$error":"#N/A"}},"",{"$f":"IF(Indtastning!O77=\"\",\"\",Indtastning!O77)","v":""},{"$f":"IF(Indtastning!P77=\"\",\"\",Indtastning!P77)","v":""},{"$f":"IF(OR(R65=\"\",R65=0,Skjulte_Indstillinger!$B$4=FALSE()),#N/A,Q65/R65)","v":{"$error":"#N/A"}},"",{"$f":"IF(Indtastning!R77=\"\",\"\",Indtastning!R77)","v":""},{"$f":"IF(Indtastning!S77=\"\",\"\",Indtastning!S77)","v":""},{"$f":"IF(OR(V65=\"\",V65=0,Skjulte_Indstillinger!$B$5=FALSE()),#N/A,U65/V65)","v":{"$error":"#N/A"}},"",{"$f":"IF(Indtastning!U77=\"\",\"\",Indtastning!U77)","v":""},{"$f":"IF(Indtastning!V77=\"\",\"\",Indtastning!V77)","v":""},{"$f":"IF(OR(Z65=\"\",Z65=0,Skjulte_Indstillinger!$B$6=FALSE()),#N/A,Y65/Z65)","v":{"$error":"#N/A"}},"",{"$f":"IF(Indtastning!X77=\"\",\"\",Indtastning!X77)","v":""},{"$f":"IF(Indtastning!Y77=\"\",\"\",Indtastning!Y77)","v":""},{"$f":"IF(OR(AD65=\"\",AD65=0,Skjulte_Indstillinger!$B$7=FALSE()),#N/A,AC65/AD65)","v":{"$error":"#N/A"}},"",{"$f":"IF(Indtastning!AA77=\"\",\"\",Indtastning!AA77)","v":""},{"$f":"IF(Indtastning!AB77=\"\",\"\",Indtastning!AB77)","v":""},{"$f":"IF(OR(AH65=\"\",AH65=0,Skjulte_Indstillinger!$B$8=FALSE()),#N/A,AG65/AH65)","v":{"$error":"#N/A"}},"",{"$f":"IF(Indtastning!AD77=\"\",\"\",Indtastning!AD77)","v":""},{"$f":"IF(Indtastning!AE77=\"\",\"\",Indtastning!AE77)","v":""},{"$f":"IF(OR(AL65=\"\",AL65=0,Skjulte_Indstillinger!$B$9=FALSE()),#N/A,AK65/AL65)","v":{"$error":"#N/A"}},"",{"$f":"IF(Indtastning!AG77=\"\",\"\",Indtastning!AG77)","v":""},{"$f":"IF(Indtastning!AH77=\"\",\"\",Indtastning!AH77)","v":""},{"$f":"IF(OR(AP65=\"\",AP65=0,Skjulte_Indstillinger!$B$10=FALSE()),#N/A,AO65/AP65)","v":{"$error":"#N/A"}},"",{"$f":"IF(Indtastning!G77=\"\",#N/A,Indtastning!G77)","v":{"$error":"#N/A"}},{"$error":"#N/A"},{"$f":"LOG(_xlfn.AGGREGATE(3,3,$AS$6:$AS65),10)","v":{"$error":"#NUM!"}},0,0,0,0,0,0,0,"","",{"$error":"#N/A"},{"$error":"#N/A"},{"$error":"#N/A"},{"$error":"#N/A"},0,"","","","",0,0,0,"",{"$error":"#N/A"},{"$error":"#N/A"},{"$f":"IF(AND(H65<>\"\",H66=\"\",OR(Skjulte_Indstillinger!$B$2,Skjulte_Indstillinger!$B$3,Skjulte_Indstillinger!$B$4,Skjulte_Indstillinger!$B$5,Skjulte_Indstillinger!$B$6,Skjulte_Indstillinger!$B$7,Skjulte_Indstillinger!$B$8,Skjulte_Indstillinger!$B$9,Skjulte_Indstillinger!$B$10)),H65,NA())","v":{"$error":"#N/A"}},{"$f":"IF(AND(L65<>\"\",L66=\"\",Skjulte_Indstillinger!$B$2),L65,NA())","v":{"$error":"#N/A"}},{"$f":"IF(AND(P65<>\"\",P66=\"\",Skjulte_Indstillinger!$B$3),P65,NA())","v":{"$error":"#N/A"}},{"$f":"IF(AND(T65<>\"\",T66=\"\",Skjulte_Indstillinger!$B$4),T65,NA())","v":{"$error":"#N/A"}},{"$f":"IF(AND(X65<>\"\",X66=\"\",Skjulte_Indstillinger!$B$5),X65,NA())","v":{"$error":"#N/A"}},{"$f":"IF(AND(AB65<>\"\",AB66=\"\",Skjulte_Indstillinger!$B$6),AB65,NA())","v":{"$error":"#N/A"}},{"$f":"IF(AND(AF65<>\"\",AF66=\"\",Skjulte_Indstillinger!$B$7),AF65,NA())","v":{"$error":"#N/A"}},{"$f":"IF(AND(AJ65<>\"\",AJ66=\"\",Skjulte_Indstillinger!$B$8),AJ65,NA())","v":{"$error":"#N/A"}},{"$f":"IF(AND(AN65<>\"\",AN66=\"\",Skjulte_Indstillinger!$B$9),AN65,NA())","v":{"$error":"#N/A"}},{"$f":"IF(AND(AR65<>\"\",AR66=\"\",Skjulte_Indstillinger!$B$10),AR65,NA())","v":{"$error":"#N/A"}}]
["",{"$f":"IF(Indtastning!B78=\"\",\"\",Indtastning!B78)","v":""},{"$f":"CELL(\"format\",Indtastning!B78)","v":"G"},"",{"$f":"IF(Indtastning!D78=\"\",\"\",Indtastning!D78)","v":""},{"$f":"IF(Indtastning!E78=\"\",\"\",Indtastning!E78)","v":""},{"$error":"#N/A"},"",{"$f":"IF(Indtastning!I78=\"\",\"\",Indtastning!I78)","v":""},{"$f":"IF(Indtastning!J78=\"\",\"\",Indtastning!J78)","v":""},{"$f":"IF(OR(J66=\"\",J66=0,Skjulte_Indstillinger!$B$2=FALSE()),#N/A,I66/J66)","v":{"$error":"#N/A"}},"",{"$f":"IF(Indtastning!L78=\"\",\"\",Indtastning!L78)","v":""},{"$f":"IF(Indtastning!M78=\"\",\"\",Indtastning!M78)","v":""},{"$f":"IF(OR(N66=\"\",N66=0,Skjulte_Indstillinger!$B$3=FALSE()),#N/A,M66/N66)","v":{"$error":"#N/A"}},"",{"$f":"IF(Indtastning!O78=\"\",\"\",Indtastning!O78)","v":""},{"$f":"IF(Indtastning!P78=\"\",\"\",Indtastning!P78)","v":""},{"$f":"IF(OR(R66=\"\",R66=0,Skjulte_Indstillinger!$B$4=FALSE()),#N/A,Q66/R66)","v":{"$error":"#N/A"}},"",{"$f":"IF(Indtastning!R78=\"\",\"\",Indtastning!R78)","v":""},{"$f":"IF(Indtastning!S78=\"\",\"\",Indtastning!S78)","v":""},{"$f":"IF(OR(V66=\"\",V66=0,Skjulte_Indstillinger!$B$5=FALSE()),#N/A,U66/V66)","v":{"$error":"#N/A"}},"",{"$f":"IF(Indtastning!U78=\"\",\"\",Indtastning!U78)","v":""},{"$f":"IF(Indtastning!V78=\"\",\"\",Indtastning!V78)","v":""},{"$f":"IF(OR(Z66=\"\",Z66=0,Skjulte_Indstillinger!$B$6=FALSE()),#N/A,Y66/Z66)","v":{"$error":"#N/A"}},"",{"$f":"IF(Indtastning!X78=\"\",\"\",Indtastning!X78)","v":""},{"$f":"IF(Indtastning!Y78=\"\",\"\",Indtastning!Y78)","v":""},{"$f":"IF(OR(AD66=\"\",AD66=0,Skjulte_Indstillinger!$B$7=FALSE()),#N/A,AC66/AD66)","v":{"$error":"#N/A"}},"",{"$f":"IF(Indtastning!AA78=\"\",\"\",Indtastning!AA78)","v":""},{"$f":"IF(Indtastning!AB78=\"\",\"\",Indtastning!AB78)","v":""},{"$f":"IF(OR(AH66=\"\",AH66=0,Skjulte_Indstillinger!$B$8=FALSE()),#N/A,AG66/AH66)","v":{"$error":"#N/A"}},"",{"$f":"IF(Indtastning!AD78=\"\",\"\",Indtastning!AD78)","v":""},{"$f":"IF(Indtastning!AE78=\"\",\"\",Indtastning!AE78)","v":""},{"$f":"IF(OR(AL66=\"\",AL66=0,Skjulte_Indstillinger!$B$9=FALSE()),#N/A,AK66/AL66)","v":{"$error":"#N/A"}},"",{"$f":"IF(Indtastning!AG78=\"\",\"\",Indtastning!AG78)","v":""},{"$f":"IF(Indtastning!AH78=\"\",\"\",Indtastning!AH78)","v":""},{"$f":"IF(OR(AP66=\"\",AP66=0,Skjulte_Indstillinger!$B$10=FALSE()),#N/A,AO66/AP66)","v":{"$error":"#N/A"}},"",{"$f":"IF(Indtastning!G78=\"\",#N/A,Indtastning!G78)","v":{"$error":"#N/A"}},{"$error":"#N/A"},{"$f":"LOG(_xlfn.AGGREGATE(3,3,$AS$6:$AS66),10)","v":{"$error":"#NUM!"}},0,0,0,0,0,0,0,"","",{"$error":"#N/A"},{"$error":"#N/A"},{"$error":"#N/A"},{"$error":"#N/A"},0,"","","","",0,0,0,"",{"$error":"#N/A"},{"$error":"#N/A"},{"$f":"IF(AND(H66<>\"\",H67=\"\",OR(Skjulte_Indstillinger!$B$2,Skjulte_Indstillinger!$B$3,Skjulte_Indstillinger!$B$4,Skjulte_Indstillinger!$B$5,Skjulte_Indstillinger!$B$6,Skjulte_Indstillinger!$B$7,Skjulte_Indstillinger!$B$8,Skjulte_Indstillinger!$B$9,Skjulte_Indstillinger!$B$10)),H66,NA())","v":{"$error":"#N/A"}},{"$f":"IF(AND(L66<>\"\",L67=\"\",Skjulte_Indstillinger!$B$2),L66,NA())","v":{"$error":"#N/A"}},{"$f":"IF(AND(P66<>\"\",P67=\"\",Skjulte_Indstillinger!$B$3),P66,NA())","v":{"$error":"#N/A"}},{"$f":"IF(AND(T66<>\"\",T67=\"\",Skjulte_Indstillinger!$B$4),T66,NA())","v":{"$error":"#N/A"}},{"$f":"IF(AND(X66<>\"\",X67=\"\",Skjulte_Indstillinger!$B$5),X66,NA())","v":{"$error":"#N/A"}},{"$f":"IF(AND(AB66<>\"\",AB67=\"\",Skjulte_Indstillinger!$B$6),AB66,NA())","v":{"$error":"#N/A"}},{"$f":"IF(AND(AF66<>\"\",AF67=\"\",Skjulte_Indstillinger!$B$7),AF66,NA())","v":{"$error":"#N/A"}},{"$f":"IF(AND(AJ66<>\"\",AJ67=\"\",Skjulte_Indstillinger!$B$8),AJ66,NA())","v":{"$error":"#N/A"}},{"$f":"IF(AND(AN66<>\"\",AN67=\"\",Skjulte_Indstillinger!$B$9),AN66,NA())","v":{"$error":"#N/A"}},{"$f":"IF(AND(AR66<>\"\",AR67=\"\",Skjulte_Indstillinger!$B$10),AR66,NA())","v":{"$error":"#N/A"}}]
["",{"$f":"IF(Indtastning!B79=\"\",\"\",Indtastning!B79)","v":""},{"$f":"CELL(\"format\",Indtastning!B79)","v":"G"},"",{"$f":"IF(Indtastning!D79=\"\",\"\",Indtastning!D79)","v":""},{"$f":"IF(Indtastning!E79=\"\",\"\",Indtastning!E79)","v":""},{"$error":"#N/A"},"",{"$f":"IF(Indtastning!I79=\"\",\"\",Indtastning!I79)","v":""},{"$f":"IF(Indtastning!J79=\"\",\"\",Indtastning!J79)","v":""},{"$f":"IF(OR(J67=\"\",J67=0,Skjulte_Indstillinger!$B$2=FALSE()),#N/A,I67/J67)","v":{"$error":"#N/A"}},"",{"$f":"IF(Indtastning!L79=\"\",\"\",Indtastning!L79)","v":""},{"$f":"IF(Indtastning!M79=\"\",\"\",Indtastning!M79)","v":""},{"$f":"IF(OR(N67=\"\",N67=0,Skjulte_Indstillinger!$B$3=FALSE()),#N/A,M67/N67)","v":{"$error":"#N/A"}},"",{"$f":"IF(Indtastning!O79=\"\",\"\",Indtastning!O79)","v":""},{"$f":"IF(Indtastning!P79=\"\",\"\",Indtastning!P79)","v":""},{"$f":"IF(OR(R67=\"\",R67=0,Skjulte_Indstillinger!$B$4=FALSE()),#N/A,Q67/R67)","v":{"$error":"#N/A"}},"",{"$f":"IF(Indtastning!R79=\"\",\"\",Indtastning!R79)","v":""},{"$f":"IF(Indtastning!S79=\"\",\"\",Indtastning!S79)","v":""},{"$f":"IF(OR(V67=\"\",V67=0,Skjulte_Indstillinger!$B$5=FALSE()),#N/A,U67/V67)","v":{"$error":"#N/A"}},"",{"$f":"IF(Indtastning!U79=\"\",\"\",Indtastning!U79)","v":""},{"$f":"IF(Indtastning!V79=\"\",\"\",Indtastning!V79)","v":""},{"$f":"IF(OR(Z67=\"\",Z67=0,Skjulte_Indstillinger!$B$6=FALSE()),#N/A,Y67/Z67)","v":{"$error":"#N/A"}},"",{"$f":"IF(Indtastning!X79=\"\",\"\",Indtastning!X79)","v":""},{"$f":"IF(Indtastning!Y79=\"\",\"\",Indtastning!Y79)","v":""},{"$f":"IF(OR(AD67=\"\",AD67=0,Skjulte_Indstillinger!$B$7=FALSE()),#N/A,AC67/AD67)","v":{"$error":"#N/A"}},"",{"$f":"IF(Indtastning!AA79=\"\",\"\",Indtastning!AA79)","v":""},{"$f":"IF(Indtastning!AB79=\"\",\"\",Indtastning!AB79)","v":""},{"$f":"IF(OR(AH67=\"\",AH67=0,Skjulte_Indstillinger!$B$8=FALSE()),#N/A,AG67/AH67)","v":{"$error":"#N/A"}},"",{"$f":"IF(Indtastning!AD79=\"\",\"\",Indtastning!AD79)","v":""},{"$f":"IF(Indtastning!AE79=\"\",\"\",Indtastning!AE79)","v":""},{"$f":"IF(OR(AL67=\"\",AL67=0,Skjulte_Indstillinger!$B$9=FALSE()),#N/A,AK67/AL67)","v":{"$error":"#N/A"}},"",{"$f":"IF(Indtastning!AG79=\"\",\"\",Indtastning!AG79)","v":""},{"$f":"IF(Indtastning!AH79=\"\",\"\",Indtastning!AH79)","v":""},{"$f":"IF(OR(AP67=\"\",AP67=0,Skjulte_Indstillinger!$B$10=FALSE()),#N/A,AO67/AP67)","v":{"$error":"#N/A"}},"",{"$f":"IF(Indtastning!G79=\"\",#N/A,Indtastning!G79)","v":{"$error":"#N/A"}},{"$f":"IF(AS67=\"\",#N/A,IF(MATCH(MAX(AZ67:BA67),AZ67:BA67)=2,\n(AV67+(BA67/2))*IF(ISEVEN(AU67),(1-(2/10)),(1+(2/10))),\n(AW67-(AZ67/2))*IF(ISEVEN(AU67),(1-(2/10)),(1+(2/10)))\n))","v":{"$error":"#N/A"}},{"$f":"LOG(_xlfn.AGGREGATE(3,3,$AS$6:$AS67),10)","v":{"$error":"#NUM!"}},0,0,0,0,0,0,0,"","",{"$error":"#N/A"},{"$error":"#N/A"},{"$error":"#N/A"},{"$error":"#N/A"},0,"","","","",0,0,0,"",{"$error":"#N/A"},{"$error":"#N/A"},{"$f":"IF(AND(H67<>\"\",H68=\"\",OR(Skjulte_Indstillinger!$B$2,Skjulte_Indstillinger!$B$3,Skjulte_Indstillinger!$B$4,Skjulte_Indstillinger!$B$5,Skjulte_Indstillinger!$B$6,Skjulte_Indstillinger!$B$7,Skjulte_Indstillinger!$B$8,Skjulte_Indstillinger!$B$9,Skjulte_Indstillinger!$B$10)),H67,NA())","v":{"$error":"#N/A"}},{"$f":"IF(AND(L67<>\"\",L68=\"\",Skjulte_Indstillinger!$B$2),L67,NA())","v":{"$error":"#N/A"}},{"$f":"IF(AND(P67<>\"\",P68=\"\",Skjulte_Indstillinger!$B$3),P67,NA())","v":{"$error":"#N/A"}},{"$f":"IF(AND(T67<>\"\",T68=\"\",Skjulte_Indstillinger!$B$4),T67,NA())","v":{"$error":"#N/A"}},{"$f":"IF(AND(X67<>\"\",X68=\"\",Skjulte_Indstillinger!$B$5),X67,NA())","v":{"$error":"#N/A"}},{"$f":"IF(AND(AB67<>\"\",AB68=\"\",Skjulte_Indstillinger!$B$6),AB67,NA())","v":{"$error":"#N/A"}},{"$f":"IF(AND(AF67<>\"\",AF68=\"\",Skjulte_Indstillinger!$B$7),AF67,NA())","v":{"$error":"#N/A"}},{"$f":"IF(AND(AJ67<>\"\",AJ68=\"\",Skjulte_Indstillinger!$B$8),AJ67,NA())","v":{"$error":"#N/A"}},{"$f":"IF(AND(AN67<>\"\",AN68=\"\",Skjulte_Indstillinger!$B$9),AN67,NA())","v":{"$error":"#N/A"}},{"$f":"IF(AND(AR67<>\"\",AR68=\"\",Skjulte_Indstillinger!$B$10),AR67,NA())","v":{"$error":"#N/A"}}]
[]
[null,"Opslagsliste"]
[null,"Tekst","Værdi"]
[null,"Procent (0 decimaler)",5]
[null,"Procent (1 decimal)",6]
[null,"Procent (2 decimaler)",7]
[null,"Tal (0 decimaler)",0]
[null,"Tal (1 decimal)",1]
[null,"Tal (2 decimaler)",2]
[]
[null,"Opslagsliste 2",null,null,"Opslagsliste 3"]
[null,"Tekst","Værdi",null,"Tekst","Værdi"]
[null,"Tekst",0,null,"Ja",1]
[null,"Dato (mmm-åååå)",1,null,"Nej",0]
[]
[]
[null,null,"Diagram1"]
[null,"Indstillinger for X-akse"]
[null,"Output - Format",{"$f":"IF(Indtastning!J6=\"\",\"Tekst\",Indtastning!J6)","v":"Tekst"}]
[null,"Output - Værdi",{"$f":"INDEX($B$80:$C$81,MATCH(C86,$B$80:$B$81,0),2)","v":0}]
[null,"Indstillinger for Y-akse"]
[null,"Titel",{"$f":"IF(Indtastning!J8=\"\",\"\",Indtastning!J8)","v":""}]
[null,"Maxværdi",{"$f":"IF(ingenData=TRUE,100,IF(Indtastning!J9=\"\",\"\",Indtastning!J9))","v":100}]
[null,"Maxværdi+5%",{"$f":"IF(C90=\"\",\"\",C90*1.05)","v":105}]
[null,"Minværdi",{"$f":"IF(Indtastning!J10=\"\",\"\",Indtastning!J10)","v":""}]
[null,"Inddeling",{"$f":"IF(OR(C90=\"\",C92=\"\"),\"\",(C90-C92)/10)","v":""}]
[null,"Talformater"]
[null,"Output - Format",{"$f":"IF(Indtastning!J4=\"\",\"Procent\",Indtastning!J4)","v":"Tal (0 decimaler)"}]
[null,"Output - Værdi",{"$f":"INDEX($B$71:$C$76,MATCH(C95,$B$71:$B$76,0),2)","v":0}]
[null,"Input - Format",{"$f":"IF(Indtastning!J3=\"\",\"Procent\",Indtastning!J3)","v":"Tal (0 decimaler)"}]
[null,"Input - Værdi",{"$f":"INDEX($B$71:$C$76,MATCH(C97,$B$71:$B$76,0),2)","v":0}]
[null,"Median"]
[null,"Lås median efter punkt",{"$f":"Indtastning!J12","v":0}]
[null,"Beregning",{"$f":"IF(C100=0,0,C100+1)","v":0}]
[null,"Median1",{"$f":"IF(ISERROR(BE5),\"\",IF(C96=0,TEXT(BE5,\"0,0\"),IF(C96=1,TEXT(BE5,\"0,0\"),IF(C96=2,TEXT(BE5,\"0,00\"),IF(C96=5,TEXT(BE5,\"0,0%\"),IF(C96=6,TEXT(BE5,\"0,0%\"),TEXT(BE5,\"0,00%\")))))))","v":""}]
[null,"Median2",{"$f":"IF(ISERROR(BF4),\"\",IF(C96=0,TEXT(BF4,\"0,0\"),IF(C96=1,TEXT(BF4,\"0,0\"),IF(C96=2,TEXT(BF4,\"0,00\"),IF(C96=5,TEXT(BF4,\"0,0%\"),IF(C96=6,TEXT(BF4,\"0,0%\"),TEXT(BF4,\"0,00%\")))))))","v":""}]
[null,"Mål",{"$f":"IF(Indtastning!J14=\"\",\"---\",IF(C96=0,TEXT(BR5,\"0\"),IF(C96=1,TEXT(BR5,\"0,0\"),IF(C96=2,TEXT(BR5,\"0,00\"),IF(C96=5,TEXT(BR5,\"0%\"),IF(C96=6,TEXT(BR5,\"0,0%\"),TEXT(BR5,\"0,00%\")))))))","v":"---"}]
[null,"Foruddefineret median",{"$f":"IF(Indtastning!J13=\"\",0,1)","v":0}]
[null,"Titler"]
[null,"Afdeling",{"$f":"IF(Indtastning!C6=\"\",\"\",Indtastning!C6)","v":""}]
[null,"Periode",{"$f":"IF(Indtastning!C5=\"\",\"\",Indtastning!C5)","v":""}]
[null,"Definition",{"$f":"IF(Indtastning!C7=\"\",\"\",Indtastning!C7)","v":""}]
[null,"Periode"]
[null,"Start",{"$f":"IF(C87=1,PROPER(TEXT(B6,(\"mmmm åååå\"))),B6)","v":""}]
[null,"Slut",{"$f":"IF(C87=1,PROPER(TEXT(INDEX($B$6:$B$67,(62-COUNTIF($B$6:$B$67,\"\"))),\"mmmm åååå\")),INDEX($B$6:$B$67,(62-COUNTIF($B$6:$B$67,\"\"))))","v":{"$error":"#VALUE!"}}]
[null,"Periode",{"$f":"IF(ISERROR(C112),\"\",C111&\" - \"&C112)","v":""}]
[null,"Antal observationer - Før",{"$f":"COUNTIFS($BB$6:$BB$67,\"=0\",$A$6:$A$67,\">0\")","v":0}]
[null,"Antal observationer - Efter",{"$f":"COUNTIFS($BB$6:$BB$67,\"=1\",$A$6:$A$67,\">0\")","v":0}]
[null,"Test af tilfældig variation"]
[null,"Brugbare observationer - Før",{"$f":"COUNTIFS($BO$6:$BO$67,\"=1\",$BB$6:$BB$67,\"=0\")","v":0}]
[null,"Brugbare observationer - Efter",{"$f":"COUNTIFS($BO$6:$BO$67,\"=1\",$BB$6:$BB$67,\"=1\")","v":0}]
[null,"Min. kryds - Før",{"$f":"IFERROR(CRITBINOM(C117-1, 0.5, 0.05),0)","v":0}]
[null,"Min. kryds - Efter",{"$f":"IFERROR(CRITBINOM(C118-1, 0.5, 0.05),\"\")","v":""}]
[null,"Max. serielængde - Før",{"$f":"IFERROR(ROUND(LOG($C117,2),0)+3,0)","v":0}]
[null,"Max. serielængde - Efter",{"$f":"IFERROR(ROUND(LOG($C118,2),0)+3,\"\")","v":""}]
[null,"Antal kryds - Før",{"$f":"COUNTIFS($BM$6:$BM$67,\"=1\",$BB$6:$BB$67,\"=0\")","v":0}]
[null,"Antal kryds - Efter",{"$f":"COUNTIFS($BM$6:$BM$67,\"=1\",$BB$6:$BB$67,\"=1\")","v":0}]
[null,"Serielængde - Før",{"$f":"MAX(BP6:BP67)","v":0}]
[null,"Serielængde - Efter",{"$f":"MAX(BQ6:BQ67)","v":0}]
[null,"Justerbar X-akse"]
[null,"Antal observationer",{"$f":"_xlfn.AGGREGATE(2,3,$A$6:$A$67)","v":0}]
[null,"Antal ekstra felter",{"$f":"IF(C128>58,62-C128,5)","v":5}]
[null,"Version"]
[null,"Opdater versionnummer","Nej"]
[null,"Dato for sidste opdatering","2016-01-15T10:00:00"]

{"sheet":"Distributionsliste","index":3,"n_rows":7,"n_cols":10,"rows_kept":7,"cut":false,"hidden":true,"merged":[]}
["Distribution af seriediagram"]
[]
["Gennemse emails før afsendelse :",null,"Ja"]
[]
[]
["Send","Sheets","File Name","To","Cc","Bcc","Subject","Attach other files","Body text","Importance"]
["ja",null,null,"johan@reventlow.dk",null,null,"hej",null,"hejsa"]

{"sheet":"Skjulte_Indstillinger","index":4,"n_rows":16,"n_cols":2,"rows_kept":16,"cut":false,"hidden":true,"merged":[]}
[]
["Proces 2",false]
["Proces 3",false]
["Proces 4",false]
["Proces 5",false]
["Proces 6",false]
["Proces 7",false]
["Proces 8",false]
["Proces 9",false]
["Proces 10",false]
[]
["Lås skabelon",true]
["Aktiver 10 processer",false]
["Filnavn",{"$f":"IF(AND(Indtastning!C3<>\"\",Indtastning!C4<>\"\"),Indtastning!C3&\" - \"&Indtastning!C4,IF(OR(Indtastning!C3<>\"\",Indtastning!C4<>\"\"),Indtastning!C3&Indtastning!C4,\"Seriediagram\"))","v":"Seriediagram"}]
["Frys øverste del af indtastningsark",true]
["Vis hjælp ved start",false]

{"sheet":"Licens","index":5,"n_rows":21,"n_cols":3,"rows_kept":21,"cut":false,"hidden":false,"merged":[[3,1,4,1]]}
[]
[null,"DENNE EXCELFIL DELES UNDER EN CREATIVE COMMONS-LICENS"]
[null,"Licensen hedder Attribution-NonCommercial-ShareAlike 4.0 International"]
[null,"og den giver ret til at bruge, dele og tilpasse værktøjet, under forudsætning af: \n- at Bispebjerg og Frederiksberg Hospital krediteres\n- at værktøjet ikke anvendes i kommerciel sammenhæng\n- at tilpassede eller videreudviklede versioner af dette værktøj distribueres under samme licens."]
[]
[null,"Licensen er opsummeret her:"]
[null,"http://creativecommons.org/licenses/by-nc-sa/4.0/"]
[null,"Licensens fulde tekst kan læses her:"]
[null,"http://creativecommons.org/licenses/by-nc-sa/4.0/legalcode"]
[]
[]
[]
[]
[]
[]
[]
[]
[]
[]
[]
[null,"Version:",{"$f":"Beregninger!C132","v":"2016-01-15T10:00:00"}]